BEGIN:VCALENDAR
VERSION:2.0
PRODID:-//Delphos Area Chamber of Commerce - ECPv6.15.20//NONSGML v1.0//EN
CALSCALE:GREGORIAN
METHOD:PUBLISH
X-ORIGINAL-URL:https://delphoschamber.com
X-WR-CALDESC:Events for Delphos Area Chamber of Commerce
REFRESH-INTERVAL;VALUE=DURATION:PT1H
X-Robots-Tag:noindex
X-PUBLISHED-TTL:PT1H
BEGIN:VTIMEZONE
TZID:America/New_York
BEGIN:DAYLIGHT
TZOFFSETFROM:-0500
TZOFFSETTO:-0400
TZNAME:EDT
DTSTART:20240310T070000
END:DAYLIGHT
BEGIN:STANDARD
TZOFFSETFROM:-0400
TZOFFSETTO:-0500
TZNAME:EST
DTSTART:20241103T060000
END:STANDARD
BEGIN:DAYLIGHT
TZOFFSETFROM:-0500
TZOFFSETTO:-0400
TZNAME:EDT
DTSTART:20250309T070000
END:DAYLIGHT
BEGIN:STANDARD
TZOFFSETFROM:-0400
TZOFFSETTO:-0500
TZNAME:EST
DTSTART:20251102T060000
END:STANDARD
BEGIN:DAYLIGHT
TZOFFSETFROM:-0500
TZOFFSETTO:-0400
TZNAME:EDT
DTSTART:20260308T070000
END:DAYLIGHT
BEGIN:STANDARD
TZOFFSETFROM:-0400
TZOFFSETTO:-0500
TZNAME:EST
DTSTART:20261101T060000
END:STANDARD
END:VTIMEZONE
BEGIN:VEVENT
DTSTART;TZID=America/New_York:20251101T070000
DTEND;TZID=America/New_York:20251101T133000
DTSTAMP:20260421T091250
CREATED:20251014T140754Z
LAST-MODIFIED:20251014T140803Z
UID:801741-1761980400-1762003800@delphoschamber.com
SUMMARY:Delphos Kiwanis Pancake & Sausage Day
DESCRIPTION: Save the Date! It’s almost time for the Kiwanis Pancake & Sausage Day! Saturday\, November 1 7:00 AM – 1:30 PMCome enjoy a delicious breakfast and support a great cause in our community! Delphos Jefferson Senior High School   Presale tickets are now available for just $9 — get yours early and don’t miss out on one of the best (and tastiest) days of the year! \n$10 that day.  Children 10 and under are free (dine in only)
URL:https://delphoschamber.com/event/delphos-kiwanis-pancake-sausage-day/
ATTACH;FMTTYPE=image/jpeg:https://delphoschamber.com/wp-content/uploads/2025/10/pancake-day.jpg
END:VEVENT
BEGIN:VEVENT
DTSTART;TZID=America/New_York:20251106T100000
DTEND;TZID=America/New_York:20251106T110000
DTSTAMP:20260421T091250
CREATED:20251014T142113Z
LAST-MODIFIED:20251014T142122Z
UID:801751-1762423200-1762426800@delphoschamber.com
SUMMARY:Milk & Giggles
DESCRIPTION:Milk and Giggles — a cozy\, connection-focused playgroup for parents and their little ones in Delphos Ohio!Whether you’re a new parent navigating feeding journeys\, looking for support\, or just want a warm place to laugh\, vent\, and play — Milk and Giggles is for you. Hosted by a lactation-informed occupational therapist\, this group is all about community\, developmentally supportive play\, and real-life parenting.Come as you are\, bring your baby\, and let’s build something beautiful together — one giggle at a time.This group will replace the Infant support group originally once a month\, to better serve the needs of the community Follow us on Facebook for updates and feel free to tag a friend who’d love this! 
URL:https://delphoschamber.com/event/milk-giggles-18/
ATTACH;FMTTYPE=image/jpeg:https://delphoschamber.com/wp-content/uploads/2025/05/Milk-Giggles.jpg
END:VEVENT
BEGIN:VEVENT
DTSTART;TZID=America/New_York:20251106T180000
DTEND;TZID=America/New_York:20251106T180000
DTSTAMP:20260421T091250
CREATED:20251014T132520Z
LAST-MODIFIED:20251014T132814Z
UID:801713-1762452000-1762452000@delphoschamber.com
SUMMARY:Line Dancing at Doc's Dance Hall
DESCRIPTION:Grab your boots (or sneakers — no judgment here!) and get ready to kick up some dust on the dance floor. Doors open at 6:00\, dancing starts at 6:30.Bring a friend and let’s make it a night to remember!
URL:https://delphoschamber.com/event/line-dancing-at-docs-dance-hall-12/
ATTACH;FMTTYPE=image/jpeg:https://delphoschamber.com/wp-content/uploads/2025/08/line-dancing.jpg
END:VEVENT
BEGIN:VEVENT
DTSTART;TZID=America/New_York:20251108T150000
DTEND;TZID=America/New_York:20251108T220000
DTSTAMP:20260421T091250
CREATED:20251104T174535Z
LAST-MODIFIED:20251104T174535Z
UID:801785-1762614000-1762639200@delphoschamber.com
SUMMARY:Do Right MC Chili Cookoff
DESCRIPTION:
URL:https://delphoschamber.com/event/do-right-mc-chili-cookoff/
ATTACH;FMTTYPE=image/jpeg:https://delphoschamber.com/wp-content/uploads/2025/11/Chili.jpg
END:VEVENT
BEGIN:VEVENT
DTSTART;TZID=America/New_York:20251111T180000
DTEND;TZID=America/New_York:20251111T200000
DTSTAMP:20260421T091250
CREATED:20251014T125717Z
LAST-MODIFIED:20251014T125717Z
UID:801681-1762884000-1762891200@delphoschamber.com
SUMMARY:Fire Association Steak Feed
DESCRIPTION:The Delphos Fire Association will be having their monthly steak feed on the 2nd Tuesday of the month from 6 p.m. to 8 p.m. or until sold out at \nThe Fireman’s Club House\, 911 Lima Avenue.\n\n\nMeals will include steak\, corn\, baked potato and bread.\n\n\n\n\n\nCost for dine -in is $15.00.\n\n\n\n\n\nCarry-out will be available – $13.00\, must come in the East doors – there will be no drive thru available.\n\n\n\n\n\nOur steak feeds are always the second Tuesday of the month September thru May. We hope to see you there. \nThank You for supporting the Delphos Fire Association.
URL:https://delphoschamber.com/event/fire-association-steak-feed-2/
ATTACH;FMTTYPE=image/jpeg:https://delphoschamber.com/wp-content/uploads/2019/10/steak.jpg
END:VEVENT
BEGIN:VEVENT
DTSTART;TZID=America/New_York:20251113T100000
DTEND;TZID=America/New_York:20251113T110000
DTSTAMP:20260421T091250
CREATED:20251014T142225Z
LAST-MODIFIED:20251014T142238Z
UID:801753-1763028000-1763031600@delphoschamber.com
SUMMARY:Milk & Giggles
DESCRIPTION:Milk and Giggles — a cozy\, connection-focused playgroup for parents and their little ones in Delphos Ohio!Whether you’re a new parent navigating feeding journeys\, looking for support\, or just want a warm place to laugh\, vent\, and play — Milk and Giggles is for you. Hosted by a lactation-informed occupational therapist\, this group is all about community\, developmentally supportive play\, and real-life parenting.Come as you are\, bring your baby\, and let’s build something beautiful together — one giggle at a time.This group will replace the Infant support group originally once a month\, to better serve the needs of the community Follow us on Facebook for updates and feel free to tag a friend who’d love this! 
URL:https://delphoschamber.com/event/milk-giggles-19/
ATTACH;FMTTYPE=image/jpeg:https://delphoschamber.com/wp-content/uploads/2025/05/Milk-Giggles.jpg
END:VEVENT
BEGIN:VEVENT
DTSTART;TZID=America/New_York:20251113T160000
DTEND;TZID=America/New_York:20251113T170000
DTSTAMP:20260421T091250
CREATED:20251014T134908Z
LAST-MODIFIED:20251014T134909Z
UID:801723-1763049600-1763053200@delphoschamber.com
SUMMARY:Delphos Public Library Teddy Bear Clinic
DESCRIPTION:TEDDY BEAR CLINIC \nThe library will be hosting its first Teddy Bear Clinic this November and we reached out to area health professionals to help make it a success. This program aims to help reduce the fear that many children have around doctor visits by allowing them to bring their favorite stuffed friend for a full check-up— head to toe\, inside and out!What stations will there be?CHECK-IN with Miss Rachel to get their armband and health chartVITALS with Hometown Pediatrics for blood pressure\, etc.HEIGHT & WEIGHT with Mercy HealthHEARING/VISION with Dr. Nadler and Dr. SpanglerFIRST AID with Mercy HealthDENTAL with Dr. MohrOT with Nikki Rode of Infant OTMENTAL HEALTH with Allison WarneckeJoin us Thursday\, November 13th from 4:00-5:00pm
URL:https://delphoschamber.com/event/delphos-public-library-teddy-bear-clinic/
ATTACH;FMTTYPE=image/jpeg:https://delphoschamber.com/wp-content/uploads/2025/10/Teddy-Bear.jpg
END:VEVENT
BEGIN:VEVENT
DTSTART;TZID=America/New_York:20251113T180000
DTEND;TZID=America/New_York:20251113T180000
DTSTAMP:20260421T091250
CREATED:20251014T132626Z
LAST-MODIFIED:20251014T132720Z
UID:801715-1763056800-1763056800@delphoschamber.com
SUMMARY:Line Dancing at Doc's Dance Hall
DESCRIPTION:Grab your boots (or sneakers — no judgment here!) and get ready to kick up some dust on the dance floor. Doors open at 6:00\, dancing starts at 6:30.Bring a friend and let’s make it a night to remember!
URL:https://delphoschamber.com/event/line-dancing-at-docs-dance-hall-13/
ATTACH;FMTTYPE=image/jpeg:https://delphoschamber.com/wp-content/uploads/2025/08/line-dancing.jpg
END:VEVENT
BEGIN:VEVENT
DTSTART;TZID=America/New_York:20251114T180000
DTEND;TZID=America/New_York:20251114T230000
DTSTAMP:20260421T091250
CREATED:20251014T144936Z
LAST-MODIFIED:20251014T145012Z
UID:801760-1763143200-1763161200@delphoschamber.com
SUMMARY:Pizza\, Puzzle & Pub Night
DESCRIPTION:JOIN THE CHAMBER AND THE DELPHOS EAGLES FOR A FUN FRIDAY NIGHT IN NOVEMBER! \nPIZZA\, PUZZLE & PUB NIGHT• Friday\, November 14\, 2025 \nBUSINESS NETWORKING\, DEPARTMENT TEAM BUILDING OR A NIGHT OUT WITH A GROUP OF FRIENDS. \nREGISTRATION DUE FRIDAY\, OCTOBER 31ST!
URL:https://delphoschamber.com/event/pizza-puzzle-pub-night-2/
ATTACH;FMTTYPE=image/jpeg:https://delphoschamber.com/wp-content/uploads/2025/10/Regsitration-Flyer.jpg
END:VEVENT
BEGIN:VEVENT
DTSTART;TZID=America/New_York:20251115T180000
DTEND;TZID=America/New_York:20251115T180000
DTSTAMP:20260421T091250
CREATED:20251014T134133Z
LAST-MODIFIED:20251014T134228Z
UID:801717-1763229600-1763229600@delphoschamber.com
SUMMARY:Murder Mystery Dinner
DESCRIPTION:Good Riddance: A Gnarly 1990’s Murder Mystery\, Dude! \n\n\nSolve the mystery\, chow down on dinner\, and totally rock your detective skills!\n\n\n Saturday\, Nov 15\n Doors 6 PM | Dinner 6:30 PM\n Single tickets or tables of 6 – grab yours now!\nwww.docsdancehall.com/entertainment for tickets!\n\n\nBring your squad and see if you can crack the case… it’s gonna be all that and a bag of chips!
URL:https://delphoschamber.com/event/murder-mystery-dinner-2/
ATTACH;FMTTYPE=image/jpeg:https://delphoschamber.com/wp-content/uploads/2025/10/Murder-Mystery.jpg
END:VEVENT
BEGIN:VEVENT
DTSTART;TZID=America/New_York:20251120T100000
DTEND;TZID=America/New_York:20251120T110000
DTSTAMP:20260421T091250
CREATED:20251014T142350Z
LAST-MODIFIED:20251014T142714Z
UID:801756-1763632800-1763636400@delphoschamber.com
SUMMARY:Milk & Giggles
DESCRIPTION:Milk and Giggles — a cozy\, connection-focused playgroup for parents and their little ones in Delphos Ohio!Whether you’re a new parent navigating feeding journeys\, looking for support\, or just want a warm place to laugh\, vent\, and play — Milk and Giggles is for you. Hosted by a lactation-informed occupational therapist\, this group is all about community\, developmentally supportive play\, and real-life parenting.Come as you are\, bring your baby\, and let’s build something beautiful together — one giggle at a time.This group will replace the Infant support group originally once a month\, to better serve the needs of the community Follow us on Facebook for updates and feel free to tag a friend who’d love this! 
URL:https://delphoschamber.com/event/milk-giggles-20/
ATTACH;FMTTYPE=image/jpeg:https://delphoschamber.com/wp-content/uploads/2025/05/Milk-Giggles.jpg
END:VEVENT
BEGIN:VEVENT
DTSTART;TZID=America/New_York:20251120T170000
DTEND;TZID=America/New_York:20251120T170000
DTSTAMP:20260421T091250
CREATED:20251119T145323Z
LAST-MODIFIED:20251119T150058Z
UID:801835-1763658000-1763658000@delphoschamber.com
SUMMARY:Mollie B\, Ted Lange & The Band "Squeezebox" at Doc's Dance Hall
DESCRIPTION: Mollie B\, Ted Lange\, & The Band “Squeezebox”– Thursday\, November 20th!\n Doors open at 5:00 PM | Dinner at 6:00 PM Tickets available now — don’t wait\, this one will sell out! Get yours today: www.docsdancehall.com/entertainment
URL:https://delphoschamber.com/event/mollie-b-ted-lange-the-band-squeezebox-at-docs-dance-hall/
ATTACH;FMTTYPE=image/jpeg:https://delphoschamber.com/wp-content/uploads/2025/11/Mollie-b.jpg
END:VEVENT
BEGIN:VEVENT
DTSTART;TZID=America/New_York:20251123T130000
DTEND;TZID=America/New_York:20251123T150000
DTSTAMP:20260421T091250
CREATED:20251023T152657Z
LAST-MODIFIED:20251023T152707Z
UID:801770-1763902800-1763910000@delphoschamber.com
SUMMARY:Cameo Beauty Lounge Open House
DESCRIPTION:Join Cameo Beauty Lounge in their newly remodeled salon for an open house and meet their team of professionals! \nThis is an opportunity to tour the new luxury space\, enter to win some amazing prizes\, and participate in fun activities! \nCameo Beauty Lounge will have fall bouquets\, professional grade products\, jewelry and more! \nEveryone who visits will receive ONE raffle ticket\, additional tickets available for purchase. Enter to win multiple large giveaway baskets! \nGrab a friend and celebrate with Cameo Beauty Lounge \nNov. 23rd 1-3pm • 233 North Main St.\, Delphos.
URL:https://delphoschamber.com/event/cameo-beauty-lounge-open-house/
ATTACH;FMTTYPE=image/jpeg:https://delphoschamber.com/wp-content/uploads/2025/10/Cameo.jpg
END:VEVENT
BEGIN:VEVENT
DTSTART;TZID=America/New_York:20251125T183000
DTEND;TZID=America/New_York:20251125T193000
DTSTAMP:20260421T091250
CREATED:20251119T144724Z
LAST-MODIFIED:20251119T144724Z
UID:801829-1764095400-1764099000@delphoschamber.com
SUMMARY:Neck\, Shoulder and Headache Workshop
DESCRIPTION:Neck\, Shoulder and Headache Workshop\n\nNeck pain\, shoulder pain\, or headaches impacting your daily life? This workshop is for you! Come learn more about your body and how to address pain/impairments appropriately without surgery or injections!\nRegistration is required !$15
URL:https://delphoschamber.com/event/neck-shoulder-and-headache-workshop/
ATTACH;FMTTYPE=image/jpeg:https://delphoschamber.com/wp-content/uploads/2025/11/rURAL-RX.jpg
END:VEVENT
BEGIN:VEVENT
DTSTART;TZID=America/New_York:20251127T100000
DTEND;TZID=America/New_York:20251127T110000
DTSTAMP:20260421T091250
CREATED:20251014T142853Z
LAST-MODIFIED:20251014T142931Z
UID:801758-1764237600-1764241200@delphoschamber.com
SUMMARY:Milk & Giggles
DESCRIPTION:Milk and Giggles — a cozy\, connection-focused playgroup for parents and their little ones in Delphos Ohio!Whether you’re a new parent navigating feeding journeys\, looking for support\, or just want a warm place to laugh\, vent\, and play — Milk and Giggles is for you. Hosted by a lactation-informed occupational therapist\, this group is all about community\, developmentally supportive play\, and real-life parenting.Come as you are\, bring your baby\, and let’s build something beautiful together — one giggle at a time.This group will replace the Infant support group originally once a month\, to better serve the needs of the community Follow us on Facebook for updates and feel free to tag a friend who’d love this! 
URL:https://delphoschamber.com/event/milk-giggles-21/
ATTACH;FMTTYPE=image/jpeg:https://delphoschamber.com/wp-content/uploads/2025/05/Milk-Giggles.jpg
END:VEVENT
BEGIN:VEVENT
DTSTART;TZID=America/New_York:20251129T130000
DTEND;TZID=America/New_York:20251129T160000
DTSTAMP:20260421T091250
CREATED:20251104T174819Z
LAST-MODIFIED:20251104T174839Z
UID:801788-1764421200-1764432000@delphoschamber.com
SUMMARY:Celebrate Christmas with the Canal Museum
DESCRIPTION:We kick-off our Christmas tree festival the Saturday after Thanksgiving at 1:00 pm and stay open until 4:00. Come enjoy over 100 trees and decorations to get you in the Christmas spirit! (Our biggest night is during the Kiwanis Hometown Christmas on Friday\, December 5th\, Ham & Bean Soup and trees\, trees\, trees!) Saturdays & Sundays (beginning Nov 29th) through end of the year hours are 1:00-4:00 and Thursday morning 9-noon. Mark your calendars!
URL:https://delphoschamber.com/event/celebrate-christmas-with-the-canal-museum/
ATTACH;FMTTYPE=image/jpeg:https://delphoschamber.com/wp-content/uploads/2025/11/Canal-Commission.jpg
END:VEVENT
END:VCALENDAR