BEGIN:VCALENDAR
VERSION:2.0
PRODID:-//Delphos Area Chamber of Commerce - ECPv6.15.20//NONSGML v1.0//EN
CALSCALE:GREGORIAN
METHOD:PUBLISH
X-WR-CALNAME:Delphos Area Chamber of Commerce
X-ORIGINAL-URL:https://delphoschamber.com
X-WR-CALDESC:Events for Delphos Area Chamber of Commerce
REFRESH-INTERVAL;VALUE=DURATION:PT1H
X-Robots-Tag:noindex
X-PUBLISHED-TTL:PT1H
BEGIN:VTIMEZONE
TZID:America/New_York
BEGIN:DAYLIGHT
TZOFFSETFROM:-0500
TZOFFSETTO:-0400
TZNAME:EDT
DTSTART:20230312T070000
END:DAYLIGHT
BEGIN:STANDARD
TZOFFSETFROM:-0400
TZOFFSETTO:-0500
TZNAME:EST
DTSTART:20231105T060000
END:STANDARD
BEGIN:DAYLIGHT
TZOFFSETFROM:-0500
TZOFFSETTO:-0400
TZNAME:EDT
DTSTART:20240310T070000
END:DAYLIGHT
BEGIN:STANDARD
TZOFFSETFROM:-0400
TZOFFSETTO:-0500
TZNAME:EST
DTSTART:20241103T060000
END:STANDARD
BEGIN:DAYLIGHT
TZOFFSETFROM:-0500
TZOFFSETTO:-0400
TZNAME:EDT
DTSTART:20250309T070000
END:DAYLIGHT
BEGIN:STANDARD
TZOFFSETFROM:-0400
TZOFFSETTO:-0500
TZNAME:EST
DTSTART:20251102T060000
END:STANDARD
END:VTIMEZONE
BEGIN:VEVENT
DTSTART;TZID=America/New_York:20241206T160000
DTEND;TZID=America/New_York:20241206T183000
DTSTAMP:20260421T025247
CREATED:20241121T144512Z
LAST-MODIFIED:20241121T144512Z
UID:801049-1733500800-1733509800@delphoschamber.com
SUMMARY:Pulled Pork Dinner Fundraiser
DESCRIPTION:Pulled Pork Dinner Fundraiser \nFriday\, December 6\, 2024 • 4-6:30PM • Drive Thru Pick up at Franklin Elementary Parking Lot \n$10.00 per ticket. Tickets Sold at Franklin Elementary Office or Franklin Elementary Staff \nAll Benefits go to family of Dave Kroeger
URL:https://delphoschamber.com/event/pulled-pork-dinner-fundraiser/
ATTACH;FMTTYPE=image/jpeg:https://delphoschamber.com/wp-content/uploads/2024/11/Dave-Kroeger.jpg
END:VEVENT
BEGIN:VEVENT
DTSTART;TZID=America/New_York:20241206T160000
DTEND;TZID=America/New_York:20241206T183000
DTSTAMP:20260421T025247
CREATED:20241203T164546Z
LAST-MODIFIED:20241203T164952Z
UID:801061-1733500800-1733509800@delphoschamber.com
SUMMARY:Downtown Delphos Holiday Market
DESCRIPTION:Downtown Delphos Holiday Market \nFriday\, December 6th • 4-6:30PM \nThe Willow on Main • 209 N. Main Street\, Delphos \nThe Downtown Delphos Holiday Market has moved…INSIDE!  The Market will move from its regular outdoor venue to The Willow on Main\, located at 209 N. Main Street\, downtown Delphos this Friday from 4-6:30pm.  Vendors are eager to see everyone for the Holidays with stocking stuffers\, unique gifts\, fresh baked goods and sweet treats!   The Holiday Market is also welcoming back our “KIDZ in BIZ” as little entrepreneurs showcase their hand crafted uniquely designed items.\nStay warm and join us on Friday\, December 6th from 4-6:30pm at The Willow on Main right before Kiwanis Hometown Christmas!\n\n 
URL:https://delphoschamber.com/event/downtown-delphos-holiday-market-2/
ATTACH;FMTTYPE=image/jpeg:https://delphoschamber.com/wp-content/uploads/2024/12/Advertising-Screen-6-1.jpg
END:VEVENT
BEGIN:VEVENT
DTSTART;TZID=America/New_York:20241206T183000
DTEND;TZID=America/New_York:20241206T210000
DTSTAMP:20260421T025247
CREATED:20241112T132202Z
LAST-MODIFIED:20241125T162909Z
UID:801031-1733509800-1733518800@delphoschamber.com
SUMMARY:Kiwanis Club of Delphos Hometown Christmas
DESCRIPTION:Kiwanis Club of Delphos Hometown Christmas \nFriday\, December 6\, 2025.  Santa Parade begins at 6:30 \nDowntown Delphos.   Check in with FACEBOOK for schedule of events.
URL:https://delphoschamber.com/event/kiwanis-club-of-delphos-hometown-christmas/
ATTACH;FMTTYPE=image/jpeg:https://delphoschamber.com/wp-content/uploads/2024/11/Kiwanis-1.jpg
END:VEVENT
BEGIN:VEVENT
DTSTART;TZID=America/New_York:20241211T170000
DTEND;TZID=America/New_York:20241211T200000
DTSTAMP:20260421T025247
CREATED:20241203T160151Z
LAST-MODIFIED:20241203T160151Z
UID:801059-1733936400-1733947200@delphoschamber.com
SUMMARY:Pictures with Santa at At Home Realty
DESCRIPTION:Santa is coming to At Home Realty! Bring your little ones and come up to see the big man himself (at no charge)! Bring your own camera or we will have one as well for you. The first hour from 5-6pm will be a Sensory Safe Event! Then from 6-8pm will be open to the public! \nWednesday\, December 11\, 2024 \nAt Home Realty\, 302 E. 2nd St. Delphos\, OH \n 
URL:https://delphoschamber.com/event/pictures-with-santa-at-at-home-realty/
ATTACH;FMTTYPE=image/jpeg:https://delphoschamber.com/wp-content/uploads/2024/12/Ssanta-Visits.jpg
END:VEVENT
BEGIN:VEVENT
DTSTART;TZID=America/New_York:20241214T090000
DTEND;TZID=America/New_York:20241214T130000
DTSTAMP:20260421T025247
CREATED:20241121T131738Z
LAST-MODIFIED:20241121T131739Z
UID:801046-1734166800-1734181200@delphoschamber.com
SUMMARY:Sensory- Friendly Santa Experience
DESCRIPTION:Join us for a comfortable\, sensory-friendly holiday celebration! Each registered child will receive: \nRegistration: $5 per child \nEvent Time- 9AM to 1:00PM . (OPEN HOUSE)\nEvent Address:  \nDelphos Knights of Columbus Hall \n1011 Elida Ave. \nDelphos\, Ohio 45833 \nContact us at 419-236-4803 or asdssofnwohio@gmail.com\n\n\n\n• Personal time with Santa• Photo with Santa• Special gift from Santa• Light breakfast and refreshments• Access to fun games and craft stationsRegistration: $5 per child(Includes photo\, gift\, activities\, and refreshments)Our inclusive\, open house-style event ensures children can explore at their own pace in a welcoming environment. Space is limited\, so be sure to register when registration opens! \n  \nFacebook Event Here
URL:https://delphoschamber.com/event/sensory-friendly-santa-experience/
ATTACH;FMTTYPE=image/jpeg:https://delphoschamber.com/wp-content/uploads/2024/11/Santa.jpg
END:VEVENT
BEGIN:VEVENT
DTSTART;TZID=America/New_York:20241214T140000
DTEND;TZID=America/New_York:20241214T160000
DTSTAMP:20260421T025247
CREATED:20241203T165335Z
LAST-MODIFIED:20241203T165335Z
UID:801065-1734184800-1734192000@delphoschamber.com
SUMMARY:The Meadows Annual Christmas Gala
DESCRIPTION:The Meadows of Delphos Annual Christmas Gala \nDecember 14th 2-4pm. \nSilent Auction\, Letters to Santa\, Activities\, Entertainment\, Charcuterie Boards and More. \nAll Proceeds from Silent Auction go to Delphos Senior Citizens\, Inc.
URL:https://delphoschamber.com/event/the-meadows-annual-christmas-gala/
ATTACH;FMTTYPE=image/jpeg:https://delphoschamber.com/wp-content/uploads/2024/12/meadows-gala.jpg
END:VEVENT
END:VCALENDAR