BEGIN:VCALENDAR
VERSION:2.0
PRODID:-//Delphos Area Chamber of Commerce - ECPv6.15.20//NONSGML v1.0//EN
CALSCALE:GREGORIAN
METHOD:PUBLISH
X-ORIGINAL-URL:https://delphoschamber.com
X-WR-CALDESC:Events for Delphos Area Chamber of Commerce
REFRESH-INTERVAL;VALUE=DURATION:PT1H
X-Robots-Tag:noindex
X-PUBLISHED-TTL:PT1H
BEGIN:VTIMEZONE
TZID:America/New_York
BEGIN:DAYLIGHT
TZOFFSETFROM:-0500
TZOFFSETTO:-0400
TZNAME:EDT
DTSTART:20230312T070000
END:DAYLIGHT
BEGIN:STANDARD
TZOFFSETFROM:-0400
TZOFFSETTO:-0500
TZNAME:EST
DTSTART:20231105T060000
END:STANDARD
BEGIN:DAYLIGHT
TZOFFSETFROM:-0500
TZOFFSETTO:-0400
TZNAME:EDT
DTSTART:20240310T070000
END:DAYLIGHT
BEGIN:STANDARD
TZOFFSETFROM:-0400
TZOFFSETTO:-0500
TZNAME:EST
DTSTART:20241103T060000
END:STANDARD
BEGIN:DAYLIGHT
TZOFFSETFROM:-0500
TZOFFSETTO:-0400
TZNAME:EDT
DTSTART:20250309T070000
END:DAYLIGHT
BEGIN:STANDARD
TZOFFSETFROM:-0400
TZOFFSETTO:-0500
TZNAME:EST
DTSTART:20251102T060000
END:STANDARD
END:VTIMEZONE
BEGIN:VEVENT
DTSTART;TZID=America/New_York:20240910T180000
DTEND;TZID=America/New_York:20240910T200000
DTSTAMP:20260421T093459
CREATED:20240314T153849Z
LAST-MODIFIED:20241007T132005Z
UID:800626-1725991200-1725998400@delphoschamber.com
SUMMARY:Delphos Fire Association Steak Feed
DESCRIPTION:STEAK FEED!!\nThe Delphos Fire Association will be having their monthly steak feed  from 6 p.m. to 8 p.m. or until sold out at the Fireman’s Club House\,\n911 Lima Avenue. Drive thru only.\nMeals will include steak\, corn\, baked potato and bread. Cost is $12.00.\nOur steak feeds are always the second Tuesday of the month September thru May. We hope to see you there.\nThank You for supporting the Delphos Fire Association.
URL:https://delphoschamber.com/event/delphos-fire-association-steak-feed-6/
ATTACH;FMTTYPE=image/jpeg:https://delphoschamber.com/wp-content/uploads/2019/10/steak.jpg
END:VEVENT
BEGIN:VEVENT
DTSTART;TZID=America/New_York:20240912T170000
DTEND;TZID=America/New_York:20240912T230000
DTSTAMP:20260421T093459
CREATED:20240321T144624Z
LAST-MODIFIED:20240321T144754Z
UID:800642-1726160400-1726182000@delphoschamber.com
SUMMARY:Das Toast
DESCRIPTION:Delphos Canal Days weekend will be Thursday\, September – Sunday\, September 15th.  \nEVENT DETAILS TO COME! 
URL:https://delphoschamber.com/event/das-toast/
ATTACH;FMTTYPE=image/jpeg:https://delphoschamber.com/wp-content/uploads/2024/03/Cover-Photo.jpg
END:VEVENT
BEGIN:VEVENT
DTSTART;VALUE=DATE:20240913
DTEND;VALUE=DATE:20240917
DTSTAMP:20260421T093459
CREATED:20240321T144705Z
LAST-MODIFIED:20240502T141422Z
UID:800645-1726185600-1726531199@delphoschamber.com
SUMMARY:Delphos Canal Days
DESCRIPTION:Delphos Canal Days weekend will be Thursday\, September – Sunday\, September 15th.  EVENT DETAILS TO COME!
URL:https://delphoschamber.com/event/delphos-canal-days-2/
ATTACH;FMTTYPE=image/jpeg:https://delphoschamber.com/wp-content/uploads/2024/03/Cover-Photo.jpg
END:VEVENT
BEGIN:VEVENT
DTSTART;VALUE=DATE:20240914
DTEND;VALUE=DATE:20240915
DTSTAMP:20260421T093459
CREATED:20240321T145231Z
LAST-MODIFIED:20240321T145231Z
UID:800648-1726272000-1726358399@delphoschamber.com
SUMMARY:Delphos Canal Days
DESCRIPTION:Delphos Canal Days weekend will be Thursday\, September – Sunday\, September 15th.  \nEVENT DETAILS TO COME! 
URL:https://delphoschamber.com/event/delphos-canal-days-3/
ATTACH;FMTTYPE=image/jpeg:https://delphoschamber.com/wp-content/uploads/2024/03/Cover-Photo.jpg
END:VEVENT
BEGIN:VEVENT
DTSTART;VALUE=DATE:20240915
DTEND;VALUE=DATE:20240916
DTSTAMP:20260421T093459
CREATED:20240321T145307Z
LAST-MODIFIED:20240321T145307Z
UID:800650-1726358400-1726444799@delphoschamber.com
SUMMARY:Delphos Canal Days
DESCRIPTION:Delphos Canal Days weekend will be Thursday\, September – Sunday\, September 15th.  \nEVENT DETAILS TO COME! 
URL:https://delphoschamber.com/event/delphos-canal-days-4/
ATTACH;FMTTYPE=image/jpeg:https://delphoschamber.com/wp-content/uploads/2024/03/Cover-Photo.jpg
END:VEVENT
BEGIN:VEVENT
DTSTART;TZID=America/New_York:20240918T080000
DTEND;TZID=America/New_York:20240918T170000
DTSTAMP:20260421T093459
CREATED:20240918T170842Z
LAST-MODIFIED:20240918T170842Z
UID:800936-1726646400-1726678800@delphoschamber.com
SUMMARY:Downtown Delphos Farmers Market\, Harvest Market
DESCRIPTION:Downtown Delphos Farmers Harvest Market \nThursday\, October 24th • 4-6pm • The Lot\, corner of 4th & Main \nJoin new and returning vendors as they bring you the smells\, items and flavors of fall. \n 
URL:https://delphoschamber.com/event/downtown-delphos-farmers-market-harvest-market/
ATTACH;FMTTYPE=image/jpeg:https://delphoschamber.com/wp-content/uploads/2024/09/Calendar.jpg
END:VEVENT
BEGIN:VEVENT
DTSTART;TZID=America/New_York:20240922T140000
DTEND;TZID=America/New_York:20240922T170000
DTSTAMP:20260421T093459
CREATED:20240918T181952Z
LAST-MODIFIED:20240918T181955Z
UID:800945-1727013600-1727024400@delphoschamber.com
SUMMARY:Teen Kickoff Party
DESCRIPTION:Excited to start our 3rd Year of having the Teen Center open here in Delphos. Sunday\, September 22nd- 2-5PMSpread the word we are back @ The Stoa! We are having a teen kickoff party THIS SUNDAY!!!ALL TEENS in Delphos and surrounding communities are welcome and it is FREE to all teens!Shout out to the Delphos Eagles for their financial support in helping with this event! In addition to K&M for their help with Volunteers for the Teen Cafe.\nIf you would like to support our cause in helping and supporting teens please message me\, we are looking for donations and volunteer support throughout the school season. Thanks!
URL:https://delphoschamber.com/event/teen-kickoff-party/
ATTACH;FMTTYPE=image/jpeg:https://delphoschamber.com/wp-content/uploads/2024/09/Teen-Cafe.jpg
END:VEVENT
BEGIN:VEVENT
DTSTART;TZID=America/New_York:20240928T100000
DTEND;TZID=America/New_York:20240928T113000
DTSTAMP:20260421T093459
CREATED:20240918T164217Z
LAST-MODIFIED:20240918T164219Z
UID:800925-1727517600-1727523000@delphoschamber.com
SUMMARY:TEEN BEREAVMENT GROUP
DESCRIPTION:TEEN BEREAVMENT GROUP\n\nLicensed and trained social workers and staff are available to guide local teens through any type of loss in their life – from losing a loved one to the loss of a pet\, a friend moving away\, etc.\nGroup will meet every 4th Saturday of the month\, at “The Stoa” in Delphos from 10am-11:30am.\nNo cost and no paperwork is needed\, but a parent or guardian must sign in their teen at each meeting. \nMessage us or call Tracey\, LSW at 419-238-9223 ext. 1169 with any questions.
URL:https://delphoschamber.com/event/teen-bereavment-group/
ATTACH;FMTTYPE=image/jpeg:https://delphoschamber.com/wp-content/uploads/2024/09/CHP.jpg
END:VEVENT
END:VCALENDAR