BEGIN:VCALENDAR
VERSION:2.0
PRODID:-//Delphos Area Chamber of Commerce - ECPv6.15.20//NONSGML v1.0//EN
CALSCALE:GREGORIAN
METHOD:PUBLISH
X-ORIGINAL-URL:https://delphoschamber.com
X-WR-CALDESC:Events for Delphos Area Chamber of Commerce
REFRESH-INTERVAL;VALUE=DURATION:PT1H
X-Robots-Tag:noindex
X-PUBLISHED-TTL:PT1H
BEGIN:VTIMEZONE
TZID:America/New_York
BEGIN:DAYLIGHT
TZOFFSETFROM:-0500
TZOFFSETTO:-0400
TZNAME:EDT
DTSTART:20220313T070000
END:DAYLIGHT
BEGIN:STANDARD
TZOFFSETFROM:-0400
TZOFFSETTO:-0500
TZNAME:EST
DTSTART:20221106T060000
END:STANDARD
BEGIN:DAYLIGHT
TZOFFSETFROM:-0500
TZOFFSETTO:-0400
TZNAME:EDT
DTSTART:20230312T070000
END:DAYLIGHT
BEGIN:STANDARD
TZOFFSETFROM:-0400
TZOFFSETTO:-0500
TZNAME:EST
DTSTART:20231105T060000
END:STANDARD
BEGIN:DAYLIGHT
TZOFFSETFROM:-0500
TZOFFSETTO:-0400
TZNAME:EDT
DTSTART:20240310T070000
END:DAYLIGHT
BEGIN:STANDARD
TZOFFSETFROM:-0400
TZOFFSETTO:-0500
TZNAME:EST
DTSTART:20241103T060000
END:STANDARD
END:VTIMEZONE
BEGIN:VEVENT
DTSTART;TZID=America/New_York:20231104T070000
DTEND;TZID=America/New_York:20231104T133000
DTSTAMP:20260422T021510
CREATED:20231011T180404Z
LAST-MODIFIED:20231011T180406Z
UID:800423-1699081200-1699104600@delphoschamber.com
SUMMARY:Delphos Kiwanis Annual Pancake & Sausage Breakfast
DESCRIPTION:Delphos Kiwanis Pancake & Sausage Breakfast  \nSaturday\, November 4\, 2023 • 7:00AM-1:30PM • Delphos Jefferson Senior High School\, 901 Wildcat Lane\, Delphos  \nTickets: Adults Pre-Sale $9.00\, Day of $10.00 • Kids 10 and under eat free Contact a Kiwanis Member for Tickets
URL:https://delphoschamber.com/event/delphos-kiwanis-annual-pancake-sausage-breakfast/
ATTACH;FMTTYPE=image/jpeg:https://delphoschamber.com/wp-content/uploads/2023/10/Pancake-Day-2-Copy-scaled.jpg
END:VEVENT
BEGIN:VEVENT
DTSTART;TZID=America/New_York:20231117T190000
DTEND;TZID=America/New_York:20231117T230000
DTSTAMP:20260422T021510
CREATED:20231017T172700Z
LAST-MODIFIED:20231017T172749Z
UID:800433-1700247600-1700262000@delphoschamber.com
SUMMARY:PIZZA\, PUZZLE & PUB NIGHT
DESCRIPTION:JOIN THE CHAMBER AND THE DELPHOS EAGLES FOR A FUN FRIDAY NIGHT IN NOVEMBER!\nPIZZA\, PUZZLE & PUB NIGHT IS GREAT FOR BUSINESS NETWORKING\, DEPARTMENT TEAM BUILDING OR\nA GROUP OF FRIENDS. OPEN TO THE PUBLIC!\n\nFRIDAY\, NOVEMBER 17TH • 7-11pm • THE DELPHOS EAGLES\nTEAMS OF 4 • $100 PER TEAM\nREGISTRATION DUE FRIDAY\, NOVEMBER 3RD!
URL:https://delphoschamber.com/event/800433/
ATTACH;FMTTYPE=image/jpeg:https://delphoschamber.com/wp-content/uploads/2023/10/Pizza-Puzzle-Pub-Registration.jpg
END:VEVENT
END:VCALENDAR