BEGIN:VCALENDAR
VERSION:2.0
PRODID:-//Delphos Area Chamber of Commerce - ECPv6.15.20//NONSGML v1.0//EN
CALSCALE:GREGORIAN
METHOD:PUBLISH
X-ORIGINAL-URL:https://delphoschamber.com
X-WR-CALDESC:Events for Delphos Area Chamber of Commerce
REFRESH-INTERVAL;VALUE=DURATION:PT1H
X-Robots-Tag:noindex
X-PUBLISHED-TTL:PT1H
BEGIN:VTIMEZONE
TZID:America/New_York
BEGIN:DAYLIGHT
TZOFFSETFROM:-0500
TZOFFSETTO:-0400
TZNAME:EDT
DTSTART:20220313T070000
END:DAYLIGHT
BEGIN:STANDARD
TZOFFSETFROM:-0400
TZOFFSETTO:-0500
TZNAME:EST
DTSTART:20221106T060000
END:STANDARD
BEGIN:DAYLIGHT
TZOFFSETFROM:-0500
TZOFFSETTO:-0400
TZNAME:EDT
DTSTART:20230312T070000
END:DAYLIGHT
BEGIN:STANDARD
TZOFFSETFROM:-0400
TZOFFSETTO:-0500
TZNAME:EST
DTSTART:20231105T060000
END:STANDARD
BEGIN:DAYLIGHT
TZOFFSETFROM:-0500
TZOFFSETTO:-0400
TZNAME:EDT
DTSTART:20240310T070000
END:DAYLIGHT
BEGIN:STANDARD
TZOFFSETFROM:-0400
TZOFFSETTO:-0500
TZNAME:EST
DTSTART:20241103T060000
END:STANDARD
END:VTIMEZONE
BEGIN:VEVENT
DTSTART;TZID=America/New_York:20230908T073000
DTEND;TZID=America/New_York:20230908T160000
DTSTAMP:20260422T055533
CREATED:20230828T200359Z
LAST-MODIFIED:20230828T200359Z
UID:800373-1694158200-1694188800@delphoschamber.com
SUMMARY:United Way Day of Caring
DESCRIPTION:United Way Day of Caring  \nFriday\, September 8\, 2023. • 7:30-9:30am then off to partnering non-profit locations \nTo volunteer contact Natasha Kaufman nkaufman@unitedwaylima.org
URL:https://delphoschamber.com/event/united-way-day-of-caring/
ATTACH;FMTTYPE=image/jpeg:https://delphoschamber.com/wp-content/uploads/2023/08/day-of-caring.jpg
END:VEVENT
BEGIN:VEVENT
DTSTART;TZID=America/New_York:20230907T193000
DTEND;TZID=America/New_York:20230907T193000
DTSTAMP:20260422T055533
CREATED:20230828T155058Z
LAST-MODIFIED:20230828T154809Z
UID:800358-1694115000-1694115000@delphoschamber.com
SUMMARY:Delphos Running Club
DESCRIPTION:Welcome to the Delphos Running Club (DRC) #runforareason! This is NOT a race club. he purpose is to exercise\, socialize (why we start & end at the Rustic) and give back to our community. Each 5k (3.1) run/walk\, which will start from the Rustic Café each Thursday at 7:30pm from April to September\, we will have a donation canister available for you to make donations. The DRC is a 501(c)3 nonprofit organization so your donations are tax deductible! Each month\, we will decide on a new charitable organization.\nSince 2014\, we donated over $88\,000 to LOCAL charities!\nThis is a FREE running club. Most running clubs have annual dues of $15 – $200 per year. Instead\, we want our “annual dues” to go to charity. \nThere is no obligation to donate if you participate.\nNot only is it free to be in the club\, but after your 5th\, 10th & 15th run/walk you get FREE awards! Our shirt features our purpose\, to run for a reason\, and logos from our wonderful sponsors. If your business is interested in sponsoring\, please send me a message for more details!\nIf you have any questions\, please send me a private message or e-mail me at delphosrunningclub@gmail.com. Thank you!
URL:https://delphoschamber.com/event/delphos-running-club-10/
ATTACH;FMTTYPE=image/jpeg:https://delphoschamber.com/wp-content/uploads/2023/08/run-club.jpg
END:VEVENT
BEGIN:VEVENT
DTSTART;TZID=America/New_York:20230909T100000
DTEND;TZID=America/New_York:20230909T140000
DTSTAMP:20260422T055533
CREATED:20230828T164017Z
LAST-MODIFIED:20230828T164018Z
UID:800366-1694253600-1694268000@delphoschamber.com
SUMMARY:National Clean Up
DESCRIPTION:The City of Delphos will be having a Clean-up Day for National Clean-up month in September. This event will be held on September 9th from 10 A.M. to 2 P.M. We will be cleaning up the streets\, vacant lots\, private properties\, the parks\, and all-around Delphos! We would like your help to make this day a huge success and help make Delphos beautiful!! \nWe are accepting donations for the following: \nGarbage bags. Buckets . Trash grabbers . Sunscreen . Hand sanitizer . Shovels . Rakes . Gloves . Eye protection (glasses and/or goggles) . Wheelbarrows . Masks \nWater and/or Gatorade . Snacks \n*If you are unable to donate supplies\, we will also accept monetary donations via cash or check. Please make checks payable to “City of Delphos”. \n*If you are unable to donate supplies or money\, we would appreciate any loaning of tools suitable for the use of cleaning up the town (buckets\, trash grabbers\, shovels\, rakes\, wheelbarrows\, etc.) \n*If you are unable to donate or loan\, we would love to see you and have help in cleaning up our city! \nPlease call Megan at 419-303-4145 at your earliest convenience if you would like to participate in this event.
URL:https://delphoschamber.com/event/national-clean-up/
ATTACH;FMTTYPE=image/jpeg:https://delphoschamber.com/wp-content/uploads/2023/08/clean-up.jpg
END:VEVENT
BEGIN:VEVENT
DTSTART;TZID=America/New_York:20230914T170000
DTEND;TZID=America/New_York:20230914T210000
DTSTAMP:20260422T055533
CREATED:20230828T153915Z
LAST-MODIFIED:20230828T153916Z
UID:800352-1694710800-1694725200@delphoschamber.com
SUMMARY:The Toast
DESCRIPTION:The Toast \nThe Toast takes place Thursday evening and is the official kick-off of Canal Days Weekend! The Toast features a full line of amazing wines\, wonderful hors d’oeuvres from our local bars and restaurants\, and stage entertainment.  Each year the committee picks a new theme to offer a change in atmosphere\, encouraging attendee participation with attire! The Toast provides a chance for networking and gathering with local businesses and friends before the fun-packed scheduled Canal Days weekend. \nRegistration: 5:00 pm\nToast 6:00-9:00 pm\nTable of 8 – $420  |   Single – $55 \nThe registration deadline is September 6th. Please send names of attendees and payment to: \nDelphos Canal Days\, 310 N. Main St. Delphos\, OH 45833\nContact Info: Delphos Chamber 419-695-1771\n310dacc@gmail.com or canaldaysdelphos@gmail.com
URL:https://delphoschamber.com/event/the-toast/
ATTACH;FMTTYPE=image/jpeg:https://delphoschamber.com/wp-content/uploads/2023/08/2023-Toast-Invite-Mock.jpg
END:VEVENT
BEGIN:VEVENT
DTSTART;TZID=America/New_York:20230914T170000
DTEND;TZID=America/New_York:20230917T180000
DTSTAMP:20260422T055533
CREATED:20230828T153126Z
LAST-MODIFIED:20230828T153127Z
UID:800349-1694710800-1694973600@delphoschamber.com
SUMMARY:Delphos Canal Days
DESCRIPTION:Delphos Canal Days is our end-of-the-summer premier festival. The mission for Canal Day is “to plan a fun filled positive family festival for Delphos and the surrounding communities” and with the help of hundreds of community volunteers and sponsors we get that done. \n2023 Delphos Canal Days runs Thursday\, September 14th- Sunday\, September 17th.  Please see the event flyer and get updates  HERE.
URL:https://delphoschamber.com/event/delphos-canal-days/
ATTACH;FMTTYPE=image/jpeg:https://delphoschamber.com/wp-content/uploads/2023/08/Event-Poster.jpg
END:VEVENT
BEGIN:VEVENT
DTSTART;TZID=America/New_York:20230921T193000
DTEND;TZID=America/New_York:20230921T193000
DTSTAMP:20260422T055533
CREATED:20230828T154938Z
LAST-MODIFIED:20230828T154938Z
UID:800362-1695324600-1695324600@delphoschamber.com
SUMMARY:Delphos Running Club
DESCRIPTION:Welcome to the Delphos Running Club (DRC) #runforareason! This is NOT a race club. he purpose is to exercise\, socialize (why we start & end at the Rustic) and give back to our community. Each 5k (3.1) run/walk\, which will start from the Rustic Café each Thursday at 7:30pm from April to September\, we will have a donation canister available for you to make donations. The DRC is a 501(c)3 nonprofit organization so your donations are tax deductible! Each month\, we will decide on a new charitable organization.\nSince 2014\, we donated over $88\,000 to LOCAL charities!\nThis is a FREE running club. Most running clubs have annual dues of $15 – $200 per year. Instead\, we want our “annual dues” to go to charity. \nThere is no obligation to donate if you participate.\nNot only is it free to be in the club\, but after your 5th\, 10th & 15th run/walk you get FREE awards! Our shirt features our purpose\, to run for a reason\, and logos from our wonderful sponsors. If your business is interested in sponsoring\, please send me a message for more details!\nIf you have any questions\, please send me a private message or e-mail me at delphosrunningclub@gmail.com. Thank you!
URL:https://delphoschamber.com/event/delphos-running-club-12/
LOCATION:The Rustic Cafe
ATTACH;FMTTYPE=image/jpeg:https://delphoschamber.com/wp-content/uploads/2023/08/run-club.jpg
END:VEVENT
BEGIN:VEVENT
DTSTART;TZID=America/New_York:20230928T193000
DTEND;TZID=America/New_York:20230928T193000
DTSTAMP:20260422T055533
CREATED:20230828T155029Z
LAST-MODIFIED:20230828T155029Z
UID:800364-1695929400-1695929400@delphoschamber.com
SUMMARY:Delphos Running Club
DESCRIPTION:Welcome to the Delphos Running Club (DRC) #runforareason! This is NOT a race club. he purpose is to exercise\, socialize (why we start & end at the Rustic) and give back to our community. Each 5k (3.1) run/walk\, which will start from the Rustic Café each Thursday at 7:30pm from April to September\, we will have a donation canister available for you to make donations. The DRC is a 501(c)3 nonprofit organization so your donations are tax deductible! Each month\, we will decide on a new charitable organization.\nSince 2014\, we donated over $88\,000 to LOCAL charities!\nThis is a FREE running club. Most running clubs have annual dues of $15 – $200 per year. Instead\, we want our “annual dues” to go to charity. \nThere is no obligation to donate if you participate.\nNot only is it free to be in the club\, but after your 5th\, 10th & 15th run/walk you get FREE awards! Our shirt features our purpose\, to run for a reason\, and logos from our wonderful sponsors. If your business is interested in sponsoring\, please send me a message for more details!\nIf you have any questions\, please send me a private message or e-mail me at delphosrunningclub@gmail.com. Thank you!
URL:https://delphoschamber.com/event/delphos-running-club-13/
LOCATION:The Rustic Cafe
ATTACH;FMTTYPE=image/jpeg:https://delphoschamber.com/wp-content/uploads/2023/08/run-club.jpg
END:VEVENT
BEGIN:VEVENT
DTSTART;TZID=America/New_York:20230929T193000
DTEND;TZID=America/New_York:20230929T223000
DTSTAMP:20260422T055534
CREATED:20230927T160520Z
LAST-MODIFIED:20230927T160521Z
UID:800401-1696015800-1696026600@delphoschamber.com
SUMMARY:Hillbilly Bar Bingo- Delphos Recreation Center
DESCRIPTION:Hillbilly Bar Bingo and Live Music \nFriday\, September 22\, 2023. 7:30p-10:30p. Delphos Recreation Center
URL:https://delphoschamber.com/event/hillbilly-bar-bingo-delphos-recreation-center/
ATTACH;FMTTYPE=image/jpeg:https://delphoschamber.com/wp-content/uploads/2023/09/hillbilly.jpg
END:VEVENT
END:VCALENDAR