BEGIN:VCALENDAR
VERSION:2.0
PRODID:-//Delphos Area Chamber of Commerce - ECPv6.15.20//NONSGML v1.0//EN
CALSCALE:GREGORIAN
METHOD:PUBLISH
X-ORIGINAL-URL:https://delphoschamber.com
X-WR-CALDESC:Events for Delphos Area Chamber of Commerce
REFRESH-INTERVAL;VALUE=DURATION:PT1H
X-Robots-Tag:noindex
X-PUBLISHED-TTL:PT1H
BEGIN:VTIMEZONE
TZID:America/New_York
BEGIN:DAYLIGHT
TZOFFSETFROM:-0500
TZOFFSETTO:-0400
TZNAME:EDT
DTSTART:20220313T070000
END:DAYLIGHT
BEGIN:STANDARD
TZOFFSETFROM:-0400
TZOFFSETTO:-0500
TZNAME:EST
DTSTART:20221106T060000
END:STANDARD
BEGIN:DAYLIGHT
TZOFFSETFROM:-0500
TZOFFSETTO:-0400
TZNAME:EDT
DTSTART:20230312T070000
END:DAYLIGHT
BEGIN:STANDARD
TZOFFSETFROM:-0400
TZOFFSETTO:-0500
TZNAME:EST
DTSTART:20231105T060000
END:STANDARD
BEGIN:DAYLIGHT
TZOFFSETFROM:-0500
TZOFFSETTO:-0400
TZNAME:EDT
DTSTART:20240310T070000
END:DAYLIGHT
BEGIN:STANDARD
TZOFFSETFROM:-0400
TZOFFSETTO:-0500
TZNAME:EST
DTSTART:20241103T060000
END:STANDARD
END:VTIMEZONE
BEGIN:VEVENT
DTSTART;VALUE=DATE:20230301
DTEND;VALUE=DATE:20230302
DTSTAMP:20260422T181959
CREATED:20230301T163612Z
LAST-MODIFIED:20230301T163612Z
UID:6085-1677628800-1677715199@delphoschamber.com
SUMMARY:2023 Season Opening of The Delphos Dairy Hut
DESCRIPTION:Hello! We’ve missed you! We are opening Wednesday March 1st!\nOur hours will be Sunday 12-8:30\nMonday-Thursday 11:00-8:30\nFriday 11-9\nSaturday 11-9\nThese hours worked great for last year with the Ohio weather!\nWe also have the same lunch special at $7 this year Monday-Friday from 11-3:00 pm!\nThe staff is ready to serve 24 flavors of soft serve\, sundaes\, flurries\, shakes\, slushees\, freezes\, 32 flavors of Hershey\, novelties\, and lots of hot food including our famous shredded chicken\, bbq beef\, bbq pork\, hot dogs\, coney dogs\, brats n kraut\, walking tacos\, nachos\, nachos cheese n meat and so much more! This summer we will bring back our ALL-10-BURGERS too! So thank and see you soon
URL:https://delphoschamber.com/event/2023-season-opening-of-the-delphos-dairy-hut/
ATTACH;FMTTYPE=image/jpeg:https://delphoschamber.com/wp-content/uploads/2023/03/Dairy-Hut.jpg
END:VEVENT
BEGIN:VEVENT
DTSTART;TZID=America/New_York:20230304T173000
DTEND;TZID=America/New_York:20230304T220000
DTSTAMP:20260422T181959
CREATED:20230222T151105Z
LAST-MODIFIED:20230222T151106Z
UID:6060-1677951000-1677967200@delphoschamber.com
SUMMARY:Delphos Eagles Designer Purse Bingo- Proceeds to Mike Gallmeier Foundation
DESCRIPTION:MARCH 4TH\, DELPHOS EAGLES DESIGNER PURSE BINGO!\nPROCEDES WILL BE DONATED TO ‘THE MIKE GALLMEIER FOUNDATION’ \nTickets are $30 each. Buy a table of 10 (all at one time) and your table will be reserved at no extra charge. \nChecks must be made out to ‘DELPHOS EAGLES’. \nPlease contact Mike Gallmeier Foundation for Tickets here 
URL:https://delphoschamber.com/event/delphos-eagles-designer-purse-bingo-proceeds-to-mike-gallmeier-foundation/
ATTACH;FMTTYPE=image/jpeg:https://delphoschamber.com/wp-content/uploads/2023/02/Mike.jpg
END:VEVENT
BEGIN:VEVENT
DTSTART;TZID=America/New_York:20230312T100000
DTEND;TZID=America/New_York:20230312T130000
DTSTAMP:20260422T181959
CREATED:20230222T150502Z
LAST-MODIFIED:20230222T150502Z
UID:6057-1678615200-1678626000@delphoschamber.com
SUMMARY:Delphos Canal Commission Boatman's Breakaway Brunch
DESCRIPTION:Boatman’s Breakaway Breakfast Brunch\n\n\n\nSunday\, March 12 from 10am to 1pm at the Delphos Eagles\, 1600 East Fifth Street\, Delphos.\n\n\n\nAll your favorite breakfast brunch foods including biscuits and gravy\, Danish rolls\, breakfast casseroles and much\, much more. Coffee\, juice and water included in ticket price. There will also be a cash bar.\n\n\n\n\n\nTickets: Adults: presale $12. At the door $15. Children 10 and under all tickets $6\n\n\n\nTickets can be purchased at the Delphos Canal Museum\, 241 N Main Street\, Delphos (Thursday 9-noon\, Saturday and Sunday 1-3pm) \, at Ron’s Hair Care or from any Museum Trustee. Tickets will also be available at the door.
URL:https://delphoschamber.com/event/delphos-canal-commission-boatmans-breakaway-brunch/
ATTACH;FMTTYPE=image/jpeg:https://delphoschamber.com/wp-content/uploads/2023/02/Canal.jpg
END:VEVENT
BEGIN:VEVENT
DTSTART;TZID=America/New_York:20230313T080000
DTEND;TZID=America/New_York:20230313T170000
DTSTAMP:20260422T181959
CREATED:20230222T160636Z
LAST-MODIFIED:20230222T160636Z
UID:6074-1678694400-1678726800@delphoschamber.com
SUMMARY:"His Table" Community Meal
DESCRIPTION:You are Welcome at His Table \nWelcome to His Table Community Dinner\, offering a free meal to our community and people in need. \nCome join friends\, neighbors and meet some new people and share in good food and fellowship. \nEvery Other Monday from 6:00PM -7:30PM \nHeahn’s Simply Brewed Coffee Shop and More • 212 N. Main St. Delphos\, OH 45833
URL:https://delphoschamber.com/event/his-table-community-meal-2/
ATTACH;FMTTYPE=image/jpeg:https://delphoschamber.com/wp-content/uploads/2023/02/His-Table.jpg
END:VEVENT
BEGIN:VEVENT
DTSTART;TZID=America/New_York:20230325T170000
DTEND;TZID=America/New_York:20230325T220000
DTSTAMP:20260422T181959
CREATED:20230222T152227Z
LAST-MODIFIED:20230222T152227Z
UID:6065-1679763600-1679781600@delphoschamber.com
SUMMARY:Delphian Social Club Purse Bingo
DESCRIPTION:Delphian Social Club Purse Bingo\n\nDelphos Eagles\nDoors open at 5:00\, Bingo starts at 7:00\nSaturday\, March 25\, 2023\n\nTickets are $30 (includes 20 games of bingo\, door prizes and lite meal)\nIf you purchase 10 tickets you can reserve a table for FREE!\nRaffle tickets\, punch board tickets and 50/50 available to purchase!\n\nPlease contact Jodi Moenter at (419) 296-9561 or any other Delphian member
URL:https://delphoschamber.com/event/delphian-social-club-purse-bingo/
ATTACH;FMTTYPE=image/jpeg:https://delphoschamber.com/wp-content/uploads/2023/02/Purse-Bingo.jpg
END:VEVENT
END:VCALENDAR