BEGIN:VCALENDAR
VERSION:2.0
PRODID:-//Delphos Area Chamber of Commerce - ECPv6.15.20//NONSGML v1.0//EN
CALSCALE:GREGORIAN
METHOD:PUBLISH
X-WR-CALNAME:Delphos Area Chamber of Commerce
X-ORIGINAL-URL:https://delphoschamber.com
X-WR-CALDESC:Events for Delphos Area Chamber of Commerce
REFRESH-INTERVAL;VALUE=DURATION:PT1H
X-Robots-Tag:noindex
X-PUBLISHED-TTL:PT1H
BEGIN:VTIMEZONE
TZID:America/New_York
BEGIN:DAYLIGHT
TZOFFSETFROM:-0500
TZOFFSETTO:-0400
TZNAME:EDT
DTSTART:20220313T070000
END:DAYLIGHT
BEGIN:STANDARD
TZOFFSETFROM:-0400
TZOFFSETTO:-0500
TZNAME:EST
DTSTART:20221106T060000
END:STANDARD
BEGIN:DAYLIGHT
TZOFFSETFROM:-0500
TZOFFSETTO:-0400
TZNAME:EDT
DTSTART:20230312T070000
END:DAYLIGHT
BEGIN:STANDARD
TZOFFSETFROM:-0400
TZOFFSETTO:-0500
TZNAME:EST
DTSTART:20231105T060000
END:STANDARD
BEGIN:DAYLIGHT
TZOFFSETFROM:-0500
TZOFFSETTO:-0400
TZNAME:EDT
DTSTART:20240310T070000
END:DAYLIGHT
BEGIN:STANDARD
TZOFFSETFROM:-0400
TZOFFSETTO:-0500
TZNAME:EST
DTSTART:20241103T060000
END:STANDARD
END:VTIMEZONE
BEGIN:VEVENT
DTSTART;TZID=America/New_York:20230218T170000
DTEND;TZID=America/New_York:20230218T230000
DTSTAMP:20260422T183232
CREATED:20230207T024820Z
LAST-MODIFIED:20230207T164229Z
UID:6024-1676739600-1676761200@delphoschamber.com
SUMMARY:Delphos Chamber Annual Dinner\, The Delphos Derby
DESCRIPTION:It’s back and hot out the gate!\nPlace your bets for the Delphos Derby! \nThe Delphos Area Chamber of Commerce will hold its Annual Chamber Dinner and Awards Ceremony followed by The Delphos Derby on February 18th\, at the Delphos Eagles Aerie #471 (1600 East Fifth Street\, Delphos) from 5pm-11pm.
URL:https://delphoschamber.com/event/delphos-chamber-annual-dinner-the-delphos-derby/
LOCATION:Delphos Eagles Aerie #471\, 1600 East Fifth Street\, Delphos\, Ohio\, 45833
ATTACH;FMTTYPE=image/jpeg:https://delphoschamber.com/wp-content/uploads/2023/02/Chamber-Dinner-Flyer-2023.jpg
END:VEVENT
END:VCALENDAR