BEGIN:VCALENDAR
VERSION:2.0
PRODID:-//Delphos Area Chamber of Commerce - ECPv6.15.20//NONSGML v1.0//EN
CALSCALE:GREGORIAN
METHOD:PUBLISH
X-ORIGINAL-URL:https://delphoschamber.com
X-WR-CALDESC:Events for Delphos Area Chamber of Commerce
REFRESH-INTERVAL;VALUE=DURATION:PT1H
X-Robots-Tag:noindex
X-PUBLISHED-TTL:PT1H
BEGIN:VTIMEZONE
TZID:America/New_York
BEGIN:DAYLIGHT
TZOFFSETFROM:-0500
TZOFFSETTO:-0400
TZNAME:EDT
DTSTART:20230312T070000
END:DAYLIGHT
BEGIN:STANDARD
TZOFFSETFROM:-0400
TZOFFSETTO:-0500
TZNAME:EST
DTSTART:20231105T060000
END:STANDARD
BEGIN:DAYLIGHT
TZOFFSETFROM:-0500
TZOFFSETTO:-0400
TZNAME:EDT
DTSTART:20240310T070000
END:DAYLIGHT
BEGIN:STANDARD
TZOFFSETFROM:-0400
TZOFFSETTO:-0500
TZNAME:EST
DTSTART:20241103T060000
END:STANDARD
BEGIN:DAYLIGHT
TZOFFSETFROM:-0500
TZOFFSETTO:-0400
TZNAME:EDT
DTSTART:20250309T070000
END:DAYLIGHT
BEGIN:STANDARD
TZOFFSETFROM:-0400
TZOFFSETTO:-0500
TZNAME:EST
DTSTART:20251102T060000
END:STANDARD
END:VTIMEZONE
BEGIN:VEVENT
DTSTART;TZID=America/New_York:20240226T170000
DTEND;TZID=America/New_York:20240226T193000
DTSTAMP:20260422T174934
CREATED:20240201T164946Z
LAST-MODIFIED:20240201T165114Z
UID:800517-1708966800-1708975800@delphoschamber.com
SUMMARY:Vantage Open House\, Taste of Vantage 2024
DESCRIPTION:Join us for an evening at Vantage Career Center! We will be opening our doors to Interested Sophomores\, Juniors\, Graduating Seniors\, Adults\, Alumni\, Community Members\, and employers to gain insight into our programs offered\, certifications\, licenses\, college and career connections.  \nOn Monday\, February 26\, 2023 from 5 – 7:30 p.m.  \nYOU can explore each lab\, see student-led demonstrations\, and speak with Instructors and employers about what being part of the Vantage district looks like! FOOD will be available from our amazing local food vendors and Diamond Sponsors. Come Join Us! Bring your Parents\, Families\, and Friends!
URL:https://delphoschamber.com/event/vantage-open-house-taste-of-vantage-2024/
ATTACH;FMTTYPE=image/jpeg:https://delphoschamber.com/wp-content/uploads/2024/02/vantage.jpg
END:VEVENT
BEGIN:VEVENT
DTSTART;TZID=America/New_York:20240226T180000
DTEND;TZID=America/New_York:20240226T193000
DTSTAMP:20260422T174934
CREATED:20240215T144443Z
LAST-MODIFIED:20240215T144834Z
UID:800530-1708970400-1708975800@delphoschamber.com
SUMMARY:Free Community Meal
DESCRIPTION:Free Community Meal \nHaehn’s Simply Brewed • 212 N. Main St.\, Delphos\, OH • 6-7:30 \nJoin us for a night of food and fellowship
URL:https://delphoschamber.com/event/free-community-meal/
ATTACH;FMTTYPE=image/jpeg:https://delphoschamber.com/wp-content/uploads/2024/02/Haehns-3-scaled.jpg
END:VEVENT
BEGIN:VEVENT
DTSTART;TZID=America/New_York:20240301T160000
DTEND;TZID=America/New_York:20240301T190000
DTSTAMP:20260422T174934
CREATED:20240215T164810Z
LAST-MODIFIED:20240215T164811Z
UID:800558-1709308800-1709319600@delphoschamber.com
SUMMARY:Delphos Local Fish Fry Fridays
DESCRIPTION: Delphos Local Fish Fry Fridays \nFebruary 16th – March 29th \nDelphos K of C Hall 1362. 1011 Elida Rd.\, Delphos. (419) 692-7731. 4-7pm or Sold Out. Drive Thru Option. See Website for Details \nAmerican Legion #268. 413 State St.\, Delphos. (419) 692-6756. 4-7pm or Sold Out
URL:https://delphoschamber.com/event/delphos-local-fish-fry-fridays-2/
ATTACH;FMTTYPE=image/jpeg:https://delphoschamber.com/wp-content/uploads/2024/02/Fish-Fry.jpg
END:VEVENT
BEGIN:VEVENT
DTSTART;TZID=America/New_York:20240304T180000
DTEND;TZID=America/New_York:20240304T193000
DTSTAMP:20260422T174934
CREATED:20240215T155421Z
LAST-MODIFIED:20240215T155421Z
UID:800547-1709575200-1709580600@delphoschamber.com
SUMMARY:Free Community Meal
DESCRIPTION:Free Community Meal 1st and 3rd Monday each month. \nHaehn’s Simply Brewed • 212 N. Main St.\, Delphos\, OH • 6-7:30p \nJoin us for a night of food and fellowship \n 
URL:https://delphoschamber.com/event/free-community-meal-2/
ATTACH;FMTTYPE=image/jpeg:https://delphoschamber.com/wp-content/uploads/2024/02/Heahns-March.jpg
END:VEVENT
BEGIN:VEVENT
DTSTART;TZID=America/New_York:20240308T160000
DTEND;TZID=America/New_York:20240308T190000
DTSTAMP:20260422T174934
CREATED:20240215T164853Z
LAST-MODIFIED:20240215T164854Z
UID:800560-1709913600-1709924400@delphoschamber.com
SUMMARY:Delphos Local Fish Fry Fridays
DESCRIPTION: Delphos Local Fish Fry Fridays \nFebruary 16th – March 29th \nDelphos K of C Hall 1362. 1011 Elida Rd.\, Delphos. (419) 692-7731. 4-7pm or Sold Out. Drive Thru Option. See Website for Details \nAmerican Legion #268. 413 State St.\, Delphos. (419) 692-6756. 4-7pm or Sold Out
URL:https://delphoschamber.com/event/delphos-local-fish-fry-fridays-3/
ATTACH;FMTTYPE=image/jpeg:https://delphoschamber.com/wp-content/uploads/2024/02/Fish-Fry.jpg
END:VEVENT
BEGIN:VEVENT
DTSTART;TZID=America/New_York:20240310T083000
DTEND;TZID=America/New_York:20240310T123000
DTSTAMP:20260422T174934
CREATED:20240201T164115Z
LAST-MODIFIED:20240201T164122Z
UID:800508-1710059400-1710073800@delphoschamber.com
SUMMARY:Boatman's Breakaway Breakfast
DESCRIPTION:Delphos Canal Commission \nJoin us for our annual Boatman’s Breakaway fundraiser on Sunday\, March 10th at the Delphos Eagles.  \nCost is $15/person\, 12 & under\, $6\, reservations preferred\, walk-ins $16 at the door.  \nYour one trip breakfast includes your choice of coffee\, milk or orange juice.  \nPlease call 419-692-4496 for reservations\, contact any Trustee or stop in!
URL:https://delphoschamber.com/event/boatmans-breakaway-breakfast/
ATTACH;FMTTYPE=image/jpeg:https://delphoschamber.com/wp-content/uploads/2024/02/boatmans.jpg
END:VEVENT
BEGIN:VEVENT
DTSTART;TZID=America/New_York:20240315T160000
DTEND;TZID=America/New_York:20240315T190000
DTSTAMP:20260422T174934
CREATED:20240215T164945Z
LAST-MODIFIED:20240215T164945Z
UID:800562-1710518400-1710529200@delphoschamber.com
SUMMARY:Delphos Local Fish Fry Fridays
DESCRIPTION: Delphos Local Fish Fry Fridays \nFebruary 16th – March 29th \nDelphos K of C Hall 1362. 1011 Elida Rd.\, Delphos. (419) 692-7731. 4-7pm or Sold Out. Drive Thru Option. See Website for Details \nAmerican Legion #268. 413 State St.\, Delphos. (419) 692-6756. 4-7pm or Sold Out
URL:https://delphoschamber.com/event/delphos-local-fish-fry-fridays-4/
ATTACH;FMTTYPE=image/jpeg:https://delphoschamber.com/wp-content/uploads/2024/02/Fish-Fry.jpg
END:VEVENT
BEGIN:VEVENT
DTSTART;TZID=America/New_York:20240317T150000
DTEND;TZID=America/New_York:20240317T160000
DTSTAMP:20260422T174934
CREATED:20240313T131309Z
LAST-MODIFIED:20240313T131309Z
UID:800604-1710687600-1710691200@delphoschamber.com
SUMMARY:Children's Day Delphos Canal Commission
DESCRIPTION:Join us to learn more about the upcoming total solar eclipse.  \nSunday\, March 17th. 3:00-4:00pm \nWe’ll have activities and information\, fun for the whole family! This free and open to the public.
URL:https://delphoschamber.com/event/childrens-day-delphos-canal-commission/
ATTACH;FMTTYPE=image/jpeg:https://delphoschamber.com/wp-content/uploads/2024/03/Childrens-Day.jpg
END:VEVENT
BEGIN:VEVENT
DTSTART;TZID=America/New_York:20240318T180000
DTEND;TZID=America/New_York:20240318T193000
DTSTAMP:20260422T174934
CREATED:20240215T155526Z
LAST-MODIFIED:20240215T155527Z
UID:800550-1710784800-1710790200@delphoschamber.com
SUMMARY:Free Community Meal
DESCRIPTION:Free Community Meal 1st and 3rd Monday each Month \nHaehn’s Simply Brewed • 212 N. Main St.\, Delphos\, OH • 6-7:30 \nJoin us for a night of food and fellowship
URL:https://delphoschamber.com/event/free-community-meal-3/
ATTACH;FMTTYPE=image/jpeg:https://delphoschamber.com/wp-content/uploads/2024/02/Heahns-March.jpg
END:VEVENT
BEGIN:VEVENT
DTSTART;TZID=America/New_York:20240322T160000
DTEND;TZID=America/New_York:20240322T190000
DTSTAMP:20260422T174934
CREATED:20240215T165408Z
LAST-MODIFIED:20240215T165409Z
UID:800564-1711123200-1711134000@delphoschamber.com
SUMMARY:Delphos Local Fish Fry Fridays
DESCRIPTION: Delphos Local Fish Fry Fridays \nFebruary 16th – March 29th \nDelphos K of C Hall 1362. 1011 Elida Rd.\, Delphos. (419) 692-7731. 4-7pm or Sold Out. Drive Thru Option. See Website for Details \nAmerican Legion #268. 413 State St.\, Delphos. (419) 692-6756. 4-7pm or Sold Out
URL:https://delphoschamber.com/event/delphos-local-fish-fry-fridays-5/
ATTACH;FMTTYPE=image/jpeg:https://delphoschamber.com/wp-content/uploads/2024/02/Fish-Fry.jpg
END:VEVENT
BEGIN:VEVENT
DTSTART;TZID=America/New_York:20240323T100000
DTEND;TZID=America/New_York:20240323T140000
DTSTAMP:20260422T174934
CREATED:20240313T130719Z
LAST-MODIFIED:20240313T130719Z
UID:800596-1711188000-1711202400@delphoschamber.com
SUMMARY:Peak Fitness Grand Opening
DESCRIPTION:Peak Fitness Grand Opening \nMany changes have been made and now is the time for you to seen them!!! Come check out the new & improved Peak Fitness Center! Come meet the new owners and enjoy healthy snacks & door prizes that you won’t want to miss! AND a few lucky winners will win FREE class passes & FREE monthly memberships!!! 
URL:https://delphoschamber.com/event/peak-fitness-grand-opening/
ATTACH;FMTTYPE=image/jpeg:https://delphoschamber.com/wp-content/uploads/2024/03/Peak-Fitness-scaled.jpg
END:VEVENT
BEGIN:VEVENT
DTSTART;TZID=America/New_York:20240325T090000
DTEND;TZID=America/New_York:20240325T223000
DTSTAMP:20260422T174934
CREATED:20240313T131705Z
LAST-MODIFIED:20240313T131705Z
UID:800607-1711357200-1711405800@delphoschamber.com
SUMMARY:Breakfast with the Easter Bunny
DESCRIPTION:
URL:https://delphoschamber.com/event/breakfast-with-the-easter-bunny/
ATTACH;FMTTYPE=image/jpeg:https://delphoschamber.com/wp-content/uploads/2024/03/Breakfast-Bunny.jpg
END:VEVENT
BEGIN:VEVENT
DTSTART;TZID=America/New_York:20240325T170000
DTEND;TZID=America/New_York:20240325T190000
DTSTAMP:20260422T174934
CREATED:20240313T131852Z
LAST-MODIFIED:20240313T131852Z
UID:800610-1711386000-1711393200@delphoschamber.com
SUMMARY:Hop into Spring Vendor Shop
DESCRIPTION:
URL:https://delphoschamber.com/event/hop-into-spring-vendor-shop/
ATTACH;FMTTYPE=image/jpeg:https://delphoschamber.com/wp-content/uploads/2024/03/Vendor-Fari.jpg
END:VEVENT
BEGIN:VEVENT
DTSTART;TZID=America/New_York:20240326T140000
DTEND;TZID=America/New_York:20240326T163000
DTSTAMP:20260422T174934
CREATED:20240215T151642Z
LAST-MODIFIED:20240215T152507Z
UID:800535-1711461600-1711470600@delphoschamber.com
SUMMARY:Mike's Food On Us
DESCRIPTION:‘Mike’s Food On Us’ Drive-Thru \nTuesday\, March 26\, 2024 • 2:30-4:30pm \nDelphos Eagles 1600 E. 5th St.\, Delphos \nRegistration begins at 2:00pm \nOpen to those in need in the Delphos school district. No more than 2 households per vehicle. \nPlease bring valid photo ID and proof of residency. Must be 18 years of age. \nIF ANY QUESTIONS PLEASE DO NOT CALL THE EAGLES! Call Deb Gallmeier 419-302-9349.
URL:https://delphoschamber.com/event/mikes-food-on-us/
ATTACH;FMTTYPE=image/jpeg:https://delphoschamber.com/wp-content/uploads/2024/02/Mikes-March-1.jpg
END:VEVENT
BEGIN:VEVENT
DTSTART;TZID=America/New_York:20240327T170000
DTEND;TZID=America/New_York:20240327T190000
DTSTAMP:20260422T174934
CREATED:20240313T130847Z
LAST-MODIFIED:20240313T130847Z
UID:800598-1711558800-1711566000@delphoschamber.com
SUMMARY:Pictures with the Easter Bunny
DESCRIPTION:The Easter Bunny is coming to At Home Realty!! We will have the Easter Bunny at our office to take photos with the kids on March 27th from 5-7pm! We will have a camera and post all photos online for you\, or you can bring your own camera! Come join us for a Hoppin’ Good Time!
URL:https://delphoschamber.com/event/pictures-with-the-easter-bunny/
ATTACH;FMTTYPE=image/jpeg:https://delphoschamber.com/wp-content/uploads/2024/03/Bunny.jpg
END:VEVENT
BEGIN:VEVENT
DTSTART;TZID=America/New_York:20240329T160000
DTEND;TZID=America/New_York:20240329T190000
DTSTAMP:20260422T174934
CREATED:20240215T165457Z
LAST-MODIFIED:20240215T165457Z
UID:800566-1711728000-1711738800@delphoschamber.com
SUMMARY:Delphos Local Fish Fry Fridays
DESCRIPTION: Delphos Local Fish Fry Fridays \nFebruary 16th – March 29th \nDelphos K of C Hall 1362. 1011 Elida Rd.\, Delphos. (419) 692-7731. 4-7pm or Sold Out. Drive Thru Option. See Website for Details \nAmerican Legion #268. 413 State St.\, Delphos. (419) 692-6756. 4-7pm or Sold Out
URL:https://delphoschamber.com/event/delphos-local-fish-fry-fridays-6/
ATTACH;FMTTYPE=image/jpeg:https://delphoschamber.com/wp-content/uploads/2024/02/Fish-Fry.jpg
END:VEVENT
BEGIN:VEVENT
DTSTART;TZID=America/New_York:20240405T190000
DTEND;TZID=America/New_York:20240405T210000
DTSTAMP:20260422T174934
CREATED:20240102T164748Z
LAST-MODIFIED:20240102T164749Z
UID:800453-1712343600-1712350800@delphoschamber.com
SUMMARY:Night at the Museum
DESCRIPTION:The Delphos Canal Commission Presents \nA Classy Night at the Museum  \nFriday\, April 5\, 2024 • 7-9pm • Delphos Canal Commission\, 241 N. Main St.\, Delphos \n$25 per person\, included appetizers\, drinks and a walk through the museum at your leisure. \nDress in your best vintage clothing and join us for a Night at the Museum.
URL:https://delphoschamber.com/event/night-at-the-museum/
ATTACH;FMTTYPE=image/jpeg:https://delphoschamber.com/wp-content/uploads/2024/01/Night-at-the-Museum.jpg
END:VEVENT
BEGIN:VEVENT
DTSTART;VALUE=DATE:20240406
DTEND;VALUE=DATE:20240407
DTSTAMP:20260422T174934
CREATED:20240118T175237Z
LAST-MODIFIED:20240321T142744Z
UID:800482-1712361600-1712447999@delphoschamber.com
SUMMARY:Solar Eclipse Weekend
DESCRIPTION:TOTAL SOLAR ECLIPSE \nDelphos is in the Path of Totality for the2024 Solar Eclipse\, a ONCE IN A LIFETIME EVENT. Please visit the Schedule of Events Calendar for the Eclipse located on both the Chamber’s Website and Delphos Canal Commission website for list of events\, frequently added to and updated. \nECLIPSE EVENT CALENDAR HERE
URL:https://delphoschamber.com/event/solar-eclipse-weekend/
ATTACH;FMTTYPE=image/jpeg:https://delphoschamber.com/wp-content/uploads/2024/01/Eclipse-Event-Flyer.jpg
END:VEVENT
BEGIN:VEVENT
DTSTART;TZID=America/New_York:20240406T090000
DTEND;TZID=America/New_York:20240406T130000
DTSTAMP:20260422T174934
CREATED:20240321T143626Z
LAST-MODIFIED:20240321T143626Z
UID:800639-1712394000-1712408400@delphoschamber.com
SUMMARY:Delphos Relay For Life Spring Craft and Vendor Show
DESCRIPTION:Saturday\, April 6\, 2024 \nDelphos Jefferson High School • 9a-1pm.
URL:https://delphoschamber.com/event/delphos-relay-for-life-spring-craft-and-vendor-show/
ATTACH;FMTTYPE=image/jpeg:https://delphoschamber.com/wp-content/uploads/2024/03/craft-show-scaled.jpg
END:VEVENT
BEGIN:VEVENT
DTSTART;TZID=America/New_York:20240406T150000
DTEND;TZID=America/New_York:20240406T230000
DTSTAMP:20260422T174934
CREATED:20240321T142515Z
LAST-MODIFIED:20240321T142515Z
UID:800632-1712415600-1712444400@delphoschamber.com
SUMMARY:Total Solar Eclipse Party in Delphos
DESCRIPTION:Come Spend Saturday in Delphos to prepare for the Solar Eclipse on The Lot\, corner of Main and 4th Streets. FREE! NO ENTRY FEE!!\nSaturday\, April 6\, 3pm-11pm: Food trucks including…\nTHE DONUT HOLE\nBEARDED BBQ\nFROG SNEEZE MAC & CHEESE\nTOM’S HOTDOGS\n\nFor the KIDS…\nBOUNCE HOUSES (FREE)\nBLOW-UP OBSTACLE COURSES (FREE)\nMECHANICAL ROCKET SHIP (FREE)\n\nFor the ADULTS…\nNCAA MARCH MADNESS\nALCOHOLIC DRINKS AVAILABLE FOR PURCHASE\n\nBeginning at 7pm: CALLING THE REVERSE RAFFLE NUMBERS\n(We will call numbers every 15 minutes\, with the winners announced at 11pm)\n8pm-11pm: LIVE MUSIC – ADAM WISHER\n8pm: Drawing for BIG RAFFLE ITEMS
URL:https://delphoschamber.com/event/total-solar-eclipse-party-in-delphos/
ATTACH;FMTTYPE=image/jpeg:https://delphoschamber.com/wp-content/uploads/2024/03/Delphian-Party.jpg
END:VEVENT
BEGIN:VEVENT
DTSTART;TZID=America/New_York:20240406T180000
DTEND;TZID=America/New_York:20240406T230000
DTSTAMP:20260422T174934
CREATED:20240201T164402Z
LAST-MODIFIED:20240201T164403Z
UID:800511-1712426400-1712444400@delphoschamber.com
SUMMARY:Big Ticket Item Bingo
DESCRIPTION:The Give Back Program will be hosting a Big Ticket Item Bingo Saturday\, April 6th.  \nTickets are $30 and will include 20 games of bingo with large prize items and light appetizers.  \nTables can be reserved for $10 with purchase of 8 or more tickets.  \nDoors open at 6:00pm with bingo starting at 7:00pm.  \nTickets can be purchased at the At Home Realty office or by contacting Lynn Miller at 419-234-2314 or Kristina Auer at 419-595–5616.
URL:https://delphoschamber.com/event/big-ticket-item-bingo/
ATTACH;FMTTYPE=image/jpeg:https://delphoschamber.com/wp-content/uploads/2024/02/give-back.jpg
END:VEVENT
BEGIN:VEVENT
DTSTART;VALUE=DATE:20240407
DTEND;VALUE=DATE:20240408
DTSTAMP:20260422T174934
CREATED:20240118T175353Z
LAST-MODIFIED:20240321T142712Z
UID:800484-1712448000-1712534399@delphoschamber.com
SUMMARY:Solar Eclipse Weekend
DESCRIPTION:TOTAL SOLAR ECLIPSE \nDelphos is in the Path of Totality for the2024 Solar Eclipse\, a ONCE IN A LIFETIME EVENT. Please visit the Schedule of Events Calendar for the Eclipse located on both the Chamber’s Website and Delphos Canal Commission website for list of events\, frequently added to and updated. \nECLIPSE EVENT CALENDAR HERE
URL:https://delphoschamber.com/event/solar-eclipse-weekend-2/
ATTACH;FMTTYPE=image/jpeg:https://delphoschamber.com/wp-content/uploads/2024/01/Eclipse-Event-Flyer.jpg
END:VEVENT
BEGIN:VEVENT
DTSTART;TZID=America/New_York:20240407T140000
DTEND;TZID=America/New_York:20240407T140000
DTSTAMP:20260422T174934
CREATED:20240201T163831Z
LAST-MODIFIED:20240201T163841Z
UID:800504-1712498400-1712498400@delphoschamber.com
SUMMARY:No Sun Run 5k
DESCRIPTION:NO SUN RUN 5K \nSAVE THE DATE for Sunday April 7th! 2:00PM.  901 Wildcat Lane\, Delphos \nHave you heard? Delphos is in the line of full totality\, which means we will have an influx of people into town to view the Solar Eclipse. \nWhile they’re here\, they might as well have FUN & RUN while they come for the SUN! More details to follow as the date gets closer. \nFollow Facebook Event HERE
URL:https://delphoschamber.com/event/no-sun-run/
ATTACH;FMTTYPE=image/jpeg:https://delphoschamber.com/wp-content/uploads/2024/02/no-sun-run.jpg
END:VEVENT
BEGIN:VEVENT
DTSTART;VALUE=DATE:20240408
DTEND;VALUE=DATE:20240409
DTSTAMP:20260422T174934
CREATED:20240102T164328Z
LAST-MODIFIED:20240102T164329Z
UID:800450-1712534400-1712620799@delphoschamber.com
SUMMARY:Total Solar Eclipse
DESCRIPTION:Delphos is in the Path of Totality for the2024 Solar Eclipse\, a ONCE IN A LIFETIME EVENT. \nPlease visit the Schedule of Events Calendar for the Eclipse located on both the Chamber’s Website and  \nDelphos Canal Commission website for list of events\, frequently added to and updated.  \n 
URL:https://delphoschamber.com/event/total-solar-eclipse/
ATTACH;FMTTYPE=image/jpeg:https://delphoschamber.com/wp-content/uploads/2024/01/Total-Eclipse-screen-advertising.jpg
END:VEVENT
BEGIN:VEVENT
DTSTART;TZID=America/New_York:20240408T073000
DTEND;TZID=America/New_York:20240408T103000
DTSTAMP:20260422T174934
CREATED:20240321T143137Z
LAST-MODIFIED:20240321T143138Z
UID:800636-1712561400-1712572200@delphoschamber.com
SUMMARY:Optimist Eclipse Pancake Breakfast
DESCRIPTION:Come join us for a fresh Pancake and Sausage breakfast before the Eclipse. \nWe will be cooking at the Canal Days Entertainment area across from the War Memorial. 730am- 10:30a. \nWe will be serving sit-down and carry out order for $10 per meal. Coffee and Milk included for sit-down customers.  \nPre-Sale tickets will be available\, message our FB page or reach out to one of the members and we’ll get orders filled.
URL:https://delphoschamber.com/event/optimist-eclipse-pancake-breakfast/
ATTACH;FMTTYPE=image/png:https://delphoschamber.com/wp-content/uploads/2024/03/optimist.png
END:VEVENT
BEGIN:VEVENT
DTSTART;TZID=America/New_York:20240409T180000
DTEND;TZID=America/New_York:20240409T200000
DTSTAMP:20260422T174934
CREATED:20240314T153314Z
LAST-MODIFIED:20240314T153314Z
UID:800616-1712685600-1712692800@delphoschamber.com
SUMMARY:Delphos Fire Association Steak Feed
DESCRIPTION:STEAK FEED!!\nThe Delphos Fire Association will be having their monthly steak feed  from 6 p.m. to 8 p.m. or until sold out at the Fireman’s Club House\,\n911 Lima Avenue. Drive thru only.\nMeals will include steak\, corn\, baked potato and bread. Cost is $10.00.\nOur steak feeds are always the second Tuesday of the month September thru May. We hope to see you there.\nThank You for supporting the Delphos Fire Association.
URL:https://delphoschamber.com/event/delphos-fire-association-steak-feed/
ATTACH;FMTTYPE=image/jpeg:https://delphoschamber.com/wp-content/uploads/2019/10/steak.jpg
END:VEVENT
BEGIN:VEVENT
DTSTART;TZID=America/New_York:20240411T000000
DTEND;TZID=America/New_York:20240411T000000
DTSTAMP:20260422T174934
CREATED:20240102T183920Z
LAST-MODIFIED:20240118T174833Z
UID:800467-1712793600-1712793600@delphoschamber.com
SUMMARY:CHP Beacon of Hope Dinner and Charity Auction
DESCRIPTION:CHP Beacon of Hope Dinner and Charity Auction \nThursday\, April 11\, 2024.  Delphos Eagles. 5:30pm.  \nDinner is free.  RSVP by April 4th.   \nLive and Silent Auction. Proceeds benefit local hospice patients and families. 
URL:https://delphoschamber.com/event/chp-beacon-of-hope-dinner-and-charity-auction/
ATTACH;FMTTYPE=image/jpeg:https://delphoschamber.com/wp-content/uploads/2024/01/Beacon-of-Hope.jpg
END:VEVENT
BEGIN:VEVENT
DTSTART;TZID=America/New_York:20240413T170000
DTEND;TZID=America/New_York:20240413T170000
DTSTAMP:20260422T174934
CREATED:20240110T170347Z
LAST-MODIFIED:20240118T174248Z
UID:800475-1713027600-1713027600@delphoschamber.com
SUMMARY:Wildcat Special- 50th Anniversary
DESCRIPTION:The Delphos Jefferson Athletic Boosters would like to invite our community to the 50th Anniversary of the Wildcat Special  \n Saturday\, April 13\, 2024 •  UNOH Event Center in Lima\, Ohio \nDoors open at 5:00 pm.  \nTickets are $80\, including a meal for two\, silent and live auctions\, a band\, and entertainment!   \nPlease see our Facebook page for more information\, or call Kent Smelser at 419-695-1786 EXT. 414
URL:https://delphoschamber.com/event/wildcat-special-50th-anniversary/
ATTACH;FMTTYPE=image/png:https://delphoschamber.com/wp-content/uploads/2024/01/Wildcat-Traditional.png
END:VEVENT
BEGIN:VEVENT
DTSTART;TZID=America/New_York:20240423T110000
DTEND;TZID=America/New_York:20240423T130000
DTSTAMP:20260422T174934
CREATED:20240424T172455Z
LAST-MODIFIED:20240424T172458Z
UID:800746-1713870000-1713877200@delphoschamber.com
SUMMARY:Delphos Chamber Women in Business\, A Signature Creation
DESCRIPTION: Join the Chamber on Tuesday\, April 23rd at the Willow on Main for an event celebrating Women in Business. Faith\, Food\, Fellowship and Fun will fill the early afternoon as we hear a message from Pastor Lori Bucher and make our own signature candles. Event is limited to 25 guests. A $25 prepaid fee is required to reserve your attendance\, funds go toward candles.\nWe hope you can join us and Celebrate YOU\, a signature creation!
URL:https://delphoschamber.com/event/delphos-chamber-women-in-business-a-signature-creation/
ATTACH;FMTTYPE=image/jpeg:https://delphoschamber.com/wp-content/uploads/2024/03/Women-in-Business-A-Signature-Creation.jpg
END:VEVENT
BEGIN:VEVENT
DTSTART;TZID=America/New_York:20240424T150000
DTEND;TZID=America/New_York:20240424T170000
DTSTAMP:20260422T174934
CREATED:20240424T162811Z
LAST-MODIFIED:20240424T162811Z
UID:800708-1713970800-1713978000@delphoschamber.com
SUMMARY:After School Teen Cafe
DESCRIPTION:It’s Official!!! Our doors will be open for the second season of the Teen Cafe!!!.\nWe are so excited!!! Every Wednesday from 3-5 p.m. starting Oct 18\, 2023\, we will have the Teen Cafe open \nand free to all teens in this and surrounding communities.\nPlease spread the word and let all teens and parents of teens know.
URL:https://delphoschamber.com/event/after-school-teen-cafe/
ATTACH;FMTTYPE=image/jpeg:https://delphoschamber.com/wp-content/uploads/2024/04/Teen-Cafe.jpg
END:VEVENT
END:VCALENDAR