BEGIN:VCALENDAR
VERSION:2.0
PRODID:-//Delphos Area Chamber of Commerce - ECPv6.15.20//NONSGML v1.0//EN
CALSCALE:GREGORIAN
METHOD:PUBLISH
X-WR-CALNAME:Delphos Area Chamber of Commerce
X-ORIGINAL-URL:https://delphoschamber.com
X-WR-CALDESC:Events for Delphos Area Chamber of Commerce
REFRESH-INTERVAL;VALUE=DURATION:PT1H
X-Robots-Tag:noindex
X-PUBLISHED-TTL:PT1H
BEGIN:VTIMEZONE
TZID:America/New_York
BEGIN:DAYLIGHT
TZOFFSETFROM:-0500
TZOFFSETTO:-0400
TZNAME:EDT
DTSTART:20250309T070000
END:DAYLIGHT
BEGIN:STANDARD
TZOFFSETFROM:-0400
TZOFFSETTO:-0500
TZNAME:EST
DTSTART:20251102T060000
END:STANDARD
BEGIN:DAYLIGHT
TZOFFSETFROM:-0500
TZOFFSETTO:-0400
TZNAME:EDT
DTSTART:20260308T070000
END:DAYLIGHT
BEGIN:STANDARD
TZOFFSETFROM:-0400
TZOFFSETTO:-0500
TZNAME:EST
DTSTART:20261101T060000
END:STANDARD
BEGIN:DAYLIGHT
TZOFFSETFROM:-0500
TZOFFSETTO:-0400
TZNAME:EDT
DTSTART:20270314T070000
END:DAYLIGHT
BEGIN:STANDARD
TZOFFSETFROM:-0400
TZOFFSETTO:-0500
TZNAME:EST
DTSTART:20271107T060000
END:STANDARD
END:VTIMEZONE
BEGIN:VEVENT
DTSTART;TZID=America/New_York:20260411T190000
DTEND;TZID=America/New_York:20260411T220000
DTSTAMP:20260421T091752
CREATED:20260319T180924Z
LAST-MODIFIED:20260319T180925Z
UID:802014-1775934000-1775944800@delphoschamber.com
SUMMARY:T and Rich Dueling Pianos
DESCRIPTION:The “T” and Rich Dueling Piano Show is a high-energy traveling dueling piano team. Non-stop audience participation and interaction is the cornerstone of their show!  They encourage the audience to sing-a-long\, clap-a-long\, and submit requests of their favorite songs and artists.  Their world-class dueling piano show itself consists mostly of high-energy party songs delivered with a comic twist.  But there’s even more – their show also includes a seemingly endless slew of comedy routines and novelty numbers. Doors open at 6pm with performance from 7pm-10pm. \nTickets must be pre-purchased.  Visit www.docsdancehall.com for information and ticket reservation. 
URL:https://delphoschamber.com/event/t-and-rich-dueling-pianos/
ATTACH;FMTTYPE=image/webp:https://delphoschamber.com/wp-content/uploads/2025/08/Dueling-Pianos.webp
END:VEVENT
BEGIN:VEVENT
DTSTART;TZID=America/New_York:20260414T180000
DTEND;TZID=America/New_York:20260414T200000
DTSTAMP:20260421T091752
CREATED:20251014T130130Z
LAST-MODIFIED:20251014T130130Z
UID:801691-1776189600-1776196800@delphoschamber.com
SUMMARY:Fire Association Steak Feed
DESCRIPTION:The Delphos Fire Association will be having their monthly steak feed on the 2nd Tuesday of the month from 6 p.m. to 8 p.m. or until sold out at \nThe Fireman’s Club House\, 911 Lima Avenue.\n\n\nMeals will include steak\, corn\, baked potato and bread.\n\n\n\n\n\nCost for dine -in is $15.00.\n\n\n\n\n\nCarry-out will be available – $13.00\, must come in the East doors – there will be no drive thru available.\n\n\n\n\n\nOur steak feeds are always the second Tuesday of the month September thru May. We hope to see you there. \nThank You for supporting the Delphos Fire Association.
URL:https://delphoschamber.com/event/fire-association-steak-feed-7/
ATTACH;FMTTYPE=image/jpeg:https://delphoschamber.com/wp-content/uploads/2019/10/steak.jpg
END:VEVENT
BEGIN:VEVENT
DTSTART;TZID=America/New_York:20260418T170000
DTEND;TZID=America/New_York:20260418T230000
DTSTAMP:20260421T091752
CREATED:20260218T174054Z
LAST-MODIFIED:20260218T174054Z
UID:801966-1776531600-1776553200@delphoschamber.com
SUMMARY:Delphos Jefferson Night at The Races
DESCRIPTION:Come and support our Jefferson Athletes with a night of food\, auctions\, & HORSE RACES!!\nTickets are $100 per couple.
URL:https://delphoschamber.com/event/delphos-jefferson-night-at-the-races/
ATTACH;FMTTYPE=image/jpeg:https://delphoschamber.com/wp-content/uploads/2026/02/Races.jpg
END:VEVENT
BEGIN:VEVENT
DTSTART;TZID=America/New_York:20260425T173000
DTEND;TZID=America/New_York:20260425T210000
DTSTAMP:20260421T091752
CREATED:20260121T161901Z
LAST-MODIFIED:20260121T161902Z
UID:801920-1777138200-1777150800@delphoschamber.com
SUMMARY:Win Big for Autism- A Big Ticket Raffle Fundraiser
DESCRIPTION:Win Big for Autism- A Big Ticket Raffle Fundraiser\n\nDelphos Eagles\n5:30 p.m. Doors Open – Social Time7:00 p.m. – Reverse Raffle StartsIndividual Tickets $35A table of 10 for $360Reverse Raffle • Games of Chance • 50/50\nAn Evening of FUN and COMMUNITY PURPOSE that you DO NOT WANT TO MISS!!\nTo benefit local autism families and inclusive initiatives put on by the Autism Support Squad of Northwest Ohio\n\nPoker Run hosted by Do Right Motorcycle Club\nSign ups at noon\nKickstands up at 1pm.
URL:https://delphoschamber.com/event/win-big-for-autism-a-big-ticket-raffle-fundraiser/
ATTACH;FMTTYPE=image/jpeg:https://delphoschamber.com/wp-content/uploads/2026/01/autism.jpg
END:VEVENT
BEGIN:VEVENT
DTSTART;TZID=America/New_York:20260426T110000
DTEND;TZID=America/New_York:20260426T133000
DTSTAMP:20260421T091752
CREATED:20260305T165443Z
LAST-MODIFIED:20260305T165443Z
UID:801982-1777201200-1777210200@delphoschamber.com
SUMMARY:Kiwanis Chicken BBQ
DESCRIPTION:Chicken BBQ Event Ticket Sales Now Open.  \nThis year’s event will be presale only\, with tickets not available for sale on the day of the event.  \nWe recommend prompt purchase to avoid disappointment\, as only 1\,500 tickets will be sold.  \nYou can buy tickets at Westrich Furniture or through Kiwanis members. Deadline to purchase tickets is April 15.
URL:https://delphoschamber.com/event/kiwanis-chicken-bbq-2/
ATTACH;FMTTYPE=image/jpeg:https://delphoschamber.com/wp-content/uploads/2026/03/Kiwanis.jpg
END:VEVENT
BEGIN:VEVENT
DTSTART;TZID=America/New_York:20260501T180000
DTEND;TZID=America/New_York:20260501T230000
DTSTAMP:20260421T091752
CREATED:20260121T163823Z
LAST-MODIFIED:20260121T163823Z
UID:801929-1777658400-1777676400@delphoschamber.com
SUMMARY:Men's Night Out BINGO Event
DESCRIPTION:No purses here! We’re all about testosterone and chrome!  \nPower tools\, lawn equipment\, spirits\, grilling items\, meat\, recliners\, outdoor furniture and more!  \nGet your group together for a great night! \nHosted by The Delphos Chamber and Delphos Knights of Columbus \nFriday\, May 1st • 6:00pm \n$30 per men’s ticket. $40 per woman’s ticket. OR reserve a table of 8 for $250 \nOpen to the Public (all welcome) \nCall or email the Chamber to reserve your tickets! 419-695-1771 \nDonations appreciated to help keep this event a success!  \nPlease help spread the word to family\, friends\, colleagues and employees.  \n** All proceeds go toward Delphos Beautification both downtown and Delphos Signage***
URL:https://delphoschamber.com/event/mens-night-out-bingo-event-3/
ATTACH;FMTTYPE=image/jpeg:https://delphoschamber.com/wp-content/uploads/2026/01/Flyer.jpg
END:VEVENT
BEGIN:VEVENT
DTSTART;TZID=America/New_York:20260512T180000
DTEND;TZID=America/New_York:20260512T200000
DTSTAMP:20260421T091752
CREATED:20251014T130221Z
LAST-MODIFIED:20251014T130221Z
UID:801693-1778608800-1778616000@delphoschamber.com
SUMMARY:Fire Association Steak Feed
DESCRIPTION:The Delphos Fire Association will be having their monthly steak feed on the 2nd Tuesday of the month from 6 p.m. to 8 p.m. or until sold out at \nThe Fireman’s Club House\, 911 Lima Avenue.\n\n\nMeals will include steak\, corn\, baked potato and bread.\n\n\n\n\n\nCost for dine -in is $15.00.\n\n\n\n\n\nCarry-out will be available – $13.00\, must come in the East doors – there will be no drive thru available.\n\n\n\n\n\nOur steak feeds are always the second Tuesday of the month September thru May. We hope to see you there. \nThank You for supporting the Delphos Fire Association.
URL:https://delphoschamber.com/event/fire-association-steak-feed-8/
ATTACH;FMTTYPE=image/jpeg:https://delphoschamber.com/wp-content/uploads/2019/10/steak.jpg
END:VEVENT
BEGIN:VEVENT
DTSTART;TZID=America/New_York:20260513T113000
DTEND;TZID=America/New_York:20260513T130000
DTSTAMP:20260421T091752
CREATED:20260415T175554Z
LAST-MODIFIED:20260415T175555Z
UID:802040-1778671800-1778677200@delphoschamber.com
SUMMARY:Man Your Business- lead tHIS way
DESCRIPTION:Join the Chamber for \nMan Your Business- lead tHIS way \nMen’s Faith & Fellowship Event \nWednesday\, May 13\, 2025.  The Delphos Club\, 225 N. Main St.\, Delphos. 11:30a-1:00p. \nMessage presented by David To\, Trinity Global Methodist Church. \nCatered/Sponsored by The Meadows of Delphos
URL:https://delphoschamber.com/event/man-your-business-lead-this-way/
ATTACH;FMTTYPE=application/pdf:https://delphoschamber.com/wp-content/uploads/2026/04/Man-Your-Business-Flyer.pdf
END:VEVENT
BEGIN:VEVENT
DTSTART;TZID=America/New_York:20260517T130000
DTEND;TZID=America/New_York:20260517T150000
DTSTAMP:20260421T091752
CREATED:20260319T173641Z
LAST-MODIFIED:20260319T173641Z
UID:801999-1779022800-1779030000@delphoschamber.com
SUMMARY:Afternoon Tea Party @ Doc's Dance Hall
DESCRIPTION:Join us for a fun afternoon tea party to celebrate Delphos’ 175th anniversary! \nWe will have tea\, finger foods\, cake and a presentation by the Healthy Nest. \nArt for All will also join us with ceramics for purchase. Afternoon Tea starts at 1:00\, wear your best hat and gloves for a fancy afternoon out. \nThis event will be at Doc’s Dance Hall and suggested donation is $15 per person.
URL:https://delphoschamber.com/event/afternoon-tea-party-docs-dance-hall/
ATTACH;FMTTYPE=image/jpeg:https://delphoschamber.com/wp-content/uploads/2026/03/Tea-Party.jpg
END:VEVENT
BEGIN:VEVENT
DTSTART;TZID=America/New_York:20260526T143000
DTEND;TZID=America/New_York:20260526T160000
DTSTAMP:20260421T091752
CREATED:20260305T165156Z
LAST-MODIFIED:20260305T165157Z
UID:801980-1779805800-1779811200@delphoschamber.com
SUMMARY:Mike's Food on US
DESCRIPTION:‘Mike’s Food On Us’ Drive-Thru \nTuesday\, March 24\, 2026 • 2:30-4:30pm \nDelphos Eagles 1600 E. 5th St.\, Delphos \nRegistration begins at 1:30pm \nOpen to those in need in the Delphos school district. No more than 2 households per vehicle. \nPlease bring valid photo ID and proof of residency. Must be 18 years of age. \nIF ANY QUESTIONS PLEASE DO NOT CALL THE EAGLES! Call Deb Gallmeier 419-302-9349.
URL:https://delphoschamber.com/event/mikes-food-on-us-8/
ATTACH;FMTTYPE=image/jpeg:https://delphoschamber.com/wp-content/uploads/2026/03/Mike-May.jpg
END:VEVENT
BEGIN:VEVENT
DTSTART;TZID=America/New_York:20260609T140000
DTEND;TZID=America/New_York:20260609T150000
DTSTAMP:20260421T091752
CREATED:20260319T180342Z
LAST-MODIFIED:20260319T180342Z
UID:802011-1781013600-1781017200@delphoschamber.com
SUMMARY:Symphony Storytime
DESCRIPTION:Celebrate the 250th Anniversary of the United States of America with our Patriotic Pops story time program! \nDelphos Public Library \nJune 9th. 2:00pm. 
URL:https://delphoschamber.com/event/symphony-storytime-3/
ATTACH;FMTTYPE=image/jpeg:https://delphoschamber.com/wp-content/uploads/2026/03/Symphony-2.jpg
END:VEVENT
END:VCALENDAR