BEGIN:VCALENDAR
VERSION:2.0
PRODID:-//Delphos Area Chamber of Commerce - ECPv6.15.20//NONSGML v1.0//EN
CALSCALE:GREGORIAN
METHOD:PUBLISH
X-WR-CALNAME:Delphos Area Chamber of Commerce
X-ORIGINAL-URL:https://delphoschamber.com
X-WR-CALDESC:Events for Delphos Area Chamber of Commerce
REFRESH-INTERVAL;VALUE=DURATION:PT1H
X-Robots-Tag:noindex
X-PUBLISHED-TTL:PT1H
BEGIN:VTIMEZONE
TZID:America/New_York
BEGIN:DAYLIGHT
TZOFFSETFROM:-0500
TZOFFSETTO:-0400
TZNAME:EDT
DTSTART:20240310T070000
END:DAYLIGHT
BEGIN:STANDARD
TZOFFSETFROM:-0400
TZOFFSETTO:-0500
TZNAME:EST
DTSTART:20241103T060000
END:STANDARD
BEGIN:DAYLIGHT
TZOFFSETFROM:-0500
TZOFFSETTO:-0400
TZNAME:EDT
DTSTART:20250309T070000
END:DAYLIGHT
BEGIN:STANDARD
TZOFFSETFROM:-0400
TZOFFSETTO:-0500
TZNAME:EST
DTSTART:20251102T060000
END:STANDARD
BEGIN:DAYLIGHT
TZOFFSETFROM:-0500
TZOFFSETTO:-0400
TZNAME:EDT
DTSTART:20260308T070000
END:DAYLIGHT
BEGIN:STANDARD
TZOFFSETFROM:-0400
TZOFFSETTO:-0500
TZNAME:EST
DTSTART:20261101T060000
END:STANDARD
END:VTIMEZONE
BEGIN:VEVENT
DTSTART;TZID=America/New_York:20250810T180000
DTEND;TZID=America/New_York:20250810T180000
DTSTAMP:20260421T212412
CREATED:20250512T153749Z
LAST-MODIFIED:20250512T153811Z
UID:801428-1754848800-1754848800@delphoschamber.com
SUMMARY:Delphos Rotary Music in the Park Series
DESCRIPTION:The Rotary Club of Delphos and partners present the 2025 Music in the Park Series \n2nd and 4th Sundays of the Month June-August \nHanser Family Pavilion\, Stadium Park\, Delphos. 6:00pm
URL:https://delphoschamber.com/event/delphos-rotary-music-in-the-park-series-11/
ATTACH;FMTTYPE=image/jpeg:https://delphoschamber.com/wp-content/uploads/2025/05/music.jpg
END:VEVENT
BEGIN:VEVENT
DTSTART;TZID=America/New_York:20250811T160000
DTEND;TZID=America/New_York:20250811T170000
DTSTAMP:20260421T212412
CREATED:20250717T160908Z
LAST-MODIFIED:20250717T160908Z
UID:801604-1754928000-1754931600@delphoschamber.com
SUMMARY:Delphos Public Library Playdate
DESCRIPTION:It’s the DOG DAYS of summer at this dog themed play program. \nCome meet and hangout with other families to make new friends and have fun. All activities will be provided by the library. \nMonday\, August 11th 4-5pm. \nDelphos Public Library 309 W. 2nd St.\, Delphos
URL:https://delphoschamber.com/event/delphos-public-library-playdate/
ATTACH;FMTTYPE=image/jpeg:https://delphoschamber.com/wp-content/uploads/2025/07/lilbrary.jpg
END:VEVENT
BEGIN:VEVENT
DTSTART;TZID=America/New_York:20250813T180000
DTEND;TZID=America/New_York:20250813T200000
DTSTAMP:20260421T212412
CREATED:20250717T151905Z
LAST-MODIFIED:20250717T151906Z
UID:801552-1755108000-1755115200@delphoschamber.com
SUMMARY:Mike Gallmeier Foundation Back to School Drive
DESCRIPTION:Back to School Supplies Drive. Sponsored by: The Mike Gallmeier Foundation\, Bryan Weimerskirch-State Farm\, Delphos Family Dentistry. \nWednesday\, August 13th\, 2025 from 6-8 at Stadium Park. \nThis drive is open to all pupils in the Delphos School District. Participants will need to show proof of residency (License and utility bill). This drive is on a first come first serve basis. This will be a supplemental distribution to supply some of the basic needed supplies for all grade levels.
URL:https://delphoschamber.com/event/mike-gallmeier-foundation-back-to-school-drive/
ATTACH;FMTTYPE=image/jpeg:https://delphoschamber.com/wp-content/uploads/2025/07/Back-to-school.jpg
END:VEVENT
BEGIN:VEVENT
DTSTART;TZID=America/New_York:20250814T100000
DTEND;TZID=America/New_York:20250814T130000
DTSTAMP:20260421T212412
CREATED:20250717T160237Z
LAST-MODIFIED:20250717T160237Z
UID:801595-1755165600-1755176400@delphoschamber.com
SUMMARY:Milk & Giggles
DESCRIPTION:Milk and Giggles — a cozy\, connection-focused playgroup for parents and their little ones in Delphos Ohio!Whether you’re a new parent navigating feeding journeys\, looking for support\, or just want a warm place to laugh\, vent\, and play — Milk and Giggles is for you. Hosted by a lactation-informed occupational therapist\, this group is all about community\, developmentally supportive play\, and real-life parenting.Come as you are\, bring your baby\, and let’s build something beautiful together — one giggle at a time.This group will replace the Infant support group originally once a month\, to better serve the needs of the community Follow us on Facebook for updates and feel free to tag a friend who’d love this! 
URL:https://delphoschamber.com/event/milk-giggles-9/
ATTACH;FMTTYPE=image/jpeg:https://delphoschamber.com/wp-content/uploads/2025/05/Milk-Giggles.jpg
END:VEVENT
BEGIN:VEVENT
DTSTART;TZID=America/New_York:20250814T160000
DTEND;TZID=America/New_York:20250814T180000
DTSTAMP:20260421T212412
CREATED:20250424T134127Z
LAST-MODIFIED:20250424T134127Z
UID:801340-1755187200-1755194400@delphoschamber.com
SUMMARY:Downtown Delphos Farmers Market
DESCRIPTION:Downtown Delphos Farmers Market \nMarket and Youth Literacy Day with Delphos Public Library and Johnny Appleseed Metropark \nThe Lot\, Corner of 4th & Main St.\, Delphos.\nJune – August on the 2nd and 4th Thursdays
URL:https://delphoschamber.com/event/downtown-delphos-farmers-market-10/
ATTACH;FMTTYPE=image/jpeg:https://delphoschamber.com/wp-content/uploads/2025/04/Market-Logo.jpg
END:VEVENT
BEGIN:VEVENT
DTSTART;TZID=America/New_York:20250814T160000
DTEND;TZID=America/New_York:20250814T180000
DTSTAMP:20260421T212412
CREATED:20250610T150155Z
LAST-MODIFIED:20250610T150155Z
UID:801488-1755187200-1755194400@delphoschamber.com
SUMMARY:Downtown Delphos Business Block Party
DESCRIPTION:Downtown Delphos is throwing a Block Party for you! Take a stroll downtown and see what “side dishes” of summer sales\, promotions\, giveaways\, raffles and family fun are being offered by our local downtown businesses and organizations. \n4-6 PM Thursday June 12th • July 10th • August 14th \nDon’t forget to visit the Downtown Delphos Farmers Market on the corner of 4th & Main during the Downtown Delphos Business Block Party! 
URL:https://delphoschamber.com/event/downtown-delphos-business-block-party-6/
ATTACH;FMTTYPE=image/jpeg:https://delphoschamber.com/wp-content/uploads/2025/06/Block-Party.jpg
END:VEVENT
BEGIN:VEVENT
DTSTART;TZID=America/New_York:20250814T193000
DTEND;TZID=America/New_York:20250814T210000
DTSTAMP:20260421T212412
CREATED:20250717T155440Z
LAST-MODIFIED:20250717T155441Z
UID:801581-1755199800-1755205200@delphoschamber.com
SUMMARY:Delphos Running Club
DESCRIPTION:Welcome to the Delphos Running Club #runforareason! This is NOT a race club. The purpose is to exercise\, socialize (why we start & end at the Rustic) and give back to our community. Each 5k (3.1) run/walk\, which will start from the Rustic Café each Thursday at 7:30pm from April to September\, we will have a donation canister available for you to make donations. The DRC is a 501(c)3 nonprofit organization so your donations are tax deductible! Each month we will decide on a new charitable organization. Since 2014\, we donated over $50\,000 to LOCAL charities!\n\n\nThis is a FREE running club. Most running clubs have annual dues of $15 – $100 per year. Instead\, we want our “annual dues” to go to charity. There is no obligation to donate if you participate.\n\n\nNot only is it free to be in the club\, but after your 5th run/walk you get a FREE shirt! Our shirt features our purpose\, to run for a reason\, and logos from our wonderful sponsors. If your business is interested in sponsoring\, please send a message via Facebook. 
URL:https://delphoschamber.com/event/delphos-running-club-33/
ATTACH;FMTTYPE=image/jpeg:https://delphoschamber.com/wp-content/uploads/2025/03/Delphos-Run-CLub.jpg
END:VEVENT
BEGIN:VEVENT
DTSTART;TZID=America/New_York:20250816T140000
DTEND;TZID=America/New_York:20250816T230000
DTSTAMP:20260421T212412
CREATED:20250717T153453Z
LAST-MODIFIED:20250717T153453Z
UID:801567-1755352800-1755385200@delphoschamber.com
SUMMARY:Do-Right Motorcycle Club 20 year Celebration
DESCRIPTION:Live music\, Food\, Bike Games\, 50-50 drawing\, Prize Raffles \nSaturday\, August 16th. 2pm \nThe Clubhouse 807 Ohio St.\, Delphos
URL:https://delphoschamber.com/event/do-right-motorcycle-club-20-year-celebration/
ATTACH;FMTTYPE=image/jpeg:https://delphoschamber.com/wp-content/uploads/2025/07/Do-right.jpg
END:VEVENT
BEGIN:VEVENT
DTSTART;TZID=America/New_York:20250821T100000
DTEND;TZID=America/New_York:20250821T130000
DTSTAMP:20260421T212412
CREATED:20250717T160326Z
LAST-MODIFIED:20250717T160326Z
UID:801597-1755770400-1755781200@delphoschamber.com
SUMMARY:Milk & Giggles
DESCRIPTION:Milk and Giggles — a cozy\, connection-focused playgroup for parents and their little ones in Delphos Ohio!Whether you’re a new parent navigating feeding journeys\, looking for support\, or just want a warm place to laugh\, vent\, and play — Milk and Giggles is for you. Hosted by a lactation-informed occupational therapist\, this group is all about community\, developmentally supportive play\, and real-life parenting.Come as you are\, bring your baby\, and let’s build something beautiful together — one giggle at a time.This group will replace the Infant support group originally once a month\, to better serve the needs of the community Follow us on Facebook for updates and feel free to tag a friend who’d love this! 
URL:https://delphoschamber.com/event/milk-giggles-10/
ATTACH;FMTTYPE=image/jpeg:https://delphoschamber.com/wp-content/uploads/2025/05/Milk-Giggles.jpg
END:VEVENT
BEGIN:VEVENT
DTSTART;TZID=America/New_York:20250821T193000
DTEND;TZID=America/New_York:20250821T210000
DTSTAMP:20260421T212412
CREATED:20250717T155542Z
LAST-MODIFIED:20250717T155542Z
UID:801583-1755804600-1755810000@delphoschamber.com
SUMMARY:Delphos Running Club #RunforaReason
DESCRIPTION:Welcome to the Delphos Running Club #runforareason! This is NOT a race club. The purpose is to exercise\, socialize (why we start & end at the Rustic) and give back to our community. Each 5k (3.1) run/walk\, which will start from the Rustic Café each Thursday at 7:30pm from April to September\, we will have a donation canister available for you to make donations. The DRC is a 501(c)3 nonprofit organization so your donations are tax deductible! Each month we will decide on a new charitable organization. Since 2014\, we donated over $50\,000 to LOCAL charities!\n\n\nThis is a FREE running club. Most running clubs have annual dues of $15 – $100 per year. Instead\, we want our “annual dues” to go to charity. There is no obligation to donate if you participate.\n\n\nNot only is it free to be in the club\, but after your 5th run/walk you get a FREE shirt! Our shirt features our purpose\, to run for a reason\, and logos from our wonderful sponsors. If your business is interested in sponsoring\, please send a message via Facebook. 
URL:https://delphoschamber.com/event/delphos-running-club-runforareason-19/
ATTACH;FMTTYPE=image/jpeg:https://delphoschamber.com/wp-content/uploads/2025/03/Delphos-Run-CLub.jpg
END:VEVENT
BEGIN:VEVENT
DTSTART;TZID=America/New_York:20250824T180000
DTEND;TZID=America/New_York:20250824T180000
DTSTAMP:20260421T212412
CREATED:20250512T153855Z
LAST-MODIFIED:20250512T153903Z
UID:801430-1756058400-1756058400@delphoschamber.com
SUMMARY:Delphos Rotary Music in the Park Series
DESCRIPTION:The Rotary Club of Delphos and partners present the 2025 Music in the Park Series \n2nd and 4th Sundays of the Month June-August \nHanser Family Pavilion\, Stadium Park\, Delphos. 6:00pm
URL:https://delphoschamber.com/event/delphos-rotary-music-in-the-park-series-12/
ATTACH;FMTTYPE=image/jpeg:https://delphoschamber.com/wp-content/uploads/2025/05/music.jpg
END:VEVENT
BEGIN:VEVENT
DTSTART;TZID=America/New_York:20250828T080000
DTEND;TZID=America/New_York:20250828T170000
DTSTAMP:20260421T212412
CREATED:20250717T155638Z
LAST-MODIFIED:20250717T155639Z
UID:801585-1756368000-1756400400@delphoschamber.com
SUMMARY:Delphos Running Club #RunforaReason
DESCRIPTION:Welcome to the Delphos Running Club #runforareason! This is NOT a race club. The purpose is to exercise\, socialize (why we start & end at the Rustic) and give back to our community. Each 5k (3.1) run/walk\, which will start from the Rustic Café each Thursday at 7:30pm from April to September\, we will have a donation canister available for you to make donations. The DRC is a 501(c)3 nonprofit organization so your donations are tax deductible! Each month we will decide on a new charitable organization. Since 2014\, we donated over $50\,000 to LOCAL charities!\n\n\nThis is a FREE running club. Most running clubs have annual dues of $15 – $100 per year. Instead\, we want our “annual dues” to go to charity. There is no obligation to donate if you participate.\n\n\nNot only is it free to be in the club\, but after your 5th run/walk you get a FREE shirt! Our shirt features our purpose\, to run for a reason\, and logos from our wonderful sponsors. If your business is interested in sponsoring\, please send a message via Facebook. 
URL:https://delphoschamber.com/event/delphos-running-club-runforareason-20/
ATTACH;FMTTYPE=image/jpeg:https://delphoschamber.com/wp-content/uploads/2025/03/Delphos-Run-CLub.jpg
END:VEVENT
BEGIN:VEVENT
DTSTART;TZID=America/New_York:20250828T100000
DTEND;TZID=America/New_York:20250828T130000
DTSTAMP:20260421T212412
CREATED:20250717T160415Z
LAST-MODIFIED:20250717T160415Z
UID:801599-1756375200-1756386000@delphoschamber.com
SUMMARY:Milk & Giggles
DESCRIPTION:Milk and Giggles — a cozy\, connection-focused playgroup for parents and their little ones in Delphos Ohio!Whether you’re a new parent navigating feeding journeys\, looking for support\, or just want a warm place to laugh\, vent\, and play — Milk and Giggles is for you. Hosted by a lactation-informed occupational therapist\, this group is all about community\, developmentally supportive play\, and real-life parenting.Come as you are\, bring your baby\, and let’s build something beautiful together — one giggle at a time.This group will replace the Infant support group originally once a month\, to better serve the needs of the community The first group will begin Thursday\, June 5th!Follow us on Facebook for updates and feel free to tag a friend who’d love this! 
URL:https://delphoschamber.com/event/milk-giggles-11/
ATTACH;FMTTYPE=image/jpeg:https://delphoschamber.com/wp-content/uploads/2025/05/Milk-Giggles.jpg
END:VEVENT
BEGIN:VEVENT
DTSTART;TZID=America/New_York:20250828T160000
DTEND;TZID=America/New_York:20250828T180000
DTSTAMP:20260421T212412
CREATED:20250424T134215Z
LAST-MODIFIED:20250424T134215Z
UID:801342-1756396800-1756404000@delphoschamber.com
SUMMARY:Downtown Delphos Farmers Market
DESCRIPTION:Downtown Delphos Farmers Market \nThe Lot\, Corner of 4th & Main St.\, Delphos.\nJune – August on the 2nd and 4th Thursdays
URL:https://delphoschamber.com/event/downtown-delphos-farmers-market-11/
ATTACH;FMTTYPE=image/jpeg:https://delphoschamber.com/wp-content/uploads/2025/04/Market-Logo.jpg
END:VEVENT
BEGIN:VEVENT
DTSTART;TZID=America/New_York:20250906T083000
DTEND;TZID=America/New_York:20250906T150000
DTSTAMP:20260421T212412
CREATED:20250829T152807Z
LAST-MODIFIED:20250829T152807Z
UID:801637-1757147400-1757170800@delphoschamber.com
SUMMARY:Canal Clean Up
DESCRIPTION:Join us in getting the canal ready for Canal Days! Meet behind the Canal museum at 8:30 \nand we’ll get you everything you need to help keep our community looking good.
URL:https://delphoschamber.com/event/canal-clean-up-2/
ATTACH;FMTTYPE=image/jpeg:https://delphoschamber.com/wp-content/uploads/2025/06/Canal-Cleanup.jpg
END:VEVENT
BEGIN:VEVENT
DTSTART;VALUE=DATE:20250911
DTEND;VALUE=DATE:20250915
DTSTAMP:20260421T212412
CREATED:20250512T162746Z
LAST-MODIFIED:20250829T152536Z
UID:801449-1757548800-1757894399@delphoschamber.com
SUMMARY:Delphos Canal Days
DESCRIPTION:Delphos Canal Days \nSeptember 11th-14th. \nPlease visit the website and Facebook page for updates and event information
URL:https://delphoschamber.com/event/delphos-canal-days-5/
ATTACH;FMTTYPE=image/jpeg:https://delphoschamber.com/wp-content/uploads/2025/05/Event-Flyer.jpg
END:VEVENT
BEGIN:VEVENT
DTSTART;TZID=America/New_York:20250911T100000
DTEND;TZID=America/New_York:20250911T130000
DTSTAMP:20260421T212412
CREATED:20250829T161136Z
LAST-MODIFIED:20250829T161136Z
UID:801662-1757584800-1757595600@delphoschamber.com
SUMMARY:Milk & Giggles
DESCRIPTION:Milk and Giggles — a cozy\, connection-focused playgroup for parents and their little ones in Delphos Ohio!Whether you’re a new parent navigating feeding journeys\, looking for support\, or just want a warm place to laugh\, vent\, and play — Milk and Giggles is for you. Hosted by a lactation-informed occupational therapist\, this group is all about community\, developmentally supportive play\, and real-life parenting.Come as you are\, bring your baby\, and let’s build something beautiful together — one giggle at a time.This group will replace the Infant support group originally once a month\, to better serve the needs of the community Follow us on Facebook for updates and feel free to tag a friend who’d love this! 
URL:https://delphoschamber.com/event/milk-giggles-12/
ATTACH;FMTTYPE=image/jpeg:https://delphoschamber.com/wp-content/uploads/2025/05/Milk-Giggles.jpg
END:VEVENT
BEGIN:VEVENT
DTSTART;TZID=America/New_York:20250911T170000
DTEND;TZID=America/New_York:20250911T210000
DTSTAMP:20260421T212412
CREATED:20250717T161711Z
LAST-MODIFIED:20250717T161712Z
UID:801607-1757610000-1757624400@delphoschamber.com
SUMMARY:Delphos Canal Days "The Toast"
DESCRIPTION:DELPHOS CANAL DAYS INVITES YOU TO \n“THE TOAST” \nThe Toast takes place Thursday evening and is the official kick-off to Canal Days Weekend! \nThe Toast showcases a full line of amazing wines\, wonderful hors d’oeuvres from our local bars and restaurants and stage entertainment. \nThe 2025 theme is “Under the Big Top” a vintage circus featuring entertainment from Royal Rouge Circus. \nRegistrations deadline is September 5th. \nPlease send names of attendees and payment to: \nDelphos Canal Days\, 310 N. Main St. Delphos\, OH 45833 \nDon’t forget to bring extra $ The Reverse Raffle.
URL:https://delphoschamber.com/event/delphos-canal-days-the-toast/
ATTACH;FMTTYPE=image/jpeg:https://delphoschamber.com/wp-content/uploads/2025/07/The-Toast-Invite.jpg
END:VEVENT
BEGIN:VEVENT
DTSTART;TZID=America/New_York:20250918T100000
DTEND;TZID=America/New_York:20250918T130000
DTSTAMP:20260421T212412
CREATED:20250829T161213Z
LAST-MODIFIED:20250829T161213Z
UID:801664-1758189600-1758200400@delphoschamber.com
SUMMARY:Milk & Giggles
DESCRIPTION:Milk and Giggles — a cozy\, connection-focused playgroup for parents and their little ones in Delphos Ohio!Whether you’re a new parent navigating feeding journeys\, looking for support\, or just want a warm place to laugh\, vent\, and play — Milk and Giggles is for you. Hosted by a lactation-informed occupational therapist\, this group is all about community\, developmentally supportive play\, and real-life parenting.Come as you are\, bring your baby\, and let’s build something beautiful together — one giggle at a time.This group will replace the Infant support group originally once a month\, to better serve the needs of the community Follow us on Facebook for updates and feel free to tag a friend who’d love this! 
URL:https://delphoschamber.com/event/milk-giggles-13/
END:VEVENT
BEGIN:VEVENT
DTSTART;TZID=America/New_York:20250925T100000
DTEND;TZID=America/New_York:20250925T130000
DTSTAMP:20260421T212412
CREATED:20250829T161247Z
LAST-MODIFIED:20250829T161247Z
UID:801666-1758794400-1758805200@delphoschamber.com
SUMMARY:Milk & Giggles
DESCRIPTION:Milk and Giggles — a cozy\, connection-focused playgroup for parents and their little ones in Delphos Ohio!Whether you’re a new parent navigating feeding journeys\, looking for support\, or just want a warm place to laugh\, vent\, and play — Milk and Giggles is for you. Hosted by a lactation-informed occupational therapist\, this group is all about community\, developmentally supportive play\, and real-life parenting.Come as you are\, bring your baby\, and let’s build something beautiful together — one giggle at a time.This group will replace the Infant support group originally once a month\, to better serve the needs of the community Follow us on Facebook for updates and feel free to tag a friend who’d love this! 
URL:https://delphoschamber.com/event/milk-giggles-14/
ATTACH;FMTTYPE=image/jpeg:https://delphoschamber.com/wp-content/uploads/2025/05/Milk-Giggles.jpg
END:VEVENT
BEGIN:VEVENT
DTSTART;TZID=America/New_York:20251014T180000
DTEND;TZID=America/New_York:20251014T200000
DTSTAMP:20260421T212412
CREATED:20251014T125637Z
LAST-MODIFIED:20251014T125638Z
UID:801679-1760464800-1760472000@delphoschamber.com
SUMMARY:Fire Association Steak Feed
DESCRIPTION:The Delphos Fire Association will be having their monthly steak feed on the 2nd Tuesday of the month from 6 p.m. to 8 p.m. or until sold out at \nThe Fireman’s Club House\, 911 Lima Avenue.\n\n\nMeals will include steak\, corn\, baked potato and bread.\n\n\n\n\n\nCost for dine -in is $15.00.\n\n\n\n\n\nCarry-out will be available – $13.00\, must come in the East doors – there will be no drive thru available.\n\n\n\n\n\nOur steak feeds are always the second Tuesday of the month September thru May. We hope to see you there. \nThank You for supporting the Delphos Fire Association.
URL:https://delphoschamber.com/event/fire-association-steak-feed/
ATTACH;FMTTYPE=image/jpeg:https://delphoschamber.com/wp-content/uploads/2019/10/steak.jpg
END:VEVENT
BEGIN:VEVENT
DTSTART;TZID=America/New_York:20251015T100000
DTEND;TZID=America/New_York:20251015T100000
DTSTAMP:20260421T212412
CREATED:20251014T134633Z
LAST-MODIFIED:20251014T134655Z
UID:801720-1760522400-1760522400@delphoschamber.com
SUMMARY:Delphos Public Library Homeschool Hangout
DESCRIPTION:Homeschool Families: Don’t forget to join us on Wednesday\, October 15th for an art lesson taught by local artist ART for ALL – Megan Etzkorn !
URL:https://delphoschamber.com/event/delphos-public-library-homeschool-hangout/
ATTACH;FMTTYPE=image/jpeg:https://delphoschamber.com/wp-content/uploads/2025/10/homeschool.jpg
END:VEVENT
BEGIN:VEVENT
DTSTART;TZID=America/New_York:20251016T100000
DTEND;TZID=America/New_York:20251016T110000
DTSTAMP:20260421T212412
CREATED:20251014T141700Z
LAST-MODIFIED:20251014T141732Z
UID:801745-1760608800-1760612400@delphoschamber.com
SUMMARY:Milk & Giggles
DESCRIPTION:Milk and Giggles — a cozy\, connection-focused playgroup for parents and their little ones in Delphos Ohio!Whether you’re a new parent navigating feeding journeys\, looking for support\, or just want a warm place to laugh\, vent\, and play — Milk and Giggles is for you. Hosted by a lactation-informed occupational therapist\, this group is all about community\, developmentally supportive play\, and real-life parenting.Come as you are\, bring your baby\, and let’s build something beautiful together — one giggle at a time.This group will replace the Infant support group originally once a month\, to better serve the needs of the community Follow us on Facebook for updates and feel free to tag a friend who’d love this! 
URL:https://delphoschamber.com/event/milk-giggles-15/
ATTACH;FMTTYPE=image/jpeg:https://delphoschamber.com/wp-content/uploads/2025/05/Milk-Giggles.jpg
END:VEVENT
BEGIN:VEVENT
DTSTART;TZID=America/New_York:20251016T180000
DTEND;TZID=America/New_York:20251016T180000
DTSTAMP:20260421T212412
CREATED:20251014T131728Z
LAST-MODIFIED:20251014T132907Z
UID:801709-1760637600-1760637600@delphoschamber.com
SUMMARY:Line Dancing at Doc's Dance Hall
DESCRIPTION:Grab your boots (or sneakers — no judgment here!) and get ready to kick up some dust on the dance floor. Doors open at 6:00\, dancing starts at 6:30.Bring a friend and let’s make it a night to remember!
URL:https://delphoschamber.com/event/line-dancing-at-docs-dance-hall-10/
ATTACH;FMTTYPE=image/jpeg:https://delphoschamber.com/wp-content/uploads/2025/08/line-dancing.jpg
END:VEVENT
BEGIN:VEVENT
DTSTART;TZID=America/New_York:20251016T190000
DTEND;TZID=America/New_York:20251016T220000
DTSTAMP:20260421T212412
CREATED:20251014T140102Z
LAST-MODIFIED:20251014T140103Z
UID:801735-1760641200-1760652000@delphoschamber.com
SUMMARY:Queen of Hearts at The Rustic Cafe
DESCRIPTION:Come enjoy\, great food \, cold beverages\, warm commodore and the chance to win a HUGE jackpot at the Thursday Night Queen of Hearts drawing in Delphos at The Rustic Café\nLive music by Davis Unplugged 7-10 pmDrawing 8 pm
URL:https://delphoschamber.com/event/queen-of-hearts-at-the-rustic-cafe/
ATTACH;FMTTYPE=image/jpeg:https://delphoschamber.com/wp-content/uploads/2025/10/Queen.jpg
END:VEVENT
BEGIN:VEVENT
DTSTART;TZID=America/New_York:20251017T190000
DTEND;TZID=America/New_York:20251017T190000
DTSTAMP:20260421T212412
CREATED:20251014T130754Z
LAST-MODIFIED:20251014T132943Z
UID:801698-1760727600-1760727600@delphoschamber.com
SUMMARY:Karaoke Night at Doc's
DESCRIPTION:Warm up those vocal cords — it’s Karaoke Night next Friday\, October 17th at Doc’s Dance Hall & Event Center!\n\n\n Doors open at 7 PM\n The stage is yours — whether you’re a shower singer or stage star\, come show off your talent (or just cheer on your friends)!\n\n\n Great drinks •  Endless fun •  Unforgettable memories\n\n\n Mark your calendars and get ready for a night full of music\, laughter\, and maybe even some surprise duets!
URL:https://delphoschamber.com/event/karaoke-night-at-docs/
ATTACH;FMTTYPE=image/jpeg:https://delphoschamber.com/wp-content/uploads/2025/10/Karaoke.jpg
END:VEVENT
BEGIN:VEVENT
DTSTART;TZID=America/New_York:20251018T150000
DTEND;TZID=America/New_York:20251018T200000
DTSTAMP:20260421T212412
CREATED:20251014T135426Z
LAST-MODIFIED:20251014T135434Z
UID:801729-1760799600-1760817600@delphoschamber.com
SUMMARY:Faith and Fire
DESCRIPTION:This Faith and Fire will be a little different than the last few!\nWe are partnering with Delphos First!\nCome with expectations for Holy Spirit\, to move mightily in healing\, strong holds breaking\, addictions falling and the transforming of hearts and minds! \nAll you need to bring is yourself and a lawn chairs\, come be changed and transformed!\n\nSaturday\, October 18th\nDelphos Stadium Park Gazebo\n3:30-8:00PM
URL:https://delphoschamber.com/event/faith-and-fire/
ATTACH;FMTTYPE=image/jpeg:https://delphoschamber.com/wp-content/uploads/2025/10/Fire.jpg
END:VEVENT
BEGIN:VEVENT
DTSTART;TZID=America/New_York:20251018T180000
DTEND;TZID=America/New_York:20251018T180000
DTSTAMP:20260421T212412
CREATED:20250829T155900Z
LAST-MODIFIED:20251014T133251Z
UID:801650-1760810400-1760810400@delphoschamber.com
SUMMARY:Dueling Pianos
DESCRIPTION:Dueling Pianos\n\n\n\n\nSat 18th October\n\n\n\n\n\n\n6:00 PM\n\n\n\n\n\n\n\nThe “T” and Rich Dueling Piano Show is a high-energy traveling dueling piano team. Non-stop audience participation and interaction is the cornerstone of their show!  They encourage the audience to sing-a-long\, clap-a-long\, and submit requests of their favorite songs and artists.  Their world-class dueling piano show itself consists mostly of high-energy party songs delivered with a comic twist.  But there’s even more – their show also includes a seemingly endless slew of comedy routines and novelty numbers. Doors open at 6pm with performance from 7pm-10pm.
URL:https://delphoschamber.com/event/dueling-pianos/
ATTACH;FMTTYPE=image/webp:https://delphoschamber.com/wp-content/uploads/2025/08/Dueling-Pianos.webp
END:VEVENT
BEGIN:VEVENT
DTSTART;TZID=America/New_York:20251019T140000
DTEND;TZID=America/New_York:20251019T140000
DTSTAMP:20260421T212412
CREATED:20251014T135817Z
LAST-MODIFIED:20251014T135829Z
UID:801732-1760882400-1760882400@delphoschamber.com
SUMMARY:Optimist Club of Delphos Punt\, Pass & Kick
DESCRIPTION:It’s time for Punt\, Pass and Kick! The Optimist Club is offering this FREE event Sunday\, October 19th at 2:00pm. Registration starts at 1:30pm. Open to boys and girls ages 6-15\, broken into 5 groups; 6/7\, 8/9\, 10/11\, 12/13 & 14/15. Come out and test your skills among your local peers! Find us on the football field!
URL:https://delphoschamber.com/event/optimist-club-of-delphos-punt-pass-kick/
ATTACH;FMTTYPE=image/jpeg:https://delphoschamber.com/wp-content/uploads/2025/10/Punt-Pass.jpg
END:VEVENT
BEGIN:VEVENT
DTSTART;TZID=America/New_York:20251021T160000
DTEND;TZID=America/New_York:20251021T170000
DTSTAMP:20260421T212412
CREATED:20251014T135140Z
LAST-MODIFIED:20251014T135218Z
UID:801726-1761062400-1761066000@delphoschamber.com
SUMMARY:Delphos Public Library Boo-PaLooza
DESCRIPTION:Join us on October 21st from 4-5pm for all things ghosts with no super scary sights! We will make ghost headbands\, make our own ghost decorations to take home\, play ghost games\, eat ghostly snacks\, and end the program with a glow in the dark ghost balloon dance party! \nPerfect for preschool to early elementary aged children!
URL:https://delphoschamber.com/event/delphos-public-library-boo-palooza/
ATTACH;FMTTYPE=image/jpeg:https://delphoschamber.com/wp-content/uploads/2025/10/boo.jpg
END:VEVENT
END:VCALENDAR