BEGIN:VCALENDAR
VERSION:2.0
PRODID:-//Delphos Area Chamber of Commerce - ECPv6.15.20//NONSGML v1.0//EN
CALSCALE:GREGORIAN
METHOD:PUBLISH
X-WR-CALNAME:Delphos Area Chamber of Commerce
X-ORIGINAL-URL:https://delphoschamber.com
X-WR-CALDESC:Events for Delphos Area Chamber of Commerce
REFRESH-INTERVAL;VALUE=DURATION:PT1H
X-Robots-Tag:noindex
X-PUBLISHED-TTL:PT1H
BEGIN:VTIMEZONE
TZID:America/New_York
BEGIN:DAYLIGHT
TZOFFSETFROM:-0500
TZOFFSETTO:-0400
TZNAME:EDT
DTSTART:20230312T070000
END:DAYLIGHT
BEGIN:STANDARD
TZOFFSETFROM:-0400
TZOFFSETTO:-0500
TZNAME:EST
DTSTART:20231105T060000
END:STANDARD
BEGIN:DAYLIGHT
TZOFFSETFROM:-0500
TZOFFSETTO:-0400
TZNAME:EDT
DTSTART:20240310T070000
END:DAYLIGHT
BEGIN:STANDARD
TZOFFSETFROM:-0400
TZOFFSETTO:-0500
TZNAME:EST
DTSTART:20241103T060000
END:STANDARD
BEGIN:DAYLIGHT
TZOFFSETFROM:-0500
TZOFFSETTO:-0400
TZNAME:EDT
DTSTART:20250309T070000
END:DAYLIGHT
BEGIN:STANDARD
TZOFFSETFROM:-0400
TZOFFSETTO:-0500
TZNAME:EST
DTSTART:20251102T060000
END:STANDARD
BEGIN:DAYLIGHT
TZOFFSETFROM:-0500
TZOFFSETTO:-0400
TZNAME:EDT
DTSTART:20260308T070000
END:DAYLIGHT
BEGIN:STANDARD
TZOFFSETFROM:-0400
TZOFFSETTO:-0500
TZNAME:EST
DTSTART:20261101T060000
END:STANDARD
END:VTIMEZONE
BEGIN:VEVENT
DTSTART;TZID=America/New_York:20241008T180000
DTEND;TZID=America/New_York:20241008T200000
DTSTAMP:20260421T180949
CREATED:20240918T170119Z
LAST-MODIFIED:20241007T131935Z
UID:800934-1728410400-1728417600@delphoschamber.com
SUMMARY:Delphos Fire Association Steak Feed
DESCRIPTION:STEAK FEED!!\nThe Delphos Fire Association will be having their monthly steak feed  from 6 p.m. to 8 p.m. or until sold out at the Fireman’s Club House\,\n911 Lima Avenue. Drive thru only.\nMeals will include steak\, corn\, baked potato and bread. Cost is $12.00.\nOur steak feeds are always the second Tuesday of the month September thru May. We hope to see you there.\nThank You for supporting the Delphos Fire Association.
URL:https://delphoschamber.com/event/delphos-fire-association-steak-feed-7/
ATTACH;FMTTYPE=image/jpeg:https://delphoschamber.com/wp-content/uploads/2019/10/steak.jpg
END:VEVENT
BEGIN:VEVENT
DTSTART;TZID=America/New_York:20241020T130000
DTEND;TZID=America/New_York:20241020T180000
DTSTAMP:20260421T180949
CREATED:20240923T155834Z
LAST-MODIFIED:20240923T155835Z
UID:800951-1729429200-1729447200@delphoschamber.com
SUMMARY:112th Annual Delphos St. John's Festival
DESCRIPTION:SAVE THE DATE & join us for our 2024 Fall Festival – October 19th from 4p-9p and October 20th from 1p-6p.Dinners will be served from 4:00p-6:00p Saturday 10/19 and 3:30p-6:00p Sunday 10/20.
URL:https://delphoschamber.com/event/112th-annual-delphos-st-johns-festival/
ATTACH;FMTTYPE=image/jpeg:https://delphoschamber.com/wp-content/uploads/2024/09/Fall-Festival.jpg
END:VEVENT
BEGIN:VEVENT
DTSTART;TZID=America/New_York:20241026T100000
DTEND;TZID=America/New_York:20241026T113000
DTSTAMP:20260421T180949
CREATED:20240918T164432Z
LAST-MODIFIED:20240918T164432Z
UID:800928-1729936800-1729942200@delphoschamber.com
SUMMARY:TEEN BEREAVMENT GROUP
DESCRIPTION:TEEN BEREAVMENT GROUP\n\nLicensed and trained social workers and staff are available to guide local teens through any type of loss in their life – from losing a loved one to the loss of a pet\, a friend moving away\, etc.\nGroup will meet every 4th Saturday of the month\, at “The Stoa” in Delphos from 10am-11:30am.\nNo cost and no paperwork is needed\, but a parent or guardian must sign in their teen at each meeting. \nMessage us or call Tracey\, LSW at 419-238-9223 ext. 1169 with any questions.
URL:https://delphoschamber.com/event/teen-bereavment-group-2/
ATTACH;FMTTYPE=image/jpeg:https://delphoschamber.com/wp-content/uploads/2024/09/CHP.jpg
END:VEVENT
BEGIN:VEVENT
DTSTART;TZID=America/New_York:20241031T180000
DTEND;TZID=America/New_York:20241031T193000
DTSTAMP:20260421T180949
CREATED:20241015T172612Z
LAST-MODIFIED:20241015T172613Z
UID:800973-1730397600-1730403000@delphoschamber.com
SUMMARY:VanCrest of Delphos Trick or Treat Night
DESCRIPTION:VanCrest of Delphos Trick or Treat \n6:00-7:30PM- Delphos Campus \nHot dogs\, drinks and candy!
URL:https://delphoschamber.com/event/vancrest-of-delphos-trick-or-treat-night/
ATTACH;FMTTYPE=image/png:https://delphoschamber.com/wp-content/uploads/2024/10/Vancrest-Haloween-.png
END:VEVENT
BEGIN:VEVENT
DTSTART;TZID=America/New_York:20241031T190000
DTEND;TZID=America/New_York:20241031T213000
DTSTAMP:20260421T180949
CREATED:20241104T181418Z
LAST-MODIFIED:20241104T181419Z
UID:801007-1730401200-1730410200@delphoschamber.com
SUMMARY:Teen Halloween Party
DESCRIPTION:Second Annual Halloween Teen Partysponsored by The Amor Fati FoundationFREE EVENT to all teens in Delphos and the Surrounding CommunitiesOver $150 in prizes\, Live DJ/Host\, Special Effects\, Club Lighting\, LED Video Walls\, scavenger hunt\, Costume Contest\, Indoor and Outdoor Games\, Food & Drinks\, and more.\nThe event is located at The Stoa\, 335 S Main Street\, Delphos\, OH 45833\nThe building will be open to the public\, for trick-or-treat from 5:30 pm-7:00 pm. After that from 7 pm-9:30 pm the main party starts for teenage students only.\nTo RSVP or for additional questions email Krendl at Krendl@amagicsolution.com or text to (757) 553-0671\n\nHere is a video link from Last year’s event:https://youtu.be/R8LM61x50wg
URL:https://delphoschamber.com/event/teen-halloween-party/
ATTACH;FMTTYPE=image/jpeg:https://delphoschamber.com/wp-content/uploads/2024/11/Teen-Halloween.jpg
END:VEVENT
BEGIN:VEVENT
DTSTART;TZID=America/New_York:20241102T070000
DTEND;TZID=America/New_York:20241102T133000
DTSTAMP:20260421T180949
CREATED:20241007T130309Z
LAST-MODIFIED:20241028T152806Z
UID:800964-1730530800-1730554200@delphoschamber.com
SUMMARY:Delphos Kiwanis Annual Pancake and Sausage Day
DESCRIPTION:Delphos Kiwanis Annual Pancake and Sausage Day \nSaturday\, November\, 2\, 2024 \n7:00a – 1:30p • Delphos Jefferson Senior High School \nTickets $9.00 Presale\, $10.00 Day of • Children under 10 eat for free (dine in only)
URL:https://delphoschamber.com/event/delphos-kiwanis-annual-pancake-and-sausage-day/
ATTACH;FMTTYPE=image/jpeg:https://delphoschamber.com/wp-content/uploads/2024/10/Kiwanis-Pancake-Day-Poster-12.54.02?PM-1-scaled.jpg
END:VEVENT
BEGIN:VEVENT
DTSTART;VALUE=DATE:20241104
DTEND;VALUE=DATE:20241105
DTSTAMP:20260421T180949
CREATED:20241028T151843Z
LAST-MODIFIED:20241028T151843Z
UID:800997-1730678400-1730764799@delphoschamber.com
SUMMARY:Free Wills Clinic
DESCRIPTION:Free Wills Clinic \nThe Ohio Justice Bus is partnering with Legal Aid\nof Western Ohio (LAWO) to offer free legal advice\nto low-income senior residents\, \nMonday\, November 4\, 2024 • Delphos Public Library \nPre-Registration required\, contact Library at l (419) 695-4015
URL:https://delphoschamber.com/event/free-wills-clinic/
ATTACH;FMTTYPE=image/jpeg:https://delphoschamber.com/wp-content/uploads/2024/10/Wills-Clinic-scaled.jpg
END:VEVENT
BEGIN:VEVENT
DTSTART;TZID=America/New_York:20241106T150000
DTEND;TZID=America/New_York:20241106T170000
DTSTAMP:20260421T180949
CREATED:20241104T181609Z
LAST-MODIFIED:20241104T181609Z
UID:801010-1730905200-1730912400@delphoschamber.com
SUMMARY:Teen Cafe at The Stoa
DESCRIPTION:
URL:https://delphoschamber.com/event/teen-cafe-at-the-stoa-4/
ATTACH;FMTTYPE=image/jpeg:https://delphoschamber.com/wp-content/uploads/2024/11/Teen-Cafe.jpg
END:VEVENT
BEGIN:VEVENT
DTSTART;TZID=America/New_York:20241107T120000
DTEND;TZID=America/New_York:20241107T130000
DTSTAMP:20260421T180949
CREATED:20241015T173400Z
LAST-MODIFIED:20241015T173500Z
UID:800976-1730980800-1730984400@delphoschamber.com
SUMMARY:The "REEL" Deal Lunch and Learn
DESCRIPTION:Delphos Chamber Lunch and Learn The “REEL” Deal \nPlease join The Chamber on Thursday\, November 7\, 2024 \nfor a Lunch and Learn at the First Edition Building\, (next to the Delphos Public Library). \n Steve Musser with WOW Video Tours will provide a hands on presentation for social media REELS. \nTips include: Information on what social media followers are looking for\, how to create your “REEL” brand and a tutorial on creating REELS for your business. \nThank you to our Sponsor\, Your Hometown Stations. \nLunch provided by The Rustic Café. Free to Chamber Members\, Non-Members $10.00 \nRegister Here
URL:https://delphoschamber.com/event/the-reel-deal-lunch-and-learn/
ATTACH;FMTTYPE=image/jpeg:https://delphoschamber.com/wp-content/uploads/2024/10/The-Reel-Deal-Flyer.jpg
END:VEVENT
BEGIN:VEVENT
DTSTART;TZID=America/New_York:20241111T100000
DTEND;TZID=America/New_York:20241111T130000
DTSTAMP:20260421T180949
CREATED:20241028T151931Z
LAST-MODIFIED:20241028T151931Z
UID:801001-1731319200-1731330000@delphoschamber.com
SUMMARY:Veteran's Breakfast
DESCRIPTION:
URL:https://delphoschamber.com/event/veterans-breakfast/
ATTACH;FMTTYPE=image/jpeg:https://delphoschamber.com/wp-content/uploads/2024/10/Veterens-Day-bfast-scaled.jpg
END:VEVENT
BEGIN:VEVENT
DTSTART;TZID=America/New_York:20241112T080000
DTEND;TZID=America/New_York:20241112T170000
DTSTAMP:20260421T180949
CREATED:20241112T132445Z
LAST-MODIFIED:20241112T132446Z
UID:801034-1731398400-1731430800@delphoschamber.com
SUMMARY:Downtown Delphos Holiday Market
DESCRIPTION:Downtown Delphos Holiday Market \nFriday\, December 6\, 2024 • 4:00pm-6:30pm \nThe Lot\, Corner of 4th & Main \nCome visit new and returning market vendors\, crafters and artisans showcasing their homemade products.  \nStocking Stuffers\, candies\, jams\, baked goods\, candles\, handcrafted items and more. Bundle up and join us! 
URL:https://delphoschamber.com/event/downtown-delphos-holiday-market/
ATTACH;FMTTYPE=image/jpeg:https://delphoschamber.com/wp-content/uploads/2024/11/NEWSLETTER-AT-THE-MARKET.-7.jpg
END:VEVENT
BEGIN:VEVENT
DTSTART;TZID=America/New_York:20241112T180000
DTEND;TZID=America/New_York:20241112T200000
DTSTAMP:20260421T180949
CREATED:20241007T133831Z
LAST-MODIFIED:20241007T133831Z
UID:800970-1731434400-1731441600@delphoschamber.com
SUMMARY:Delphos Fire Association Steak Feed
DESCRIPTION:  \nSTEAK FEED!!\nThe Delphos Fire Association will be having their monthly steak feed  from 6 p.m. to 8 p.m. or until sold out at the Fireman’s Club House\,\n911 Lima Avenue. Drive thru only.\nMeals will include steak\, corn\, baked potato and bread. Cost is $12.00.\nOur steak feeds are always the second Tuesday of the month September thru May. We hope to see you there.\nThank You for supporting the Delphos Fire Association.
URL:https://delphoschamber.com/event/delphos-fire-association-steak-feed-8/
ATTACH;FMTTYPE=image/jpeg:https://delphoschamber.com/wp-content/uploads/2019/10/steak.jpg
END:VEVENT
BEGIN:VEVENT
DTSTART;TZID=America/New_York:20241113T150000
DTEND;TZID=America/New_York:20241113T170000
DTSTAMP:20260421T180949
CREATED:20241104T181801Z
LAST-MODIFIED:20241104T181801Z
UID:801013-1731510000-1731517200@delphoschamber.com
SUMMARY:Teen Café a The Stoa
DESCRIPTION:
URL:https://delphoschamber.com/event/teen-cafe-a-the-stoa/
ATTACH;FMTTYPE=image/jpeg:https://delphoschamber.com/wp-content/uploads/2024/11/Teen-Cafe.jpg
END:VEVENT
BEGIN:VEVENT
DTSTART;TZID=America/New_York:20241115T070000
DTEND;TZID=America/New_York:20241115T230000
DTSTAMP:20260421T180949
CREATED:20240918T171252Z
LAST-MODIFIED:20240918T171252Z
UID:800939-1731654000-1731711600@delphoschamber.com
SUMMARY:PIZZA\, PUZZLE & PUB NIGHT
DESCRIPTION:JOIN THE CHAMBER AND THE DELPHOS EAGLES FOR A FUN FRIDAY NIGHT IN NOVEMBER! \nFRIDAY\, NOVEMBER 15TH. 7-11PM. \nPIZZA\, PUZZLE & PUB NIGHT IS GREAT FOR BUSINESS NETWORKING\, DEPARTMENT TEAM BUILDING OR A GROUP OF FRIENDS. OPEN TO THE PUBLIC!REGISTRATION DUE FRIDAY\, NOVEMBER 1ST!
URL:https://delphoschamber.com/event/pizza-puzzle-pub-night/
ATTACH;FMTTYPE=image/jpeg:https://delphoschamber.com/wp-content/uploads/2024/09/Advertising-Flyer.jpg
END:VEVENT
BEGIN:VEVENT
DTSTART;TZID=America/New_York:20241117T180000
DTEND;TZID=America/New_York:20241117T210000
DTSTAMP:20260421T180949
CREATED:20241112T131720Z
LAST-MODIFIED:20241112T131721Z
UID:801025-1731866400-1731877200@delphoschamber.com
SUMMARY:Teen Friendsgiving Party
DESCRIPTION:TEEN THANKSGIVING PARTY @ THE STOAThe Stoa in Delphos is throwing the first ever Teen Friendsgiving this Sunday from 6pm-9pm. Featuring Potluck Dishes\, Music\, Board Games\, and more. This event is FREE to all Teens in Delphos and surrounding Schools in the area. Lots of Food and Games all FREE at The Stoa this Sunday\, Nov 17\, from 6-9pm.
URL:https://delphoschamber.com/event/teen-friendsgiving-party/
ATTACH;FMTTYPE=image/jpeg:https://delphoschamber.com/wp-content/uploads/2024/11/teen-thanksgiving.jpg
END:VEVENT
BEGIN:VEVENT
DTSTART;TZID=America/New_York:20241120T150000
DTEND;TZID=America/New_York:20241120T170000
DTSTAMP:20260421T180949
CREATED:20241104T181833Z
LAST-MODIFIED:20241104T181833Z
UID:801015-1732114800-1732122000@delphoschamber.com
SUMMARY:Teen Café at The Stoa
DESCRIPTION:
URL:https://delphoschamber.com/event/teen-cafe-at-the-stoa-5/
ATTACH;FMTTYPE=image/jpeg:https://delphoschamber.com/wp-content/uploads/2024/11/Teen-Cafe.jpg
END:VEVENT
BEGIN:VEVENT
DTSTART;TZID=America/New_York:20241123T100000
DTEND;TZID=America/New_York:20241123T113000
DTSTAMP:20260421T180949
CREATED:20241104T182540Z
LAST-MODIFIED:20241104T182541Z
UID:801019-1732356000-1732361400@delphoschamber.com
SUMMARY:Teen Bereavement Group
DESCRIPTION:Licensed and trained social workers and staff are available to guide local teens through any type of loss in their life – from losing a loved one to the loss of a pet\, a friend moving away\, etc.\nGroup will meet every 4th Saturday of the month\, at “The Stoa” in Delphos from 10am-11:30am.\nNo cost and no paperwork is needed\, but a parent or guardian must sign in their teen at each meeting. Message us or call Tacey\, LSW at 419-238-9223 ext 1169 with any questions.
URL:https://delphoschamber.com/event/teen-bereavement-group-4/
ATTACH;FMTTYPE=image/jpeg:https://delphoschamber.com/wp-content/uploads/2024/09/CHP.jpg
END:VEVENT
BEGIN:VEVENT
DTSTART;TZID=America/New_York:20241127T150000
DTEND;TZID=America/New_York:20241127T170000
DTSTAMP:20260421T180949
CREATED:20241104T181913Z
LAST-MODIFIED:20241104T181914Z
UID:801017-1732719600-1732726800@delphoschamber.com
SUMMARY:Teen Café at The Stoa
DESCRIPTION:
URL:https://delphoschamber.com/event/teen-cafe-at-the-stoa-6/
ATTACH;FMTTYPE=image/jpeg:https://delphoschamber.com/wp-content/uploads/2024/11/Teen-Cafe.jpg
END:VEVENT
BEGIN:VEVENT
DTSTART;TZID=America/New_York:20241206T160000
DTEND;TZID=America/New_York:20241206T183000
DTSTAMP:20260421T180949
CREATED:20241121T144512Z
LAST-MODIFIED:20241121T144512Z
UID:801049-1733500800-1733509800@delphoschamber.com
SUMMARY:Pulled Pork Dinner Fundraiser
DESCRIPTION:Pulled Pork Dinner Fundraiser \nFriday\, December 6\, 2024 • 4-6:30PM • Drive Thru Pick up at Franklin Elementary Parking Lot \n$10.00 per ticket. Tickets Sold at Franklin Elementary Office or Franklin Elementary Staff \nAll Benefits go to family of Dave Kroeger
URL:https://delphoschamber.com/event/pulled-pork-dinner-fundraiser/
ATTACH;FMTTYPE=image/jpeg:https://delphoschamber.com/wp-content/uploads/2024/11/Dave-Kroeger.jpg
END:VEVENT
BEGIN:VEVENT
DTSTART;TZID=America/New_York:20241206T160000
DTEND;TZID=America/New_York:20241206T183000
DTSTAMP:20260421T180949
CREATED:20241203T164546Z
LAST-MODIFIED:20241203T164952Z
UID:801061-1733500800-1733509800@delphoschamber.com
SUMMARY:Downtown Delphos Holiday Market
DESCRIPTION:Downtown Delphos Holiday Market \nFriday\, December 6th • 4-6:30PM \nThe Willow on Main • 209 N. Main Street\, Delphos \nThe Downtown Delphos Holiday Market has moved…INSIDE!  The Market will move from its regular outdoor venue to The Willow on Main\, located at 209 N. Main Street\, downtown Delphos this Friday from 4-6:30pm.  Vendors are eager to see everyone for the Holidays with stocking stuffers\, unique gifts\, fresh baked goods and sweet treats!   The Holiday Market is also welcoming back our “KIDZ in BIZ” as little entrepreneurs showcase their hand crafted uniquely designed items.\nStay warm and join us on Friday\, December 6th from 4-6:30pm at The Willow on Main right before Kiwanis Hometown Christmas!\n\n 
URL:https://delphoschamber.com/event/downtown-delphos-holiday-market-2/
ATTACH;FMTTYPE=image/jpeg:https://delphoschamber.com/wp-content/uploads/2024/12/Advertising-Screen-6-1.jpg
END:VEVENT
BEGIN:VEVENT
DTSTART;TZID=America/New_York:20241206T183000
DTEND;TZID=America/New_York:20241206T210000
DTSTAMP:20260421T180949
CREATED:20241112T132202Z
LAST-MODIFIED:20241125T162909Z
UID:801031-1733509800-1733518800@delphoschamber.com
SUMMARY:Kiwanis Club of Delphos Hometown Christmas
DESCRIPTION:Kiwanis Club of Delphos Hometown Christmas \nFriday\, December 6\, 2025.  Santa Parade begins at 6:30 \nDowntown Delphos.   Check in with FACEBOOK for schedule of events.
URL:https://delphoschamber.com/event/kiwanis-club-of-delphos-hometown-christmas/
ATTACH;FMTTYPE=image/jpeg:https://delphoschamber.com/wp-content/uploads/2024/11/Kiwanis-1.jpg
END:VEVENT
BEGIN:VEVENT
DTSTART;TZID=America/New_York:20241211T170000
DTEND;TZID=America/New_York:20241211T200000
DTSTAMP:20260421T180949
CREATED:20241203T160151Z
LAST-MODIFIED:20241203T160151Z
UID:801059-1733936400-1733947200@delphoschamber.com
SUMMARY:Pictures with Santa at At Home Realty
DESCRIPTION:Santa is coming to At Home Realty! Bring your little ones and come up to see the big man himself (at no charge)! Bring your own camera or we will have one as well for you. The first hour from 5-6pm will be a Sensory Safe Event! Then from 6-8pm will be open to the public! \nWednesday\, December 11\, 2024 \nAt Home Realty\, 302 E. 2nd St. Delphos\, OH \n 
URL:https://delphoschamber.com/event/pictures-with-santa-at-at-home-realty/
ATTACH;FMTTYPE=image/jpeg:https://delphoschamber.com/wp-content/uploads/2024/12/Ssanta-Visits.jpg
END:VEVENT
BEGIN:VEVENT
DTSTART;TZID=America/New_York:20241214T090000
DTEND;TZID=America/New_York:20241214T130000
DTSTAMP:20260421T180949
CREATED:20241121T131738Z
LAST-MODIFIED:20241121T131739Z
UID:801046-1734166800-1734181200@delphoschamber.com
SUMMARY:Sensory- Friendly Santa Experience
DESCRIPTION:Join us for a comfortable\, sensory-friendly holiday celebration! Each registered child will receive: \nRegistration: $5 per child \nEvent Time- 9AM to 1:00PM . (OPEN HOUSE)\nEvent Address:  \nDelphos Knights of Columbus Hall \n1011 Elida Ave. \nDelphos\, Ohio 45833 \nContact us at 419-236-4803 or asdssofnwohio@gmail.com\n\n\n\n• Personal time with Santa• Photo with Santa• Special gift from Santa• Light breakfast and refreshments• Access to fun games and craft stationsRegistration: $5 per child(Includes photo\, gift\, activities\, and refreshments)Our inclusive\, open house-style event ensures children can explore at their own pace in a welcoming environment. Space is limited\, so be sure to register when registration opens! \n  \nFacebook Event Here
URL:https://delphoschamber.com/event/sensory-friendly-santa-experience/
ATTACH;FMTTYPE=image/jpeg:https://delphoschamber.com/wp-content/uploads/2024/11/Santa.jpg
END:VEVENT
BEGIN:VEVENT
DTSTART;TZID=America/New_York:20241214T140000
DTEND;TZID=America/New_York:20241214T160000
DTSTAMP:20260421T180949
CREATED:20241203T165335Z
LAST-MODIFIED:20241203T165335Z
UID:801065-1734184800-1734192000@delphoschamber.com
SUMMARY:The Meadows Annual Christmas Gala
DESCRIPTION:The Meadows of Delphos Annual Christmas Gala \nDecember 14th 2-4pm. \nSilent Auction\, Letters to Santa\, Activities\, Entertainment\, Charcuterie Boards and More. \nAll Proceeds from Silent Auction go to Delphos Senior Citizens\, Inc.
URL:https://delphoschamber.com/event/the-meadows-annual-christmas-gala/
ATTACH;FMTTYPE=image/jpeg:https://delphoschamber.com/wp-content/uploads/2024/12/meadows-gala.jpg
END:VEVENT
BEGIN:VEVENT
DTSTART;TZID=America/New_York:20250114T110000
DTEND;TZID=America/New_York:20250114T200000
DTSTAMP:20260421T180949
CREATED:20250115T160809Z
LAST-MODIFIED:20250115T160809Z
UID:801123-1736852400-1736884800@delphoschamber.com
SUMMARY:The Mill Grand Opening
DESCRIPTION:The MILL GRAND OPENING  \n\nIt’s Time\, Delphos! \n\n\nThe Mill is NOW OPEN to the public! \n\n\nBring your friends and family to experience all we have to offer—great food\, good vibes\, and unforgettable moments!\n\n\n Hours of Operation:\nSunday\, Tuesday-Thursday: 11 AM – 8 PM\nFriday-Saturday: 11 AM – 9 PM\n\n\nWe can’t wait to serve you and hear about your experience at The Mill!
URL:https://delphoschamber.com/event/the-mill-grand-opening/
ATTACH;FMTTYPE=image/jpeg:https://delphoschamber.com/wp-content/uploads/2025/01/The-Mill.jpg
END:VEVENT
BEGIN:VEVENT
DTSTART;TZID=America/New_York:20250114T180000
DTEND;TZID=America/New_York:20250114T200000
DTSTAMP:20260421T180949
CREATED:20250115T154356Z
LAST-MODIFIED:20250115T154356Z
UID:801104-1736877600-1736884800@delphoschamber.com
SUMMARY:Delphos Fire Association Steak Feed
DESCRIPTION:STEAK FEED!!\nThe Delphos Fire Association will be having their monthly steak feed  from 6 p.m. to 8 p.m. or until sold out at the Fireman’s Club House\,\n911 Lima Avenue. Drive thru only.\nMeals will include steak\, corn\, baked potato and bread. Cost is $12.00.\nOur steak feeds are always the second Tuesday of the month September thru May. We hope to see you there.\nThank You for supporting the Delphos Fire Association.
URL:https://delphoschamber.com/event/delphos-fire-association-steak-feed-9/
ATTACH;FMTTYPE=image/jpeg:https://delphoschamber.com/wp-content/uploads/2019/10/steak.jpg
END:VEVENT
BEGIN:VEVENT
DTSTART;TZID=America/New_York:20250115T150000
DTEND;TZID=America/New_York:20250115T170000
DTSTAMP:20260421T180949
CREATED:20250115T153959Z
LAST-MODIFIED:20250115T153959Z
UID:801096-1736953200-1736960400@delphoschamber.com
SUMMARY:Teen Café at the Stoa
DESCRIPTION:Every Wednesday head to The Stoa for Teen Café! \nSnacks and Games. Tutoring and computers available.
URL:https://delphoschamber.com/event/teen-cafe-at-the-stoa-7/
ATTACH;FMTTYPE=image/jpeg:https://delphoschamber.com/wp-content/uploads/2024/11/Teen-Cafe.jpg
END:VEVENT
BEGIN:VEVENT
DTSTART;TZID=America/New_York:20250119T170000
DTEND;TZID=America/New_York:20250119T193000
DTSTAMP:20260421T180949
CREATED:20250115T153200Z
LAST-MODIFIED:20250115T153200Z
UID:801089-1737306000-1737315000@delphoschamber.com
SUMMARY:Teen Game Night
DESCRIPTION:STOA CARD TOURNAMENT and CASH PRIZES!This Sunday (January 19) the Stoa in Delphos is hosting a card Tournament with over $300 in cash prizes that will be given away for Euchre and UNO Tournaments. In addition\, Food and drinks\, music\, video games\, ping pong\, board games\, and more will be provided. This is FREE and open to all teens. Jr high only from 5pm-7:30pm and High School only from 7:30pm-10:30pm.Reminder\, the Stoa is still hosting the Teen Cafe after school program every Wednesday from 3-5pm at The Stoa in Delphos is offering board games\, video games\, pizza\, wifi\, snacks\, and more are provided to all teens for free.
URL:https://delphoschamber.com/event/teen-game-night/
ATTACH;FMTTYPE=image/jpeg:https://delphoschamber.com/wp-content/uploads/2025/01/Teen-Game-Night.jpg
END:VEVENT
BEGIN:VEVENT
DTSTART;TZID=America/New_York:20250122T150000
DTEND;TZID=America/New_York:20250122T170000
DTSTAMP:20260421T180949
CREATED:20250115T154059Z
LAST-MODIFIED:20250115T154100Z
UID:801098-1737558000-1737565200@delphoschamber.com
SUMMARY:Teen Café at The Stoa
DESCRIPTION:Every Wednesday head to The Stoa for Teen Café! \nSnacks and Games. Tutoring and computers available.
URL:https://delphoschamber.com/event/teen-cafe-at-the-stoa-8/
ATTACH;FMTTYPE=image/jpeg:https://delphoschamber.com/wp-content/uploads/2024/11/Teen-Cafe.jpg
END:VEVENT
BEGIN:VEVENT
DTSTART;TZID=America/New_York:20250129T150000
DTEND;TZID=America/New_York:20250129T170000
DTSTAMP:20260421T180949
CREATED:20250115T154132Z
LAST-MODIFIED:20250115T154132Z
UID:801100-1738162800-1738170000@delphoschamber.com
SUMMARY:Teen Cafe at The Stoa
DESCRIPTION:Every Wednesday head to The Stoa for Teen Café! \nSnacks and Games. Tutoring and computers available.
URL:https://delphoschamber.com/event/teen-cafe-at-the-stoa-9/
ATTACH;FMTTYPE=image/jpeg:https://delphoschamber.com/wp-content/uploads/2024/11/Teen-Cafe.jpg
END:VEVENT
END:VCALENDAR