BEGIN:VCALENDAR
VERSION:2.0
PRODID:-//Delphos Area Chamber of Commerce - ECPv6.15.20//NONSGML v1.0//EN
CALSCALE:GREGORIAN
METHOD:PUBLISH
X-WR-CALNAME:Delphos Area Chamber of Commerce
X-ORIGINAL-URL:https://delphoschamber.com
X-WR-CALDESC:Events for Delphos Area Chamber of Commerce
REFRESH-INTERVAL;VALUE=DURATION:PT1H
X-Robots-Tag:noindex
X-PUBLISHED-TTL:PT1H
BEGIN:VTIMEZONE
TZID:America/New_York
BEGIN:DAYLIGHT
TZOFFSETFROM:-0500
TZOFFSETTO:-0400
TZNAME:EDT
DTSTART:20250309T070000
END:DAYLIGHT
BEGIN:STANDARD
TZOFFSETFROM:-0400
TZOFFSETTO:-0500
TZNAME:EST
DTSTART:20251102T060000
END:STANDARD
BEGIN:DAYLIGHT
TZOFFSETFROM:-0500
TZOFFSETTO:-0400
TZNAME:EDT
DTSTART:20260308T070000
END:DAYLIGHT
BEGIN:STANDARD
TZOFFSETFROM:-0400
TZOFFSETTO:-0500
TZNAME:EST
DTSTART:20261101T060000
END:STANDARD
BEGIN:DAYLIGHT
TZOFFSETFROM:-0500
TZOFFSETTO:-0400
TZNAME:EDT
DTSTART:20270314T070000
END:DAYLIGHT
BEGIN:STANDARD
TZOFFSETFROM:-0400
TZOFFSETTO:-0500
TZNAME:EST
DTSTART:20271107T060000
END:STANDARD
END:VTIMEZONE
BEGIN:VEVENT
DTSTART;TZID=America/New_York:20260409T173000
DTEND;TZID=America/New_York:20260409T203000
DTSTAMP:20260421T024436
CREATED:20260105T150353Z
LAST-MODIFIED:20260105T150353Z
UID:801900-1775755800-1775766600@delphoschamber.com
SUMMARY:CHP Home Care & Hospice Beacon of Hope Dinner & CharityAuction
DESCRIPTION:The Need:\nWhile hospice services are often covered by insurance\, there are critical financial gaps. Some patients are uninsured or underinsured at the time of terminal diagnosis. Others may lose coverage after leaving their jobs due to illness\, while others face delays in insurance authorizations or don’t qualify for Medicare or Medicaid based on age or income. Their needs can’t wait. At CHP\, no patient is ever turned away due to an inability to pay for hospice services. Your support ensures that everyone in our community can receive end-of-life care with dignity and compassion.\nSeats are complimentary by RSVP:You’re invited to attend! To reserve your complimentary dinner seats\, or a table of 8\, call 419-695-1999 or respond online by 03/31/2026 www.comhealthpro.org/events\nCHP Home Care & Hospice has been the local\, nonprofit\, trusted hospice care provider in NW/West Central Ohio for the last 51 years  Our annual Beacon of Hope for Hospice Dinner & Charity Auction will be held on April 9th\, 2026 and we invite you to attend  The event is a fun night out that features a delicious catered dinner (RSVP required) live and silent auction items\, 50/50 drawing\, raffles and more. All proceeds will go directly to our patient care fund for the Delphos and surrounding service area. Social time will begin at 5:30pm\, dinner at 6:15pm\, with live auction to follow at The Delphos Eagles. You won’t want to miss this memorable event supporting our hospice program with Kenny Thomas as Auctioneer and Rick Miller as Emcee.\nDonations:Consider donating a raffle basket\, gift certificates\, merchandise\, services\, and event tickets for our auctions. Monetary donations are also welcome. All contributions are tax deductible (34-1159395) This is a unique opportunity to advertise your business and support local\, so feel free to include business cards on your donations. If you are donating an item for the auction\, please notify us; mail\, drop off at our office\, or we can pick up by 04/02/26.\nEvent Sponsorships:$500+ monetary donors will have their company logo on the main banner behind podium\, logo on the front of all programs\, logo on your table\, and name read aloud during the evening in recognition. Tax deductible checks can be made payable to CHP and mailed to 1500 E Fifth St Delphos\, OH 45833 by 03/31/2026 to be an event sponsor.\nAlycen UrbanEvent Coordinator1500 E Fifth St Delphos\, OH 45833alycen_urban@comhealthpro.orgchpdelphosevents@gmail.comDirect Line: 419-238-9223 x1118Office: 419-695-1999
URL:https://delphoschamber.com/event/chp-home-care-hospice-beacon-of-hope-dinner-charityauction/
ATTACH;FMTTYPE=image/jpeg:https://delphoschamber.com/wp-content/uploads/2026/01/Beacon-of-Hope.jpg
END:VEVENT
END:VCALENDAR