BEGIN:VCALENDAR
VERSION:2.0
PRODID:-//Delphos Area Chamber of Commerce - ECPv6.15.20//NONSGML v1.0//EN
CALSCALE:GREGORIAN
METHOD:PUBLISH
X-WR-CALNAME:Delphos Area Chamber of Commerce
X-ORIGINAL-URL:https://delphoschamber.com
X-WR-CALDESC:Events for Delphos Area Chamber of Commerce
REFRESH-INTERVAL;VALUE=DURATION:PT1H
X-Robots-Tag:noindex
X-PUBLISHED-TTL:PT1H
BEGIN:VTIMEZONE
TZID:America/New_York
BEGIN:DAYLIGHT
TZOFFSETFROM:-0500
TZOFFSETTO:-0400
TZNAME:EDT
DTSTART:20250309T070000
END:DAYLIGHT
BEGIN:STANDARD
TZOFFSETFROM:-0400
TZOFFSETTO:-0500
TZNAME:EST
DTSTART:20251102T060000
END:STANDARD
BEGIN:DAYLIGHT
TZOFFSETFROM:-0500
TZOFFSETTO:-0400
TZNAME:EDT
DTSTART:20260308T070000
END:DAYLIGHT
BEGIN:STANDARD
TZOFFSETFROM:-0400
TZOFFSETTO:-0500
TZNAME:EST
DTSTART:20261101T060000
END:STANDARD
BEGIN:DAYLIGHT
TZOFFSETFROM:-0500
TZOFFSETTO:-0400
TZNAME:EDT
DTSTART:20270314T070000
END:DAYLIGHT
BEGIN:STANDARD
TZOFFSETFROM:-0400
TZOFFSETTO:-0500
TZNAME:EST
DTSTART:20271107T060000
END:STANDARD
END:VTIMEZONE
BEGIN:VEVENT
DTSTART;TZID=America/New_York:20260328T170000
DTEND;TZID=America/New_York:20260328T230000
DTSTAMP:20260421T041820
CREATED:20260121T163128Z
LAST-MODIFIED:20260121T163129Z
UID:801926-1774717200-1774738800@delphoschamber.com
SUMMARY:The Delphos Derby\, Annual Dinner & Awards
DESCRIPTION:It’s back and hot out the gate! Place your bets for the Delphos Derby!\n\n\nThe Delphos Area Chamber of Commerce invites you to The Delphos Derby\, Chamber Annual Dinner and Awards evening on Saturday\, March 28th at the Delphos Eagles Aerie #471 (1600 East Fifth Street\, Delphos) from 5pm-11pm. We will be hosting Chamber Awards\, horse races\, a Reverse Raffle\, raffle prizes & games\, and prizes awarded to the Best Hat and Most Dapper Gent.\n\n\nThe Delphos Derby celebrates our Chamber members and their achievements and is open to the public. Tickets are $55 per person or $420 for a table of 8.\nTicket includes dinner\, drinks\, entertainment and a reverse raffle ticket. To RSVP\, contact the Chamber.\n\n\nThank you for your continued support of The Delphos Area Chamber of Commerce. See you at the races!
URL:https://delphoschamber.com/event/the-delphos-derby-annual-dinner-awards/
ATTACH;FMTTYPE=image/jpeg:https://delphoschamber.com/wp-content/uploads/2026/01/annual-dinner-opener.jpg
END:VEVENT
END:VCALENDAR