BEGIN:VCALENDAR
VERSION:2.0
PRODID:-//Delphos Area Chamber of Commerce - ECPv6.15.20//NONSGML v1.0//EN
CALSCALE:GREGORIAN
METHOD:PUBLISH
X-WR-CALNAME:Delphos Area Chamber of Commerce
X-ORIGINAL-URL:https://delphoschamber.com
X-WR-CALDESC:Events for Delphos Area Chamber of Commerce
REFRESH-INTERVAL;VALUE=DURATION:PT1H
X-Robots-Tag:noindex
X-PUBLISHED-TTL:PT1H
BEGIN:VTIMEZONE
TZID:America/New_York
BEGIN:DAYLIGHT
TZOFFSETFROM:-0500
TZOFFSETTO:-0400
TZNAME:EDT
DTSTART:20250309T070000
END:DAYLIGHT
BEGIN:STANDARD
TZOFFSETFROM:-0400
TZOFFSETTO:-0500
TZNAME:EST
DTSTART:20251102T060000
END:STANDARD
BEGIN:DAYLIGHT
TZOFFSETFROM:-0500
TZOFFSETTO:-0400
TZNAME:EDT
DTSTART:20260308T070000
END:DAYLIGHT
BEGIN:STANDARD
TZOFFSETFROM:-0400
TZOFFSETTO:-0500
TZNAME:EST
DTSTART:20261101T060000
END:STANDARD
BEGIN:DAYLIGHT
TZOFFSETFROM:-0500
TZOFFSETTO:-0400
TZNAME:EDT
DTSTART:20270314T070000
END:DAYLIGHT
BEGIN:STANDARD
TZOFFSETFROM:-0400
TZOFFSETTO:-0500
TZNAME:EST
DTSTART:20271107T060000
END:STANDARD
END:VTIMEZONE
BEGIN:VEVENT
DTSTART;TZID=America/New_York:20260324T140000
DTEND;TZID=America/New_York:20260324T160000
DTSTAMP:20260421T040627
CREATED:20260305T165054Z
LAST-MODIFIED:20260305T165054Z
UID:801976-1774360800-1774368000@delphoschamber.com
SUMMARY:Mike's Food on Us
DESCRIPTION:‘Mike’s Food On Us’ Drive-Thru \nTuesday\, March 24\, 2026 • 2:30-4:30pm \nDelphos Eagles 1600 E. 5th St.\, Delphos \nRegistration begins at 1:30pm \nOpen to those in need in the Delphos school district. No more than 2 households per vehicle. \nPlease bring valid photo ID and proof of residency. Must be 18 years of age. \nIF ANY QUESTIONS PLEASE DO NOT CALL THE EAGLES! Call Deb Gallmeier 419-302-9349.
URL:https://delphoschamber.com/event/mikes-food-on-us-7/
ATTACH;FMTTYPE=image/jpeg:https://delphoschamber.com/wp-content/uploads/2026/03/March-Mikes.jpg
END:VEVENT
END:VCALENDAR