BEGIN:VCALENDAR
VERSION:2.0
PRODID:-//Delphos Area Chamber of Commerce - ECPv6.15.20//NONSGML v1.0//EN
CALSCALE:GREGORIAN
METHOD:PUBLISH
X-WR-CALNAME:Delphos Area Chamber of Commerce
X-ORIGINAL-URL:https://delphoschamber.com
X-WR-CALDESC:Events for Delphos Area Chamber of Commerce
REFRESH-INTERVAL;VALUE=DURATION:PT1H
X-Robots-Tag:noindex
X-PUBLISHED-TTL:PT1H
BEGIN:VTIMEZONE
TZID:America/New_York
BEGIN:DAYLIGHT
TZOFFSETFROM:-0500
TZOFFSETTO:-0400
TZNAME:EDT
DTSTART:20250309T070000
END:DAYLIGHT
BEGIN:STANDARD
TZOFFSETFROM:-0400
TZOFFSETTO:-0500
TZNAME:EST
DTSTART:20251102T060000
END:STANDARD
BEGIN:DAYLIGHT
TZOFFSETFROM:-0500
TZOFFSETTO:-0400
TZNAME:EDT
DTSTART:20260308T070000
END:DAYLIGHT
BEGIN:STANDARD
TZOFFSETFROM:-0400
TZOFFSETTO:-0500
TZNAME:EST
DTSTART:20261101T060000
END:STANDARD
BEGIN:DAYLIGHT
TZOFFSETFROM:-0500
TZOFFSETTO:-0400
TZNAME:EDT
DTSTART:20270314T070000
END:DAYLIGHT
BEGIN:STANDARD
TZOFFSETFROM:-0400
TZOFFSETTO:-0500
TZNAME:EST
DTSTART:20271107T060000
END:STANDARD
END:VTIMEZONE
BEGIN:VEVENT
DTSTART;TZID=America/New_York:20260225T180000
DTEND;TZID=America/New_York:20260225T200000
DTSTAMP:20260421T041825
CREATED:20260121T165606Z
LAST-MODIFIED:20260121T165606Z
UID:801932-1772042400-1772049600@delphoschamber.com
SUMMARY:Delphos Chamber Night of Networking- The Victorian Guesthouse
DESCRIPTION:Join the Chamber for their Night of Networking \nWednesday\, February 25th at The Victorian Guesthouse \n6:00PM • 331 E 3rd St.\, Delphos\, OH 45833 \nTour of the Guesthouse\, appetizers\, refreshments \nMurder Mystery Games begin at 7:00PM (optional) \nBusiness/employer must be a Chamber Member to Attend.  Please Register HERE. 
URL:https://delphoschamber.com/event/delphos-chamber-night-of-networking-the-victorian-guesthouse/
ATTACH;FMTTYPE=application/pdf:https://delphoschamber.com/wp-content/uploads/2026/01/NoN-Victorian-Guesthouse.pdf
END:VEVENT
END:VCALENDAR