BEGIN:VCALENDAR
VERSION:2.0
PRODID:-//Delphos Area Chamber of Commerce - ECPv6.15.20//NONSGML v1.0//EN
CALSCALE:GREGORIAN
METHOD:PUBLISH
X-ORIGINAL-URL:https://delphoschamber.com
X-WR-CALDESC:Events for Delphos Area Chamber of Commerce
REFRESH-INTERVAL;VALUE=DURATION:PT1H
X-Robots-Tag:noindex
X-PUBLISHED-TTL:PT1H
BEGIN:VTIMEZONE
TZID:America/New_York
BEGIN:DAYLIGHT
TZOFFSETFROM:-0500
TZOFFSETTO:-0400
TZNAME:EDT
DTSTART:20250309T070000
END:DAYLIGHT
BEGIN:STANDARD
TZOFFSETFROM:-0400
TZOFFSETTO:-0500
TZNAME:EST
DTSTART:20251102T060000
END:STANDARD
BEGIN:DAYLIGHT
TZOFFSETFROM:-0500
TZOFFSETTO:-0400
TZNAME:EDT
DTSTART:20260308T070000
END:DAYLIGHT
BEGIN:STANDARD
TZOFFSETFROM:-0400
TZOFFSETTO:-0500
TZNAME:EST
DTSTART:20261101T060000
END:STANDARD
BEGIN:DAYLIGHT
TZOFFSETFROM:-0500
TZOFFSETTO:-0400
TZNAME:EDT
DTSTART:20270314T070000
END:DAYLIGHT
BEGIN:STANDARD
TZOFFSETFROM:-0400
TZOFFSETTO:-0500
TZNAME:EST
DTSTART:20271107T060000
END:STANDARD
END:VTIMEZONE
BEGIN:VEVENT
DTSTART;TZID=America/New_York:20260208T180000
DTEND;TZID=America/New_York:20260208T230000
DTSTAMP:20260421T060810
CREATED:20260204T182507Z
LAST-MODIFIED:20260204T182507Z
UID:801949-1770573600-1770591600@delphoschamber.com
SUMMARY:Free Teen Superbowl Party
DESCRIPTION:Let’s GO!!!!Third Annual Teen Super Bowl Party – FREE to all teens(Please share near and far) \nThis Sunday\, February 8\, don’t miss the Third Annual Teen Super Bowl Party at The Stoa in Delphos!We’re talking free food from Raising Cane’s\, cash prizes\, games\, a massive 10-foot video wall\, and state-of-the-art DJ surround sound for the full Super Bowl experience. Totally FREE for any teen in Delphos or surrounding areas.Doors open at 6:00 PM—hang with friends\, eat dinner on us\, and win some cash!
URL:https://delphoschamber.com/event/free-teen-superbowl-party/
ATTACH;FMTTYPE=image/jpeg:https://delphoschamber.com/wp-content/uploads/2026/02/Superbowl-party.jpg
END:VEVENT
END:VCALENDAR