BEGIN:VCALENDAR
VERSION:2.0
PRODID:-//Delphos Area Chamber of Commerce - ECPv6.15.20//NONSGML v1.0//EN
CALSCALE:GREGORIAN
METHOD:PUBLISH
X-WR-CALNAME:Delphos Area Chamber of Commerce
X-ORIGINAL-URL:https://delphoschamber.com
X-WR-CALDESC:Events for Delphos Area Chamber of Commerce
REFRESH-INTERVAL;VALUE=DURATION:PT1H
X-Robots-Tag:noindex
X-PUBLISHED-TTL:PT1H
BEGIN:VTIMEZONE
TZID:America/New_York
BEGIN:DAYLIGHT
TZOFFSETFROM:-0500
TZOFFSETTO:-0400
TZNAME:EDT
DTSTART:20240310T070000
END:DAYLIGHT
BEGIN:STANDARD
TZOFFSETFROM:-0400
TZOFFSETTO:-0500
TZNAME:EST
DTSTART:20241103T060000
END:STANDARD
BEGIN:DAYLIGHT
TZOFFSETFROM:-0500
TZOFFSETTO:-0400
TZNAME:EDT
DTSTART:20250309T070000
END:DAYLIGHT
BEGIN:STANDARD
TZOFFSETFROM:-0400
TZOFFSETTO:-0500
TZNAME:EST
DTSTART:20251102T060000
END:STANDARD
BEGIN:DAYLIGHT
TZOFFSETFROM:-0500
TZOFFSETTO:-0400
TZNAME:EDT
DTSTART:20260308T070000
END:DAYLIGHT
BEGIN:STANDARD
TZOFFSETFROM:-0400
TZOFFSETTO:-0500
TZNAME:EST
DTSTART:20261101T060000
END:STANDARD
END:VTIMEZONE
BEGIN:VEVENT
DTSTART;TZID=America/New_York:20251209T180000
DTEND;TZID=America/New_York:20251209T200000
DTSTAMP:20260421T091028
CREATED:20251014T125811Z
LAST-MODIFIED:20251014T125812Z
UID:801683-1765303200-1765310400@delphoschamber.com
SUMMARY:Fire Association Steak Feed
DESCRIPTION:The Delphos Fire Association will be having their monthly steak feed on the 2nd Tuesday of the month from 6 p.m. to 8 p.m. or until sold out at \nThe Fireman’s Club House\, 911 Lima Avenue.\n\n\nMeals will include steak\, corn\, baked potato and bread.\n\n\n\n\n\nCost for dine -in is $15.00.\n\n\n\n\n\nCarry-out will be available – $13.00\, must come in the East doors – there will be no drive thru available.\n\n\n\n\n\nOur steak feeds are always the second Tuesday of the month September thru May. We hope to see you there. \nThank You for supporting the Delphos Fire Association.
URL:https://delphoschamber.com/event/fire-association-steak-feed-3/
ATTACH;FMTTYPE=image/jpeg:https://delphoschamber.com/wp-content/uploads/2019/10/steak.jpg
END:VEVENT
END:VCALENDAR