BEGIN:VCALENDAR
VERSION:2.0
PRODID:-//Delphos Area Chamber of Commerce - ECPv6.15.20//NONSGML v1.0//EN
CALSCALE:GREGORIAN
METHOD:PUBLISH
X-ORIGINAL-URL:https://delphoschamber.com
X-WR-CALDESC:Events for Delphos Area Chamber of Commerce
REFRESH-INTERVAL;VALUE=DURATION:PT1H
X-Robots-Tag:noindex
X-PUBLISHED-TTL:PT1H
BEGIN:VTIMEZONE
TZID:America/New_York
BEGIN:DAYLIGHT
TZOFFSETFROM:-0500
TZOFFSETTO:-0400
TZNAME:EDT
DTSTART:20240310T070000
END:DAYLIGHT
BEGIN:STANDARD
TZOFFSETFROM:-0400
TZOFFSETTO:-0500
TZNAME:EST
DTSTART:20241103T060000
END:STANDARD
BEGIN:DAYLIGHT
TZOFFSETFROM:-0500
TZOFFSETTO:-0400
TZNAME:EDT
DTSTART:20250309T070000
END:DAYLIGHT
BEGIN:STANDARD
TZOFFSETFROM:-0400
TZOFFSETTO:-0500
TZNAME:EST
DTSTART:20251102T060000
END:STANDARD
BEGIN:DAYLIGHT
TZOFFSETFROM:-0500
TZOFFSETTO:-0400
TZNAME:EDT
DTSTART:20260308T070000
END:DAYLIGHT
BEGIN:STANDARD
TZOFFSETFROM:-0400
TZOFFSETTO:-0500
TZNAME:EST
DTSTART:20261101T060000
END:STANDARD
END:VTIMEZONE
BEGIN:VEVENT
DTSTART;TZID=America/New_York:20251206T090000
DTEND;TZID=America/New_York:20251206T140000
DTSTAMP:20260421T091136
CREATED:20251205T190016Z
LAST-MODIFIED:20251205T190016Z
UID:801851-1765011600-1765029600@delphoschamber.com
SUMMARY:Delphos Relay for Life Christmas Craft Show
DESCRIPTION:Christmas Craft Show. Free Admission. Come out and support Area Artisans and Vendors!! Raffles and Concession Stand! \nDelphos Jefferson Senor High School • 901 Wildcat Lane\, Delphos • 9-2am
URL:https://delphoschamber.com/event/delphos-relay-for-life-christmas-craft-show/
ATTACH;FMTTYPE=image/jpeg:https://delphoschamber.com/wp-content/uploads/2025/12/Relay-for-Life-Craft-show.jpg
END:VEVENT
BEGIN:VEVENT
DTSTART;TZID=America/New_York:20251206T100000
DTEND;TZID=America/New_York:20251206T133000
DTSTAMP:20260421T091136
CREATED:20251119T145106Z
LAST-MODIFIED:20251119T145106Z
UID:801832-1765015200-1765027800@delphoschamber.com
SUMMARY:Sensory Santa Polar Express Celebration
DESCRIPTION: All Aboard for Inclusion! Join the Autism Support Squad of Northwest Ohio for a magical\, sensory-friendly Polar Express celebration designed especially for families affected by autism\, sensory processing needs\, and other developmental differences. \nSaturday\, December 6th 10a-1p. \nThis year’s theme is The Polar Express\, and families are invited to come dressed in their coziest pajamas and hop aboard for: A visit with Santa Crafts and cookie decorating Hot cocoa and light snacks Letters to Santa & reindeer food station A personalized gift from Santa’s Workshop\nEach child will receive their own golden ticket at check-in to visit activity stations and experience the wonder of the North Pole-at their own comfort and pace.\n Registration: $10 per familyYour registration helps us provide gifts\, activities\, and refreshments for all participating families.\n Register here: https://forms.gle/mQqYzKBtCxhXvDEV7Once registered\, you’ll receive an email confirmation with details on payment options and scholarship assistance (if needed).\n Space is limited-RSVP early to reserve your spot for this inclusive Christmas experience!
URL:https://delphoschamber.com/event/sensory-santa-polar-express-celebration/
ATTACH;FMTTYPE=image/jpeg:https://delphoschamber.com/wp-content/uploads/2025/11/Santa.jpg
END:VEVENT
END:VCALENDAR