BEGIN:VCALENDAR
VERSION:2.0
PRODID:-//Delphos Area Chamber of Commerce - ECPv6.15.20//NONSGML v1.0//EN
CALSCALE:GREGORIAN
METHOD:PUBLISH
X-ORIGINAL-URL:https://delphoschamber.com
X-WR-CALDESC:Events for Delphos Area Chamber of Commerce
REFRESH-INTERVAL;VALUE=DURATION:PT1H
X-Robots-Tag:noindex
X-PUBLISHED-TTL:PT1H
BEGIN:VTIMEZONE
TZID:America/New_York
BEGIN:DAYLIGHT
TZOFFSETFROM:-0500
TZOFFSETTO:-0400
TZNAME:EDT
DTSTART:20240310T070000
END:DAYLIGHT
BEGIN:STANDARD
TZOFFSETFROM:-0400
TZOFFSETTO:-0500
TZNAME:EST
DTSTART:20241103T060000
END:STANDARD
BEGIN:DAYLIGHT
TZOFFSETFROM:-0500
TZOFFSETTO:-0400
TZNAME:EDT
DTSTART:20250309T070000
END:DAYLIGHT
BEGIN:STANDARD
TZOFFSETFROM:-0400
TZOFFSETTO:-0500
TZNAME:EST
DTSTART:20251102T060000
END:STANDARD
BEGIN:DAYLIGHT
TZOFFSETFROM:-0500
TZOFFSETTO:-0400
TZNAME:EDT
DTSTART:20260308T070000
END:DAYLIGHT
BEGIN:STANDARD
TZOFFSETFROM:-0400
TZOFFSETTO:-0500
TZNAME:EST
DTSTART:20261101T060000
END:STANDARD
END:VTIMEZONE
BEGIN:VEVENT
DTSTART;TZID=America/New_York:20251205T160000
DTEND;TZID=America/New_York:20251205T183000
DTSTAMP:20260421T091227
CREATED:20251205T185645Z
LAST-MODIFIED:20251205T185645Z
UID:801848-1764950400-1764959400@delphoschamber.com
SUMMARY:Downtown Delphos Holiday Market
DESCRIPTION:We are so excited to be back and to see you on Friday!! Stocking stuffers\, unique gifts\, candies\, baked goods and plenty of items to get yourself something special for the Holiday Season! See you right before Your Hometown Christmas with Kiwanis Club of Delphos.\nThe Market is located at The Willow on Main\, 209 N. Main St.\, Delphos • 4-6:30pm
URL:https://delphoschamber.com/event/downtown-delphos-holiday-market-3/
ATTACH;FMTTYPE=image/jpeg:https://delphoschamber.com/wp-content/uploads/2025/12/At-the-Market.jpg
END:VEVENT
BEGIN:VEVENT
DTSTART;TZID=America/New_York:20251205T183000
DTEND;TZID=America/New_York:20251205T210000
DTSTAMP:20260421T091227
CREATED:20251119T150003Z
LAST-MODIFIED:20251119T150004Z
UID:801838-1764959400-1764968400@delphoschamber.com
SUMMARY:Kiwanis Hometown Christmas
DESCRIPTION:Downtown Delphos will be filled with the Magic of Christmas on Friday\, December 6\, 2025 \nSanta Parade journeys down Main St. at 6:30pm.  A number of local businesses will open to offer Holiday treats\, crafts\, activities and festive entertainment. \nCheck in with the Kiwanis on Facebook to see the full line up of activities.
URL:https://delphoschamber.com/event/kiwanis-hometown-christmas/
ATTACH;FMTTYPE=image/jpeg:https://delphoschamber.com/wp-content/uploads/2025/11/Kiwanis-scaled.jpg
END:VEVENT
END:VCALENDAR