BEGIN:VCALENDAR
VERSION:2.0
PRODID:-//Delphos Area Chamber of Commerce - ECPv6.15.20//NONSGML v1.0//EN
CALSCALE:GREGORIAN
METHOD:PUBLISH
X-ORIGINAL-URL:https://delphoschamber.com
X-WR-CALDESC:Events for Delphos Area Chamber of Commerce
REFRESH-INTERVAL;VALUE=DURATION:PT1H
X-Robots-Tag:noindex
X-PUBLISHED-TTL:PT1H
BEGIN:VTIMEZONE
TZID:America/New_York
BEGIN:DAYLIGHT
TZOFFSETFROM:-0500
TZOFFSETTO:-0400
TZNAME:EDT
DTSTART:20240310T070000
END:DAYLIGHT
BEGIN:STANDARD
TZOFFSETFROM:-0400
TZOFFSETTO:-0500
TZNAME:EST
DTSTART:20241103T060000
END:STANDARD
BEGIN:DAYLIGHT
TZOFFSETFROM:-0500
TZOFFSETTO:-0400
TZNAME:EDT
DTSTART:20250309T070000
END:DAYLIGHT
BEGIN:STANDARD
TZOFFSETFROM:-0400
TZOFFSETTO:-0500
TZNAME:EST
DTSTART:20251102T060000
END:STANDARD
BEGIN:DAYLIGHT
TZOFFSETFROM:-0500
TZOFFSETTO:-0400
TZNAME:EDT
DTSTART:20260308T070000
END:DAYLIGHT
BEGIN:STANDARD
TZOFFSETFROM:-0400
TZOFFSETTO:-0500
TZNAME:EST
DTSTART:20261101T060000
END:STANDARD
END:VTIMEZONE
BEGIN:VEVENT
DTSTART;TZID=America/New_York:20251031T180000
DTEND;TZID=America/New_York:20251031T180000
DTSTAMP:20260421T105929
CREATED:20251014T131017Z
LAST-MODIFIED:20251014T131029Z
UID:801701-1761933600-1761933600@delphoschamber.com
SUMMARY:Line Dancing at Doc's Dance Hall
DESCRIPTION: Line Dancing Schedule Update! \n\n\nWe’ve made a few date changes for the upcoming months — mark your calendars so you don’t miss the fun!\n\n\n October & November Line Dancing Updates:\n Friday\, October 31st\n Friday\, November 21st\nWednesday\, November 26th\n\n\nSame great music\, same great fun — just new dates! \nDoors Open at 6.  Dancing at 6:30\nBring your friends\, your dance moves\, and your good vibes to Doc’s Dance Hall & Event Center!
URL:https://delphoschamber.com/event/line-dancing-at-docs-dance-hall-7/
ATTACH;FMTTYPE=image/jpeg:https://delphoschamber.com/wp-content/uploads/2025/10/Line-Dancing.jpg
END:VEVENT
END:VCALENDAR