BEGIN:VCALENDAR
VERSION:2.0
PRODID:-//Delphos Area Chamber of Commerce - ECPv6.15.20//NONSGML v1.0//EN
CALSCALE:GREGORIAN
METHOD:PUBLISH
X-WR-CALNAME:Delphos Area Chamber of Commerce
X-ORIGINAL-URL:https://delphoschamber.com
X-WR-CALDESC:Events for Delphos Area Chamber of Commerce
REFRESH-INTERVAL;VALUE=DURATION:PT1H
X-Robots-Tag:noindex
X-PUBLISHED-TTL:PT1H
BEGIN:VTIMEZONE
TZID:America/New_York
BEGIN:DAYLIGHT
TZOFFSETFROM:-0500
TZOFFSETTO:-0400
TZNAME:EDT
DTSTART:20240310T070000
END:DAYLIGHT
BEGIN:STANDARD
TZOFFSETFROM:-0400
TZOFFSETTO:-0500
TZNAME:EST
DTSTART:20241103T060000
END:STANDARD
BEGIN:DAYLIGHT
TZOFFSETFROM:-0500
TZOFFSETTO:-0400
TZNAME:EDT
DTSTART:20250309T070000
END:DAYLIGHT
BEGIN:STANDARD
TZOFFSETFROM:-0400
TZOFFSETTO:-0500
TZNAME:EST
DTSTART:20251102T060000
END:STANDARD
BEGIN:DAYLIGHT
TZOFFSETFROM:-0500
TZOFFSETTO:-0400
TZNAME:EDT
DTSTART:20260308T070000
END:DAYLIGHT
BEGIN:STANDARD
TZOFFSETFROM:-0400
TZOFFSETTO:-0500
TZNAME:EST
DTSTART:20261101T060000
END:STANDARD
END:VTIMEZONE
BEGIN:VEVENT
DTSTART;TZID=America/New_York:20251030T100000
DTEND;TZID=America/New_York:20251030T110000
DTSTAMP:20260421T105734
CREATED:20251014T142003Z
LAST-MODIFIED:20251014T142015Z
UID:801749-1761818400-1761822000@delphoschamber.com
SUMMARY:Milk & Giggles
DESCRIPTION:Milk and Giggles — a cozy\, connection-focused playgroup for parents and their little ones in Delphos Ohio!Whether you’re a new parent navigating feeding journeys\, looking for support\, or just want a warm place to laugh\, vent\, and play — Milk and Giggles is for you. Hosted by a lactation-informed occupational therapist\, this group is all about community\, developmentally supportive play\, and real-life parenting.Come as you are\, bring your baby\, and let’s build something beautiful together — one giggle at a time.This group will replace the Infant support group originally once a month\, to better serve the needs of the community Follow us on Facebook for updates and feel free to tag a friend who’d love this! 
URL:https://delphoschamber.com/event/milk-giggles-17/
ATTACH;FMTTYPE=image/jpeg:https://delphoschamber.com/wp-content/uploads/2025/05/Milk-Giggles.jpg
END:VEVENT
BEGIN:VEVENT
DTSTART;TZID=America/New_York:20251030T173000
DTEND;TZID=America/New_York:20251030T193000
DTSTAMP:20260421T105734
CREATED:20251014T140308Z
LAST-MODIFIED:20251014T140308Z
UID:801738-1761845400-1761852600@delphoschamber.com
SUMMARY:Delphos Trick or Treat
DESCRIPTION:
URL:https://delphoschamber.com/event/delphos-trick-or-treat/
ATTACH;FMTTYPE=image/jpeg:https://delphoschamber.com/wp-content/uploads/2025/10/Trick-or-Treat.jpg
END:VEVENT
BEGIN:VEVENT
DTSTART;TZID=America/New_York:20251030T193000
DTEND;TZID=America/New_York:20251030T210000
DTSTAMP:20260421T105734
CREATED:20251023T153833Z
LAST-MODIFIED:20251023T153833Z
UID:801777-1761852600-1761858000@delphoschamber.com
SUMMARY:The STOA 3rd Annual Teen Halloween Party
DESCRIPTION:3rd Annual Teen Halloween Party \nAll Teens attend for Free \nThursday\, October 30\, 2025\, from 7:30pm-9:30pm \nLocal illusionist- Krendl with DJ and Host this event at the STOA 335 S. Main St.\, Delphos \n Dance music\, games\, costume contests\, food\, and more.
URL:https://delphoschamber.com/event/the-stoa-3rd-annual-teen-halloween-party/
ATTACH;FMTTYPE=image/jpeg:https://delphoschamber.com/wp-content/uploads/2025/10/STOA.jpg
END:VEVENT
END:VCALENDAR