BEGIN:VCALENDAR
VERSION:2.0
PRODID:-//Delphos Area Chamber of Commerce - ECPv6.15.20//NONSGML v1.0//EN
CALSCALE:GREGORIAN
METHOD:PUBLISH
X-WR-CALNAME:Delphos Area Chamber of Commerce
X-ORIGINAL-URL:https://delphoschamber.com
X-WR-CALDESC:Events for Delphos Area Chamber of Commerce
REFRESH-INTERVAL;VALUE=DURATION:PT1H
X-Robots-Tag:noindex
X-PUBLISHED-TTL:PT1H
BEGIN:VTIMEZONE
TZID:America/New_York
BEGIN:DAYLIGHT
TZOFFSETFROM:-0500
TZOFFSETTO:-0400
TZNAME:EDT
DTSTART:20240310T070000
END:DAYLIGHT
BEGIN:STANDARD
TZOFFSETFROM:-0400
TZOFFSETTO:-0500
TZNAME:EST
DTSTART:20241103T060000
END:STANDARD
BEGIN:DAYLIGHT
TZOFFSETFROM:-0500
TZOFFSETTO:-0400
TZNAME:EDT
DTSTART:20250309T070000
END:DAYLIGHT
BEGIN:STANDARD
TZOFFSETFROM:-0400
TZOFFSETTO:-0500
TZNAME:EST
DTSTART:20251102T060000
END:STANDARD
BEGIN:DAYLIGHT
TZOFFSETFROM:-0500
TZOFFSETTO:-0400
TZNAME:EDT
DTSTART:20260308T070000
END:DAYLIGHT
BEGIN:STANDARD
TZOFFSETFROM:-0400
TZOFFSETTO:-0500
TZNAME:EST
DTSTART:20261101T060000
END:STANDARD
END:VTIMEZONE
BEGIN:VEVENT
DTSTART;TZID=America/New_York:20250724T100000
DTEND;TZID=America/New_York:20250724T130000
DTSTAMP:20260421T175422
CREATED:20250717T160013Z
LAST-MODIFIED:20250717T160013Z
UID:801589-1753351200-1753362000@delphoschamber.com
SUMMARY:Milk & Giggles
DESCRIPTION:Milk and Giggles — a cozy\, connection-focused playgroup for parents and their little ones in Delphos Ohio!Whether you’re a new parent navigating feeding journeys\, looking for support\, or just want a warm place to laugh\, vent\, and play — Milk and Giggles is for you. Hosted by a lactation-informed occupational therapist\, this group is all about community\, developmentally supportive play\, and real-life parenting.Come as you are\, bring your baby\, and let’s build something beautiful together — one giggle at a time.This group will replace the Infant support group originally once a month\, to better serve the needs of the community Follow us on Facebook for updates and feel free to tag a friend who’d love this! 
URL:https://delphoschamber.com/event/milk-giggles-6/
ATTACH;FMTTYPE=image/jpeg:https://delphoschamber.com/wp-content/uploads/2025/05/Milk-Giggles.jpg
END:VEVENT
BEGIN:VEVENT
DTSTART;TZID=America/New_York:20250724T160000
DTEND;TZID=America/New_York:20250724T180000
DTSTAMP:20260421T175422
CREATED:20250424T134006Z
LAST-MODIFIED:20250424T134006Z
UID:801338-1753372800-1753380000@delphoschamber.com
SUMMARY:Downtown Delphos Farmers Market
DESCRIPTION:Downtown Delphos Farmers Market \nMarket and Little Entrepreneur Market “Kidz in Biz” \nThe Lot\, Corner of 4th & Main St.\, Delphos.\nJune – August on the 2nd and 4th Thursdays
URL:https://delphoschamber.com/event/downtown-delphos-farmers-market-9/
ATTACH;FMTTYPE=image/jpeg:https://delphoschamber.com/wp-content/uploads/2025/04/Market-Logo.jpg
END:VEVENT
BEGIN:VEVENT
DTSTART;TZID=America/New_York:20250724T193000
DTEND;TZID=America/New_York:20250724T210000
DTSTAMP:20260421T175422
CREATED:20250717T154200Z
LAST-MODIFIED:20250717T154201Z
UID:801575-1753385400-1753390800@delphoschamber.com
SUMMARY:Delphos Running Club #RunforaReason
DESCRIPTION:Welcome to the Delphos Running Club #runforareason! This is NOT a race club. The purpose is to exercise\, socialize (why we start & end at the Rustic) and give back to our community. Each 5k (3.1) run/walk\, which will start from the Rustic Café each Thursday at 7:30pm from April to September\, we will have a donation canister available for you to make donations. The DRC is a 501(c)3 nonprofit organization so your donations are tax deductible! Each month we will decide on a new charitable organization. Since 2014\, we donated over $50\,000 to LOCAL charities!\n\n\nThis is a FREE running club. Most running clubs have annual dues of $15 – $100 per year. Instead\, we want our “annual dues” to go to charity. There is no obligation to donate if you participate.\n\n\nNot only is it free to be in the club\, but after your 5th run/walk you get a FREE shirt! Our shirt features our purpose\, to run for a reason\, and logos from our wonderful sponsors. If your business is interested in sponsoring\, please send a message via Facebook. 
URL:https://delphoschamber.com/event/delphos-running-club-runforareason-16/
ATTACH;FMTTYPE=image/jpeg:https://delphoschamber.com/wp-content/uploads/2025/03/Delphos-Run-CLub.jpg
END:VEVENT
END:VCALENDAR