BEGIN:VCALENDAR
VERSION:2.0
PRODID:-//Delphos Area Chamber of Commerce - ECPv6.15.20//NONSGML v1.0//EN
CALSCALE:GREGORIAN
METHOD:PUBLISH
X-ORIGINAL-URL:https://delphoschamber.com
X-WR-CALDESC:Events for Delphos Area Chamber of Commerce
REFRESH-INTERVAL;VALUE=DURATION:PT1H
X-Robots-Tag:noindex
X-PUBLISHED-TTL:PT1H
BEGIN:VTIMEZONE
TZID:America/New_York
BEGIN:DAYLIGHT
TZOFFSETFROM:-0500
TZOFFSETTO:-0400
TZNAME:EDT
DTSTART:20240310T070000
END:DAYLIGHT
BEGIN:STANDARD
TZOFFSETFROM:-0400
TZOFFSETTO:-0500
TZNAME:EST
DTSTART:20241103T060000
END:STANDARD
BEGIN:DAYLIGHT
TZOFFSETFROM:-0500
TZOFFSETTO:-0400
TZNAME:EDT
DTSTART:20250309T070000
END:DAYLIGHT
BEGIN:STANDARD
TZOFFSETFROM:-0400
TZOFFSETTO:-0500
TZNAME:EST
DTSTART:20251102T060000
END:STANDARD
BEGIN:DAYLIGHT
TZOFFSETFROM:-0500
TZOFFSETTO:-0400
TZNAME:EDT
DTSTART:20260308T070000
END:DAYLIGHT
BEGIN:STANDARD
TZOFFSETFROM:-0400
TZOFFSETTO:-0500
TZNAME:EST
DTSTART:20261101T060000
END:STANDARD
END:VTIMEZONE
BEGIN:VEVENT
DTSTART;TZID=America/New_York:20250612T100000
DTEND;TZID=America/New_York:20250612T230000
DTSTAMP:20260421T160755
CREATED:20250512T150529Z
LAST-MODIFIED:20250512T150536Z
UID:801394-1749722400-1749769200@delphoschamber.com
SUMMARY:Milk & Giggles
DESCRIPTION:Milk and Giggles — a cozy\, connection-focused playgroup for parents and their little ones in Delphos Ohio!Whether you’re a new parent navigating feeding journeys\, looking for support\, or just want a warm place to laugh\, vent\, and play — Milk and Giggles is for you. Hosted by a lactation-informed occupational therapist\, this group is all about community\, developmentally supportive play\, and real-life parenting.Come as you are\, bring your baby\, and let’s build something beautiful together — one giggle at a time.This group will replace the Infant support group originally once a month\, to better serve the needs of the community The first group will begin Thursday\, June 5th!Follow us on Facebook for updates and feel free to tag a friend who’d love this! 
URL:https://delphoschamber.com/event/milk-giggles-2/
ATTACH;FMTTYPE=image/jpeg:https://delphoschamber.com/wp-content/uploads/2025/05/Milk-Giggles.jpg
END:VEVENT
BEGIN:VEVENT
DTSTART;TZID=America/New_York:20250612T150000
DTEND;TZID=America/New_York:20250612T180000
DTSTAMP:20260421T160755
CREATED:20250610T145215Z
LAST-MODIFIED:20250610T145215Z
UID:801481-1749740400-1749751200@delphoschamber.com
SUMMARY:Heather Marie Photography Open House
DESCRIPTION:Visit Heather Marie Photography at their NEW location\, 331 N. Main St.\, Delphos! Heather will be hosting a raffle for a free mini session and scheduling sessions for families and individuals. \n**Chamber Member Exclusive** Schedule company/dept./team professional headshots at an exclusive Chamber Member Price – email info@heathermariephotography.us for pricing and to schedule. \nThursday\, June 12th 3-6PM.
URL:https://delphoschamber.com/event/heather-marie-photography-open-house/
ATTACH;FMTTYPE=image/jpeg:https://delphoschamber.com/wp-content/uploads/2025/06/Heather-Marie-Open-House.jpg
END:VEVENT
BEGIN:VEVENT
DTSTART;TZID=America/New_York:20250612T160000
DTEND;TZID=America/New_York:20250612T180000
DTSTAMP:20260421T160755
CREATED:20250424T133609Z
LAST-MODIFIED:20250424T133609Z
UID:801331-1749744000-1749751200@delphoschamber.com
SUMMARY:Downtown Delphos Farmers Market
DESCRIPTION:Downtown Delphos Farmers Market \nThe Lot\, Corner of 4th & Main St.\, Delphos.\nJune – August on the 2nd and 4th Thursdays
URL:https://delphoschamber.com/event/downtown-delphos-farmers-market-6/
ATTACH;FMTTYPE=image/jpeg:https://delphoschamber.com/wp-content/uploads/2025/04/Market-Logo.jpg
END:VEVENT
BEGIN:VEVENT
DTSTART;TZID=America/New_York:20250612T160000
DTEND;TZID=America/New_York:20250612T180000
DTSTAMP:20260421T160755
CREATED:20250610T145955Z
LAST-MODIFIED:20250610T145956Z
UID:801483-1749744000-1749751200@delphoschamber.com
SUMMARY:Downtown Delphos Business Block Party
DESCRIPTION:Downtown Delphos is throwing a Block Party for you! Take a stroll downtown and see what “side dishes” of summer sales\, promotions\, giveaways\, raffles and family fun are being offered by our local downtown businesses and organizations. \n4-6 PM Thursday June 12th • July 10th • August 14th \nDon’t forget to visit the Downtown Delphos Farmers Market on the corner of 4th & Main during the Downtown Delphos Business Block Party! 
URL:https://delphoschamber.com/event/downtown-delphos-business-block-party-4/
ATTACH;FMTTYPE=image/jpeg:https://delphoschamber.com/wp-content/uploads/2025/06/Block-Party.jpg
END:VEVENT
BEGIN:VEVENT
DTSTART;TZID=America/New_York:20250612T193000
DTEND;TZID=America/New_York:20250612T210000
DTSTAMP:20260421T160755
CREATED:20250512T151743Z
LAST-MODIFIED:20250512T151803Z
UID:801404-1749756600-1749762000@delphoschamber.com
SUMMARY:Delphos Running Club #RunforaReason
DESCRIPTION:Welcome to the Delphos Running Club #runforareason! This is NOT a race club. The purpose is to exercise\, socialize (why we start & end at the Rustic) and give back to our community. Each 5k (3.1) run/walk\, which will start from the Rustic Café each Thursday at 7:30pm from April to September\, we will have a donation canister available for you to make donations. The DRC is a 501(c)3 nonprofit organization so your donations are tax deductible! Each month we will decide on a new charitable organization. Since 2014\, we donated over $50\,000 to LOCAL charities!\n\n\nThis is a FREE running club. Most running clubs have annual dues of $15 – $100 per year. Instead\, we want our “annual dues” to go to charity. There is no obligation to donate if you participate.\n\n\nNot only is it free to be in the club\, but after your 5th run/walk you get a FREE shirt! Our shirt features our purpose\, to run for a reason\, and logos from our wonderful sponsors. If your business is interested in sponsoring\, please send a message via Facebook. 
URL:https://delphoschamber.com/event/delphos-running-club-runforareason-13/
ATTACH;FMTTYPE=image/jpeg:https://delphoschamber.com/wp-content/uploads/2025/03/Delphos-Run-CLub.jpg
END:VEVENT
END:VCALENDAR