BEGIN:VCALENDAR
VERSION:2.0
PRODID:-//Delphos Area Chamber of Commerce - ECPv6.15.20//NONSGML v1.0//EN
CALSCALE:GREGORIAN
METHOD:PUBLISH
X-WR-CALNAME:Delphos Area Chamber of Commerce
X-ORIGINAL-URL:https://delphoschamber.com
X-WR-CALDESC:Events for Delphos Area Chamber of Commerce
REFRESH-INTERVAL;VALUE=DURATION:PT1H
X-Robots-Tag:noindex
X-PUBLISHED-TTL:PT1H
BEGIN:VTIMEZONE
TZID:America/New_York
BEGIN:DAYLIGHT
TZOFFSETFROM:-0500
TZOFFSETTO:-0400
TZNAME:EDT
DTSTART:20240310T070000
END:DAYLIGHT
BEGIN:STANDARD
TZOFFSETFROM:-0400
TZOFFSETTO:-0500
TZNAME:EST
DTSTART:20241103T060000
END:STANDARD
BEGIN:DAYLIGHT
TZOFFSETFROM:-0500
TZOFFSETTO:-0400
TZNAME:EDT
DTSTART:20250309T070000
END:DAYLIGHT
BEGIN:STANDARD
TZOFFSETFROM:-0400
TZOFFSETTO:-0500
TZNAME:EST
DTSTART:20251102T060000
END:STANDARD
BEGIN:DAYLIGHT
TZOFFSETFROM:-0500
TZOFFSETTO:-0400
TZNAME:EDT
DTSTART:20260308T070000
END:DAYLIGHT
BEGIN:STANDARD
TZOFFSETFROM:-0400
TZOFFSETTO:-0500
TZNAME:EST
DTSTART:20261101T060000
END:STANDARD
END:VTIMEZONE
BEGIN:VEVENT
DTSTART;TZID=America/New_York:20250530T110000
DTEND;TZID=America/New_York:20250530T130000
DTSTAMP:20260421T073351
CREATED:20250512T145842Z
LAST-MODIFIED:20250512T145842Z
UID:801385-1748602800-1748610000@delphoschamber.com
SUMMARY:Become a SUPERIOR-Hero in Delphos
DESCRIPTION:Become a Super-ior Hero!\nWe’ll have free food from Apollo Pizza + live entertainment from Fun 107.1! \nMembers can also sign up for chance to enter the money machine and take advantage of $250 off new auto loans. All Superior Credit Union members with direct deposit will be entered into win a $250 for them and $250 to the charity of their choice. Terms apply.\nLearn more: www.SuperiorCU.com/Hero \n\nSuperior Credit Union. 1303 E. 5th St. Delphos. \nFriday\, May 20 11a-1p
URL:https://delphoschamber.com/event/become-a-superior-hero-in-delphos/
ATTACH;FMTTYPE=image/jpeg:https://delphoschamber.com/wp-content/uploads/2025/05/Superior.jpg
END:VEVENT
END:VCALENDAR