BEGIN:VCALENDAR
VERSION:2.0
PRODID:-//Delphos Area Chamber of Commerce - ECPv6.15.20//NONSGML v1.0//EN
CALSCALE:GREGORIAN
METHOD:PUBLISH
X-ORIGINAL-URL:https://delphoschamber.com
X-WR-CALDESC:Events for Delphos Area Chamber of Commerce
REFRESH-INTERVAL;VALUE=DURATION:PT1H
X-Robots-Tag:noindex
X-PUBLISHED-TTL:PT1H
BEGIN:VTIMEZONE
TZID:America/New_York
BEGIN:DAYLIGHT
TZOFFSETFROM:-0500
TZOFFSETTO:-0400
TZNAME:EDT
DTSTART:20240310T070000
END:DAYLIGHT
BEGIN:STANDARD
TZOFFSETFROM:-0400
TZOFFSETTO:-0500
TZNAME:EST
DTSTART:20241103T060000
END:STANDARD
BEGIN:DAYLIGHT
TZOFFSETFROM:-0500
TZOFFSETTO:-0400
TZNAME:EDT
DTSTART:20250309T070000
END:DAYLIGHT
BEGIN:STANDARD
TZOFFSETFROM:-0400
TZOFFSETTO:-0500
TZNAME:EST
DTSTART:20251102T060000
END:STANDARD
BEGIN:DAYLIGHT
TZOFFSETFROM:-0500
TZOFFSETTO:-0400
TZNAME:EDT
DTSTART:20260308T070000
END:DAYLIGHT
BEGIN:STANDARD
TZOFFSETFROM:-0400
TZOFFSETTO:-0500
TZNAME:EST
DTSTART:20261101T060000
END:STANDARD
END:VTIMEZONE
BEGIN:VEVENT
DTSTART;TZID=America/New_York:20250513T173000
DTEND;TZID=America/New_York:20250513T183000
DTSTAMP:20260421T060822
CREATED:20250512T144634Z
LAST-MODIFIED:20250512T144635Z
UID:801372-1747157400-1747161000@delphoschamber.com
SUMMARY:Serenity Nutrition Cardio Drumming
DESCRIPTION:Join us for a fun sweaty time Cardio Drumming \nHow to join us\nStop into Peak Fitness 333 North Street Delphos OhioMon-Fri 10am-1pm/3pm-7pm and get a class pass!\nCome to class just a few minutes before 5:30 to get signed in \nClass is $5 cash OR card pay with Serena before class starts \n13 spots are available this upcoming class there are no sign ups just show up until we are full!\nFeel free to message with any questions & I look forward to crushing some cardio with you!!\n A bit more about Cardio Drumming This is an all levels activity! You can make it as easy or challenging as your desire! I will share with you some modifications but overall just keep moving & grooving and smiling \nLooking forward to class!!
URL:https://delphoschamber.com/event/serenity-nutrition-cardio-drumming/
ATTACH;FMTTYPE=image/jpeg:https://delphoschamber.com/wp-content/uploads/2025/05/Serenity.jpg
END:VEVENT
END:VCALENDAR