BEGIN:VCALENDAR
VERSION:2.0
PRODID:-//Delphos Area Chamber of Commerce - ECPv6.15.20//NONSGML v1.0//EN
CALSCALE:GREGORIAN
METHOD:PUBLISH
X-ORIGINAL-URL:https://delphoschamber.com
X-WR-CALDESC:Events for Delphos Area Chamber of Commerce
REFRESH-INTERVAL;VALUE=DURATION:PT1H
X-Robots-Tag:noindex
X-PUBLISHED-TTL:PT1H
BEGIN:VTIMEZONE
TZID:America/New_York
BEGIN:DAYLIGHT
TZOFFSETFROM:-0500
TZOFFSETTO:-0400
TZNAME:EDT
DTSTART:20240310T070000
END:DAYLIGHT
BEGIN:STANDARD
TZOFFSETFROM:-0400
TZOFFSETTO:-0500
TZNAME:EST
DTSTART:20241103T060000
END:STANDARD
BEGIN:DAYLIGHT
TZOFFSETFROM:-0500
TZOFFSETTO:-0400
TZNAME:EDT
DTSTART:20250309T070000
END:DAYLIGHT
BEGIN:STANDARD
TZOFFSETFROM:-0400
TZOFFSETTO:-0500
TZNAME:EST
DTSTART:20251102T060000
END:STANDARD
BEGIN:DAYLIGHT
TZOFFSETFROM:-0500
TZOFFSETTO:-0400
TZNAME:EDT
DTSTART:20260308T070000
END:DAYLIGHT
BEGIN:STANDARD
TZOFFSETFROM:-0400
TZOFFSETTO:-0500
TZNAME:EST
DTSTART:20261101T060000
END:STANDARD
END:VTIMEZONE
BEGIN:VEVENT
DTSTART;TZID=America/New_York:20250512T160000
DTEND;TZID=America/New_York:20250512T210000
DTSTAMP:20260421T060848
CREATED:20250512T154943Z
LAST-MODIFIED:20250512T154943Z
UID:801438-1747065600-1747083600@delphoschamber.com
SUMMARY:Friday Night Market at Doc's Dance Hall
DESCRIPTION:What better way to celebrate small businesses than at a brand new business nestled in downtown Delphos\, Ohio! Doc’s dance hall is a brand new venue attached to a brand new restaurant \, The Mill! Outstanding food and atmosphere! We have a great line up of vendors for an amazing Friday night! Come take a walk downtown\, grab a drink at the full bar\, and visit over 20 plus vendors in this spring night market for what is sure to be the most convenient way to get out and shop\, eat and see the new businesses!\nWe can’t wait to see you all there!!Support small business Friday\, May 16th.  4-9:30pm\,.  Doc’s Dance Hall\, Delphos.
URL:https://delphoschamber.com/event/friday-night-market-at-docs-dance-hall/
END:VEVENT
END:VCALENDAR