BEGIN:VCALENDAR
VERSION:2.0
PRODID:-//Delphos Area Chamber of Commerce - ECPv6.15.20//NONSGML v1.0//EN
CALSCALE:GREGORIAN
METHOD:PUBLISH
X-WR-CALNAME:Delphos Area Chamber of Commerce
X-ORIGINAL-URL:https://delphoschamber.com
X-WR-CALDESC:Events for Delphos Area Chamber of Commerce
REFRESH-INTERVAL;VALUE=DURATION:PT1H
X-Robots-Tag:noindex
X-PUBLISHED-TTL:PT1H
BEGIN:VTIMEZONE
TZID:America/New_York
BEGIN:DAYLIGHT
TZOFFSETFROM:-0500
TZOFFSETTO:-0400
TZNAME:EDT
DTSTART:20240310T070000
END:DAYLIGHT
BEGIN:STANDARD
TZOFFSETFROM:-0400
TZOFFSETTO:-0500
TZNAME:EST
DTSTART:20241103T060000
END:STANDARD
BEGIN:DAYLIGHT
TZOFFSETFROM:-0500
TZOFFSETTO:-0400
TZNAME:EDT
DTSTART:20250309T070000
END:DAYLIGHT
BEGIN:STANDARD
TZOFFSETFROM:-0400
TZOFFSETTO:-0500
TZNAME:EST
DTSTART:20251102T060000
END:STANDARD
BEGIN:DAYLIGHT
TZOFFSETFROM:-0500
TZOFFSETTO:-0400
TZNAME:EDT
DTSTART:20260308T070000
END:DAYLIGHT
BEGIN:STANDARD
TZOFFSETFROM:-0400
TZOFFSETTO:-0500
TZNAME:EST
DTSTART:20261101T060000
END:STANDARD
END:VTIMEZONE
BEGIN:VEVENT
DTSTART;TZID=America/New_York:20250501T183000
DTEND;TZID=America/New_York:20250501T183000
DTSTAMP:20260421T044452
CREATED:20250424T135342Z
LAST-MODIFIED:20250424T135349Z
UID:801355-1746124200-1746124200@delphoschamber.com
SUMMARY:Delphos St. John's Musical- Oklahoma
DESCRIPTION:The excitement is building as our young and talented Blue Jay performers are gearing up to present you a delightful rendition of the classic musical\, “Oklahoma!” (youth edition) by Rodgers & Hammerstein.\n\n\n\nGeneral Admission ONLINE Ticket Sales are open https://www.delphosstjohns.org/TicketInformation.aspx \n\n\n\nOR tickets can be purchased for CASH ONLY at the door the evening of the performance. \n\n\n\nThursday May 1st\nFriday May 2nd\nSaturday May 3rd\n\n\nLocation: Robert A. Arnzen Gymnasium\n\n\nEach evening show performances begin at 7:00pm with doors opening at 6:30pm (please make note this is earlier than in years past)\n\n\nTicket prices are $15 Adult\n$10 Student (Pre K-12)\n\n\nYou are not going to want to miss this musical filled with cowboys\, farmers\, fearless optimism in the rugged landscapes of the American West.
URL:https://delphoschamber.com/event/delphos-st-johns-musical-oklahoma-3/
ATTACH;FMTTYPE=image/jpeg:https://delphoschamber.com/wp-content/uploads/2025/04/490500286_1258922209571580_8076145768165591306_n.jpg
END:VEVENT
BEGIN:VEVENT
DTSTART;TZID=America/New_York:20250501T193000
DTEND;TZID=America/New_York:20250501T193000
DTSTAMP:20260421T044452
CREATED:20250317T132646Z
LAST-MODIFIED:20250424T135515Z
UID:801214-1746127800-1746127800@delphoschamber.com
SUMMARY:Delphos Running Club #RunforaReason
DESCRIPTION:Welcome to the Delphos Running Club #runforareason! This is NOT a race club. The purpose is to exercise\, socialize (why we start & end at the Rustic) and give back to our community. Each 5k (3.1) run/walk\, which will start from the Rustic Café each Thursday at 7:30pm from April to September\, we will have a donation canister available for you to make donations. The DRC is a 501(c)3 nonprofit organization so your donations are tax deductible! Each month we will decide on a new charitable organization. Since 2014\, we donated over $50\,000 to LOCAL charities!\n\n\nThis is a FREE running club. Most running clubs have annual dues of $15 – $100 per year. Instead\, we want our “annual dues” to go to charity. There is no obligation to donate if you participate.\n\n\nNot only is it free to be in the club\, but after your 5th run/walk you get a FREE shirt! Our shirt features our purpose\, to run for a reason\, and logos from our wonderful sponsors. If your business is interested in sponsoring\, please send a message via Facebook. 
URL:https://delphoschamber.com/event/delphos-running-club-runforareason-5/
ATTACH;FMTTYPE=image/jpeg:https://delphoschamber.com/wp-content/uploads/2025/03/Delphos-Run-CLub.jpg
END:VEVENT
END:VCALENDAR