BEGIN:VCALENDAR
VERSION:2.0
PRODID:-//Delphos Area Chamber of Commerce - ECPv6.15.20//NONSGML v1.0//EN
CALSCALE:GREGORIAN
METHOD:PUBLISH
X-WR-CALNAME:Delphos Area Chamber of Commerce
X-ORIGINAL-URL:https://delphoschamber.com
X-WR-CALDESC:Events for Delphos Area Chamber of Commerce
REFRESH-INTERVAL;VALUE=DURATION:PT1H
X-Robots-Tag:noindex
X-PUBLISHED-TTL:PT1H
BEGIN:VTIMEZONE
TZID:America/New_York
BEGIN:DAYLIGHT
TZOFFSETFROM:-0500
TZOFFSETTO:-0400
TZNAME:EDT
DTSTART:20240310T070000
END:DAYLIGHT
BEGIN:STANDARD
TZOFFSETFROM:-0400
TZOFFSETTO:-0500
TZNAME:EST
DTSTART:20241103T060000
END:STANDARD
BEGIN:DAYLIGHT
TZOFFSETFROM:-0500
TZOFFSETTO:-0400
TZNAME:EDT
DTSTART:20250309T070000
END:DAYLIGHT
BEGIN:STANDARD
TZOFFSETFROM:-0400
TZOFFSETTO:-0500
TZNAME:EST
DTSTART:20251102T060000
END:STANDARD
BEGIN:DAYLIGHT
TZOFFSETFROM:-0500
TZOFFSETTO:-0400
TZNAME:EDT
DTSTART:20260308T070000
END:DAYLIGHT
BEGIN:STANDARD
TZOFFSETFROM:-0400
TZOFFSETTO:-0500
TZNAME:EST
DTSTART:20261101T060000
END:STANDARD
END:VTIMEZONE
BEGIN:VEVENT
DTSTART;VALUE=DATE:20250427
DTEND;VALUE=DATE:20250428
DTSTAMP:20260421T052524
CREATED:20250424T135815Z
LAST-MODIFIED:20250424T140747Z
UID:801358-1745712000-1745798399@delphoschamber.com
SUMMARY:Delphos St. John's Early Bird - 12 Art Show
DESCRIPTION:Delphos St. John’s Early Bird- 12  Art Show\nSunday\, April 27\, 2025 After ALL Sunday Masses.\n\n\nYou are not going to want to miss the opportunity to see the creativity of so many students!!\n\n\nHUGE Thank you to Mrs. Tolliver and Mrs. Knutzen for your hard work\, dedication\, and creativity.
URL:https://delphoschamber.com/event/801358/
ATTACH;FMTTYPE=image/jpeg:https://delphoschamber.com/wp-content/uploads/2025/04/Art-Show.jpg
END:VEVENT
END:VCALENDAR