BEGIN:VCALENDAR
VERSION:2.0
PRODID:-//Delphos Area Chamber of Commerce - ECPv6.15.20//NONSGML v1.0//EN
CALSCALE:GREGORIAN
METHOD:PUBLISH
X-WR-CALNAME:Delphos Area Chamber of Commerce
X-ORIGINAL-URL:https://delphoschamber.com
X-WR-CALDESC:Events for Delphos Area Chamber of Commerce
REFRESH-INTERVAL;VALUE=DURATION:PT1H
X-Robots-Tag:noindex
X-PUBLISHED-TTL:PT1H
BEGIN:VTIMEZONE
TZID:America/New_York
BEGIN:DAYLIGHT
TZOFFSETFROM:-0500
TZOFFSETTO:-0400
TZNAME:EDT
DTSTART:20240310T070000
END:DAYLIGHT
BEGIN:STANDARD
TZOFFSETFROM:-0400
TZOFFSETTO:-0500
TZNAME:EST
DTSTART:20241103T060000
END:STANDARD
BEGIN:DAYLIGHT
TZOFFSETFROM:-0500
TZOFFSETTO:-0400
TZNAME:EDT
DTSTART:20250309T070000
END:DAYLIGHT
BEGIN:STANDARD
TZOFFSETFROM:-0400
TZOFFSETTO:-0500
TZNAME:EST
DTSTART:20251102T060000
END:STANDARD
BEGIN:DAYLIGHT
TZOFFSETFROM:-0500
TZOFFSETTO:-0400
TZNAME:EDT
DTSTART:20260308T070000
END:DAYLIGHT
BEGIN:STANDARD
TZOFFSETFROM:-0400
TZOFFSETTO:-0500
TZNAME:EST
DTSTART:20261101T060000
END:STANDARD
END:VTIMEZONE
BEGIN:VEVENT
DTSTART;TZID=America/New_York:20250406T110000
DTEND;TZID=America/New_York:20250406T110000
DTSTAMP:20260421T022314
CREATED:20250318T180513Z
LAST-MODIFIED:20250318T180523Z
UID:801269-1743937200-1743937200@delphoschamber.com
SUMMARY:Kiwanis Chicken BBQ
DESCRIPTION:Presale tickets are now on sale for the Kiwanis Spring chicken BBQ. \nTickets available at Westrich Furniture or any Kiwanis member. A very limited number of tickets will be available the day of the BBQ. \nSaturday\, April 6th 11:00a-2:00p or until sold out.
URL:https://delphoschamber.com/event/kiwanis-chicken-bbq/
ATTACH;FMTTYPE=image/jpeg:https://delphoschamber.com/wp-content/uploads/2025/03/Kiwanis-BBQ.jpg
END:VEVENT
BEGIN:VEVENT
DTSTART;TZID=America/New_York:20250406T150000
DTEND;TZID=America/New_York:20250406T160000
DTSTAMP:20260421T022314
CREATED:20250318T180304Z
LAST-MODIFIED:20250318T180355Z
UID:801266-1743951600-1743955200@delphoschamber.com
SUMMARY:Community Birth Workers Meet Up
DESCRIPTION:Forming connections and collaboration is KEY with being able to provide services in health care. Come and connect with community based birth workers in Northwest Ohio! Bring business cards\, share stories\, and build a supportive network with like minded professionals.\nHosted by Nikki Rode\, OT/CLC and Autumn Schuerman Doula/CLC
URL:https://delphoschamber.com/event/community-birth-workers-meet-up/
ATTACH;FMTTYPE=image/jpeg:https://delphoschamber.com/wp-content/uploads/2025/03/Community-Birth-workers.jpg
END:VEVENT
END:VCALENDAR