BEGIN:VCALENDAR
VERSION:2.0
PRODID:-//Delphos Area Chamber of Commerce - ECPv6.15.20//NONSGML v1.0//EN
CALSCALE:GREGORIAN
METHOD:PUBLISH
X-WR-CALNAME:Delphos Area Chamber of Commerce
X-ORIGINAL-URL:https://delphoschamber.com
X-WR-CALDESC:Events for Delphos Area Chamber of Commerce
REFRESH-INTERVAL;VALUE=DURATION:PT1H
X-Robots-Tag:noindex
X-PUBLISHED-TTL:PT1H
BEGIN:VTIMEZONE
TZID:America/New_York
BEGIN:DAYLIGHT
TZOFFSETFROM:-0500
TZOFFSETTO:-0400
TZNAME:EDT
DTSTART:20240310T070000
END:DAYLIGHT
BEGIN:STANDARD
TZOFFSETFROM:-0400
TZOFFSETTO:-0500
TZNAME:EST
DTSTART:20241103T060000
END:STANDARD
BEGIN:DAYLIGHT
TZOFFSETFROM:-0500
TZOFFSETTO:-0400
TZNAME:EDT
DTSTART:20250309T070000
END:DAYLIGHT
BEGIN:STANDARD
TZOFFSETFROM:-0400
TZOFFSETTO:-0500
TZNAME:EST
DTSTART:20251102T060000
END:STANDARD
BEGIN:DAYLIGHT
TZOFFSETFROM:-0500
TZOFFSETTO:-0400
TZNAME:EDT
DTSTART:20260308T070000
END:DAYLIGHT
BEGIN:STANDARD
TZOFFSETFROM:-0400
TZOFFSETTO:-0500
TZNAME:EST
DTSTART:20261101T060000
END:STANDARD
END:VTIMEZONE
BEGIN:VEVENT
DTSTART;TZID=America/New_York:20250327T180000
DTEND;TZID=America/New_York:20250406T000000
DTSTAMP:20260421T030057
CREATED:20250318T175635Z
LAST-MODIFIED:20250318T175646Z
UID:801257-1743098400-1743897600@delphoschamber.com
SUMMARY:Line Dancing- Doc's Dance Hall
DESCRIPTION:THURSDAY NIGHT LINE DANCING! \n\n\nJoin us TONIGHT and every Thursday at Doc’s Dance Hall and Event Center for Line Dancing Lessons!\n\n\nTime changed so make sure to take a look\n\n\nDoors open: 6pm\nLessons: 6:30-8pm\nOpen dancing: 8pm till close!\n\n\nTag your friends who you want to kick up your heels with tonight!\n\n\nNot feeling like dancing? No worries! Our full-service bar is always open for those who want to sit back and relax.\n\n\nSee you on the dance floor! \n\n\n\nAll info on our website: www.docsdancehall.com
URL:https://delphoschamber.com/event/line-dancing-docs-dance-hall-2/
ATTACH;FMTTYPE=image/jpeg:https://delphoschamber.com/wp-content/uploads/2025/03/Line-Dancing.jpg
END:VEVENT
BEGIN:VEVENT
DTSTART;TZID=America/New_York:20250405T100000
DTEND;TZID=America/New_York:20250405T140000
DTSTAMP:20260421T030057
CREATED:20250318T183800Z
LAST-MODIFIED:20250318T183815Z
UID:801285-1743847200-1743861600@delphoschamber.com
SUMMARY:H.G. Violet Open House Event
DESCRIPTION:Stop by on April 5th for our annual Open House from 10 – 2! \nFeaturing our new line up of Mahindra 1100 & 2100 series tractors! Great deals on Massimo UTV’s\, Cub Cadet mowers\, Hustler commercial mowers and Grasshopper zero turns! \n2103 N. Main St. Delphos\, OH 45833
URL:https://delphoschamber.com/event/h-g-violet-open-house-event/
ATTACH;FMTTYPE=image/jpeg:https://delphoschamber.com/wp-content/uploads/2025/03/HG-Violet.jpg
END:VEVENT
BEGIN:VEVENT
DTSTART;TZID=America/New_York:20250405T140000
DTEND;TZID=America/New_York:20250405T140000
DTSTAMP:20260421T030057
CREATED:20250317T133659Z
LAST-MODIFIED:20250318T171725Z
UID:801227-1743861600-1743861600@delphoschamber.com
SUMMARY:DRMC Easter Egg Hunt
DESCRIPTION:Do Right Motorcycle Club Easter Egg Hunt \nSaturday\, April 5th. 2:00PM. 807 Ohio St.\, Delphos\, OH 45833 \nGames\, egg hunt and The Easter Bunny
URL:https://delphoschamber.com/event/drmc-easter-egg-hunt/
ATTACH;FMTTYPE=image/jpeg:https://delphoschamber.com/wp-content/uploads/2025/03/DRMC-Easter.jpg
END:VEVENT
END:VCALENDAR