BEGIN:VCALENDAR
VERSION:2.0
PRODID:-//Delphos Area Chamber of Commerce - ECPv6.15.20//NONSGML v1.0//EN
CALSCALE:GREGORIAN
METHOD:PUBLISH
X-WR-CALNAME:Delphos Area Chamber of Commerce
X-ORIGINAL-URL:https://delphoschamber.com
X-WR-CALDESC:Events for Delphos Area Chamber of Commerce
REFRESH-INTERVAL;VALUE=DURATION:PT1H
X-Robots-Tag:noindex
X-PUBLISHED-TTL:PT1H
BEGIN:VTIMEZONE
TZID:America/New_York
BEGIN:DAYLIGHT
TZOFFSETFROM:-0500
TZOFFSETTO:-0400
TZNAME:EDT
DTSTART:20240310T070000
END:DAYLIGHT
BEGIN:STANDARD
TZOFFSETFROM:-0400
TZOFFSETTO:-0500
TZNAME:EST
DTSTART:20241103T060000
END:STANDARD
BEGIN:DAYLIGHT
TZOFFSETFROM:-0500
TZOFFSETTO:-0400
TZNAME:EDT
DTSTART:20250309T070000
END:DAYLIGHT
BEGIN:STANDARD
TZOFFSETFROM:-0400
TZOFFSETTO:-0500
TZNAME:EST
DTSTART:20251102T060000
END:STANDARD
BEGIN:DAYLIGHT
TZOFFSETFROM:-0500
TZOFFSETTO:-0400
TZNAME:EDT
DTSTART:20260308T070000
END:DAYLIGHT
BEGIN:STANDARD
TZOFFSETFROM:-0400
TZOFFSETTO:-0500
TZNAME:EST
DTSTART:20261101T060000
END:STANDARD
END:VTIMEZONE
BEGIN:VEVENT
DTSTART;TZID=America/New_York:20250327T180000
DTEND;TZID=America/New_York:20250406T000000
DTSTAMP:20260421T022435
CREATED:20250318T175635Z
LAST-MODIFIED:20250318T175646Z
UID:801257-1743098400-1743897600@delphoschamber.com
SUMMARY:Line Dancing- Doc's Dance Hall
DESCRIPTION:THURSDAY NIGHT LINE DANCING! \n\n\nJoin us TONIGHT and every Thursday at Doc’s Dance Hall and Event Center for Line Dancing Lessons!\n\n\nTime changed so make sure to take a look\n\n\nDoors open: 6pm\nLessons: 6:30-8pm\nOpen dancing: 8pm till close!\n\n\nTag your friends who you want to kick up your heels with tonight!\n\n\nNot feeling like dancing? No worries! Our full-service bar is always open for those who want to sit back and relax.\n\n\nSee you on the dance floor! \n\n\n\nAll info on our website: www.docsdancehall.com
URL:https://delphoschamber.com/event/line-dancing-docs-dance-hall-2/
ATTACH;FMTTYPE=image/jpeg:https://delphoschamber.com/wp-content/uploads/2025/03/Line-Dancing.jpg
END:VEVENT
BEGIN:VEVENT
DTSTART;TZID=America/New_York:20250403T173000
DTEND;TZID=America/New_York:20250403T200000
DTSTAMP:20260421T022435
CREATED:20241203T165809Z
LAST-MODIFIED:20241203T165810Z
UID:801068-1743701400-1743710400@delphoschamber.com
SUMMARY:Beacon of Hope Dinner and Charity Auction
DESCRIPTION:CHP Home Care and Hospice Beacon of Hope Dinner and Charity Auction \nThursday\, April 3\, 2025 • Delphos Eagles • 6:30PM \nSilent Auctions\, Free Dinner\, Raffles\, 50/50\, Door Prizes \nPlease RSVP by March 28th to CHP Home Care & Hospice\, 419-695-1999
URL:https://delphoschamber.com/event/beacon-of-hope-dinner-and-charity-auction/
ATTACH;FMTTYPE=image/jpeg:https://delphoschamber.com/wp-content/uploads/2024/12/BOH-.jpg
END:VEVENT
BEGIN:VEVENT
DTSTART;TZID=America/New_York:20250403T180000
DTEND;TZID=America/New_York:20250403T180000
DTSTAMP:20260421T022435
CREATED:20250318T175754Z
LAST-MODIFIED:20250318T175809Z
UID:801260-1743703200-1743703200@delphoschamber.com
SUMMARY:Line Dancing- Doc's Dance Hall
DESCRIPTION:THURSDAY NIGHT LINE DANCING! \n\n\nJoin us TONIGHT and every Thursday at Doc’s Dance Hall and Event Center for Line Dancing Lessons!\n\n\nTime changed so make sure to take a look\n\n\nDoors open: 6pm\nLessons: 6:30-8pm\nOpen dancing: 8pm till close!\n\n\nTag your friends who you want to kick up your heels with tonight!\n\n\nNot feeling like dancing? No worries! Our full-service bar is always open for those who want to sit back and relax.\n\n\nSee you on the dance floor! \n\n\n\nAll info on our website: www.docsdancehall.com
URL:https://delphoschamber.com/event/line-dancing-docs-dance-hall-3/
ATTACH;FMTTYPE=image/jpeg:https://delphoschamber.com/wp-content/uploads/2025/03/Line-Dancing.jpg
END:VEVENT
BEGIN:VEVENT
DTSTART;TZID=America/New_York:20250403T193000
DTEND;TZID=America/New_York:20250403T193000
DTSTAMP:20260421T022435
CREATED:20250317T132335Z
LAST-MODIFIED:20250318T171508Z
UID:801205-1743708600-1743708600@delphoschamber.com
SUMMARY:Delphos Running Club #RunforaReason
DESCRIPTION:Welcome to the Delphos Running Club #runforareason! This is NOT a race club. The purpose is to exercise\, socialize (why we start & end at the Rustic) and give back to our community. Each 5k (3.1) run/walk\, which will start from the Rustic Café each Thursday at 7:30pm from April to September\, we will have a donation canister available for you to make donations. The DRC is a 501(c)3 nonprofit organization so your donations are tax deductible! Each month we will decide on a new charitable organization. Since 2014\, we donated over $50\,000 to LOCAL charities!\n\n\nThis is a FREE running club. Most running clubs have annual dues of $15 – $100 per year. Instead\, we want our “annual dues” to go to charity. There is no obligation to donate if you participate.\n\n\nNot only is it free to be in the club\, but after your 5th run/walk you get a FREE shirt! Our shirt features our purpose\, to run for a reason\, and logos from our wonderful sponsors. If your business is interested in sponsoring\, please send a message via Facebook. 
URL:https://delphoschamber.com/event/delphos-running-club-runforareason/
ATTACH;FMTTYPE=image/jpeg:https://delphoschamber.com/wp-content/uploads/2025/03/Delphos-Run-CLub.jpg
END:VEVENT
END:VCALENDAR