BEGIN:VCALENDAR
VERSION:2.0
PRODID:-//Delphos Area Chamber of Commerce - ECPv6.15.20//NONSGML v1.0//EN
CALSCALE:GREGORIAN
METHOD:PUBLISH
X-ORIGINAL-URL:https://delphoschamber.com
X-WR-CALDESC:Events for Delphos Area Chamber of Commerce
REFRESH-INTERVAL;VALUE=DURATION:PT1H
X-Robots-Tag:noindex
X-PUBLISHED-TTL:PT1H
BEGIN:VTIMEZONE
TZID:America/New_York
BEGIN:DAYLIGHT
TZOFFSETFROM:-0500
TZOFFSETTO:-0400
TZNAME:EDT
DTSTART:20240310T070000
END:DAYLIGHT
BEGIN:STANDARD
TZOFFSETFROM:-0400
TZOFFSETTO:-0500
TZNAME:EST
DTSTART:20241103T060000
END:STANDARD
BEGIN:DAYLIGHT
TZOFFSETFROM:-0500
TZOFFSETTO:-0400
TZNAME:EDT
DTSTART:20250309T070000
END:DAYLIGHT
BEGIN:STANDARD
TZOFFSETFROM:-0400
TZOFFSETTO:-0500
TZNAME:EST
DTSTART:20251102T060000
END:STANDARD
BEGIN:DAYLIGHT
TZOFFSETFROM:-0500
TZOFFSETTO:-0400
TZNAME:EDT
DTSTART:20260308T070000
END:DAYLIGHT
BEGIN:STANDARD
TZOFFSETFROM:-0400
TZOFFSETTO:-0500
TZNAME:EST
DTSTART:20261101T060000
END:STANDARD
END:VTIMEZONE
BEGIN:VEVENT
DTSTART;TZID=America/New_York:20250209T180000
DTEND;TZID=America/New_York:20250209T180000
DTSTAMP:20260421T010308
CREATED:20250205T141008Z
LAST-MODIFIED:20250205T141142Z
UID:801172-1739124000-1739124000@delphoschamber.com
SUMMARY:Teen Superbowl Party
DESCRIPTION:Excited for our 2nd Annual Superbowl Party. Last year we had over 65 kids from 4 different schools represented. This year we hope for more!\nFeaturing the largest Video wall in the region (6 foot by 10 foot LED Video Wall) with Surround Sound Experience!\nCash Prizes will be given out\, Charcoal Grilled Wings\, Snacks\, Drinks\, Games\, & More\nThis is for all teens in Delphos and surrounding communities.\nSpread the word and we will see you at the big event!\nFor questions please message us. This event is being Sponsored by The Amor Fati Foundation hosted by Krendl \n\nThe Stoa- 335 S. Main St.\, Delphos
URL:https://delphoschamber.com/event/teen-superbowl-party-3/
ATTACH;FMTTYPE=image/jpeg:https://delphoschamber.com/wp-content/uploads/2025/02/Superbowl.jpg
END:VEVENT
END:VCALENDAR