BEGIN:VCALENDAR
VERSION:2.0
PRODID:-//Delphos Area Chamber of Commerce - ECPv6.15.20//NONSGML v1.0//EN
CALSCALE:GREGORIAN
METHOD:PUBLISH
X-ORIGINAL-URL:https://delphoschamber.com
X-WR-CALDESC:Events for Delphos Area Chamber of Commerce
REFRESH-INTERVAL;VALUE=DURATION:PT1H
X-Robots-Tag:noindex
X-PUBLISHED-TTL:PT1H
BEGIN:VTIMEZONE
TZID:America/New_York
BEGIN:DAYLIGHT
TZOFFSETFROM:-0500
TZOFFSETTO:-0400
TZNAME:EDT
DTSTART:20230312T070000
END:DAYLIGHT
BEGIN:STANDARD
TZOFFSETFROM:-0400
TZOFFSETTO:-0500
TZNAME:EST
DTSTART:20231105T060000
END:STANDARD
BEGIN:DAYLIGHT
TZOFFSETFROM:-0500
TZOFFSETTO:-0400
TZNAME:EDT
DTSTART:20240310T070000
END:DAYLIGHT
BEGIN:STANDARD
TZOFFSETFROM:-0400
TZOFFSETTO:-0500
TZNAME:EST
DTSTART:20241103T060000
END:STANDARD
BEGIN:DAYLIGHT
TZOFFSETFROM:-0500
TZOFFSETTO:-0400
TZNAME:EDT
DTSTART:20250309T070000
END:DAYLIGHT
BEGIN:STANDARD
TZOFFSETFROM:-0400
TZOFFSETTO:-0500
TZNAME:EST
DTSTART:20251102T060000
END:STANDARD
END:VTIMEZONE
BEGIN:VEVENT
DTSTART;TZID=America/New_York:20240814T170000
DTEND;TZID=America/New_York:20240814T200000
DTSTAMP:20260421T125758
CREATED:20240801T154152Z
LAST-MODIFIED:20240801T154153Z
UID:800879-1723654800-1723665600@delphoschamber.com
SUMMARY:Dancer by Gina Open House
DESCRIPTION:Dancer by Gina Open House \nMeet the teachers\, register for classes\, tour the facility and sign up for door prizes! \nWednesday\, August 14\, 2024 • 5:00- 8:008PM \n10996 Elida Rd\, Delphos \n 
URL:https://delphoschamber.com/event/dancer-by-gina-open-house/
ATTACH;FMTTYPE=image/jpeg:https://delphoschamber.com/wp-content/uploads/2024/08/Dancer-by-Gina-open-house.jpg
END:VEVENT
BEGIN:VEVENT
DTSTART;TZID=America/New_York:20240814T180000
DTEND;TZID=America/New_York:20240814T200000
DTSTAMP:20260421T125758
CREATED:20240801T160120Z
LAST-MODIFIED:20240801T160120Z
UID:800885-1723658400-1723665600@delphoschamber.com
SUMMARY:Back to School Supply Drive
DESCRIPTION:Wednesday\, August 14th\, 6-8pm.   Stadium Park Shelter House \nBack to school drive to help supplement the supplies that students may need. \nMUST be pupils of Delphos school district proof will be required for this. \nThank you to Bryan Weimerskirch with State Farm as well and Delphos Family Dentistry for helping with this school drive.
URL:https://delphoschamber.com/event/back-to-school-supply-drive/
ATTACH;FMTTYPE=image/jpeg:https://delphoschamber.com/wp-content/uploads/2024/08/BACK-TO-SCHOOL-scaled.jpg
END:VEVENT
END:VCALENDAR