BEGIN:VCALENDAR
VERSION:2.0
PRODID:-//Delphos Area Chamber of Commerce - ECPv6.15.20//NONSGML v1.0//EN
CALSCALE:GREGORIAN
METHOD:PUBLISH
X-WR-CALNAME:Delphos Area Chamber of Commerce
X-ORIGINAL-URL:https://delphoschamber.com
X-WR-CALDESC:Events for Delphos Area Chamber of Commerce
REFRESH-INTERVAL;VALUE=DURATION:PT1H
X-Robots-Tag:noindex
X-PUBLISHED-TTL:PT1H
BEGIN:VTIMEZONE
TZID:America/New_York
BEGIN:DAYLIGHT
TZOFFSETFROM:-0500
TZOFFSETTO:-0400
TZNAME:EDT
DTSTART:20230312T070000
END:DAYLIGHT
BEGIN:STANDARD
TZOFFSETFROM:-0400
TZOFFSETTO:-0500
TZNAME:EST
DTSTART:20231105T060000
END:STANDARD
BEGIN:DAYLIGHT
TZOFFSETFROM:-0500
TZOFFSETTO:-0400
TZNAME:EDT
DTSTART:20240310T070000
END:DAYLIGHT
BEGIN:STANDARD
TZOFFSETFROM:-0400
TZOFFSETTO:-0500
TZNAME:EST
DTSTART:20241103T060000
END:STANDARD
BEGIN:DAYLIGHT
TZOFFSETFROM:-0500
TZOFFSETTO:-0400
TZNAME:EDT
DTSTART:20250309T070000
END:DAYLIGHT
BEGIN:STANDARD
TZOFFSETFROM:-0400
TZOFFSETTO:-0500
TZNAME:EST
DTSTART:20251102T060000
END:STANDARD
END:VTIMEZONE
BEGIN:VEVENT
DTSTART;TZID=America/New_York:20240808T160000
DTEND;TZID=America/New_York:20240808T180000
DTSTAMP:20260421T125630
CREATED:20240625T164853Z
LAST-MODIFIED:20240625T164853Z
UID:800819-1723132800-1723140000@delphoschamber.com
SUMMARY:Downtown Delphos Farmers Market
DESCRIPTION:Downtown Delphos Farmers Market \nCome downtown and support your friends\, neighbors and small business owners as they showcase their home grown\, fresh baked\, hand crafted\,  hand sewn and painted products that are unique and offer a variety for everyone to enjoy! \nThe Lot\, Corner of 4th & Main St.\, Delphos.June – August on the 2nd and 4th Thursdays of the month 4:00-6:00PM 
URL:https://delphoschamber.com/event/downtown-delphos-farmers-market-4/
ATTACH;FMTTYPE=image/jpeg:https://delphoschamber.com/wp-content/uploads/2024/06/Market-Day-Announcment.jpg
END:VEVENT
BEGIN:VEVENT
DTSTART;TZID=America/New_York:20240808T160000
DTEND;TZID=America/New_York:20240808T180000
DTSTAMP:20260421T125630
CREATED:20240625T165344Z
LAST-MODIFIED:20240625T165347Z
UID:800828-1723132800-1723140000@delphoschamber.com
SUMMARY:Downtown Delphos Business Block Party
DESCRIPTION:Visit Downtown Delphos on Thursday\, June 13th\, July 11th and August 8th and see what “side dishes” our local small businesses and organizations have for you at The Downtown Delphos Business Block Party! Don’t forget to visit Downtown Delphos Farmers Market all from 4-6pm! \nList of those participating in the Block Party can be found on the Delphos Chamber Facebook Page the week of the event!
URL:https://delphoschamber.com/event/downtown-delphos-business-block-party-3/
ATTACH;FMTTYPE=image/jpeg:https://delphoschamber.com/wp-content/uploads/2024/06/Block-Party-Public-Announcement.jpg
END:VEVENT
BEGIN:VEVENT
DTSTART;TZID=America/New_York:20240808T180000
DTEND;TZID=America/New_York:20240808T210000
DTSTAMP:20260421T125630
CREATED:20240627T142119Z
LAST-MODIFIED:20240806T183621Z
UID:800869-1723140000-1723150800@delphoschamber.com
SUMMARY:National Night Out- RESCHEDULED AUGUST 8TH
DESCRIPTION:RESCHEDuLED FOR THURSDAY AUGUST 8TH \nJoin us for a fun-filled evening at Stadium Park! Meet your local officers\, enjoy games\, food\, and activities for all ages.  \nStrengthen our community bonds and promote safety together. \nThursday\, August 8\, 2024 6-9PM \nStadium Park\, Delphos
URL:https://delphoschamber.com/event/national-night-out/
ATTACH;FMTTYPE=image/jpeg:https://delphoschamber.com/wp-content/uploads/2024/06/National-Night-Out.jpg
END:VEVENT
BEGIN:VEVENT
DTSTART;TZID=America/New_York:20240808T193000
DTEND;TZID=America/New_York:20240808T210000
DTSTAMP:20260421T125630
CREATED:20240625T172424Z
LAST-MODIFIED:20240625T172424Z
UID:800857-1723145400-1723150800@delphoschamber.com
SUMMARY:Delphos Running Club
DESCRIPTION:Welcome to the Delphos Running Club (DRC) #runforareason! This is NOT a race club. he purpose is to exercise\, socialize (why we start & end at the Rustic) and give back to our community. Each 5k (3.1) run/walk\, which will start from the Rustic Café each Thursday at 7:30pm from April to September\, we will have a donation canister available for you to make donations. The DRC is a 501(c)3 nonprofit organization so your donations are tax deductible! Each month\, we will decide on a new charitable organization.\nSince 2014\, we donated over $100\,000 to LOCAL charities!\nThis is a FREE running club. Most running clubs have annual dues of $15 – $200 per year. Instead\, we want our “annual dues” to go to charity. \nThere is no obligation to donate if you participate.\nNot only is it free to be in the club\, but after your 5th\, 10th & 15th run/walk you get FREE awards! Our shirt features our purpose\, to run for a reason\, and logos from our wonderful sponsors. If your business is interested in sponsoring\, please send me a message for more details!\nIf you have any questions\, please send me a private message or e-mail me at delphosrunningclub@gmail.com. Thank you!
URL:https://delphoschamber.com/event/delphos-running-club-28/
ATTACH;FMTTYPE=image/jpeg:https://delphoschamber.com/wp-content/uploads/2021/04/DRC.jpg
END:VEVENT
END:VCALENDAR