BEGIN:VCALENDAR
VERSION:2.0
PRODID:-//Delphos Area Chamber of Commerce - ECPv6.15.20//NONSGML v1.0//EN
CALSCALE:GREGORIAN
METHOD:PUBLISH
X-ORIGINAL-URL:https://delphoschamber.com
X-WR-CALDESC:Events for Delphos Area Chamber of Commerce
REFRESH-INTERVAL;VALUE=DURATION:PT1H
X-Robots-Tag:noindex
X-PUBLISHED-TTL:PT1H
BEGIN:VTIMEZONE
TZID:America/New_York
BEGIN:DAYLIGHT
TZOFFSETFROM:-0500
TZOFFSETTO:-0400
TZNAME:EDT
DTSTART:20230312T070000
END:DAYLIGHT
BEGIN:STANDARD
TZOFFSETFROM:-0400
TZOFFSETTO:-0500
TZNAME:EST
DTSTART:20231105T060000
END:STANDARD
BEGIN:DAYLIGHT
TZOFFSETFROM:-0500
TZOFFSETTO:-0400
TZNAME:EDT
DTSTART:20240310T070000
END:DAYLIGHT
BEGIN:STANDARD
TZOFFSETFROM:-0400
TZOFFSETTO:-0500
TZNAME:EST
DTSTART:20241103T060000
END:STANDARD
BEGIN:DAYLIGHT
TZOFFSETFROM:-0500
TZOFFSETTO:-0400
TZNAME:EDT
DTSTART:20250309T070000
END:DAYLIGHT
BEGIN:STANDARD
TZOFFSETFROM:-0400
TZOFFSETTO:-0500
TZNAME:EST
DTSTART:20251102T060000
END:STANDARD
END:VTIMEZONE
BEGIN:VEVENT
DTSTART;TZID=America/New_York:20240723T140000
DTEND;TZID=America/New_York:20240723T163000
DTSTAMP:20260421T144311
CREATED:20240215T153523Z
LAST-MODIFIED:20240215T155246Z
UID:800544-1721743200-1721752200@delphoschamber.com
SUMMARY:Mike's Food On Us
DESCRIPTION:‘Mike’s Food On Us’ Drive-Thru \nTuesday\, July 23\, 2024 • 2:30-4:30pm \nDelphos Eagles 1600 E. 5th St.\, Delphos \nRegistration begins at 2:00pm \nOpen to those in need in the Delphos school district. No more than 2 households per vehicle. \nPlease bring valid photo ID and proof of residency. Must be 18 years of age. \nIF ANY QUESTIONS PLEASE DO NOT CALL THE EAGLES! Call Deb Gallmeier 419-302-9349.
URL:https://delphoschamber.com/event/mikes-food-on-us-3/
ATTACH;FMTTYPE=image/jpeg:https://delphoschamber.com/wp-content/uploads/2024/02/Mikes-3.jpg
END:VEVENT
END:VCALENDAR