BEGIN:VCALENDAR
VERSION:2.0
PRODID:-//Delphos Area Chamber of Commerce - ECPv6.15.20//NONSGML v1.0//EN
CALSCALE:GREGORIAN
METHOD:PUBLISH
X-ORIGINAL-URL:https://delphoschamber.com
X-WR-CALDESC:Events for Delphos Area Chamber of Commerce
REFRESH-INTERVAL;VALUE=DURATION:PT1H
X-Robots-Tag:noindex
X-PUBLISHED-TTL:PT1H
BEGIN:VTIMEZONE
TZID:America/New_York
BEGIN:DAYLIGHT
TZOFFSETFROM:-0500
TZOFFSETTO:-0400
TZNAME:EDT
DTSTART:20230312T070000
END:DAYLIGHT
BEGIN:STANDARD
TZOFFSETFROM:-0400
TZOFFSETTO:-0500
TZNAME:EST
DTSTART:20231105T060000
END:STANDARD
BEGIN:DAYLIGHT
TZOFFSETFROM:-0500
TZOFFSETTO:-0400
TZNAME:EDT
DTSTART:20240310T070000
END:DAYLIGHT
BEGIN:STANDARD
TZOFFSETFROM:-0400
TZOFFSETTO:-0500
TZNAME:EST
DTSTART:20241103T060000
END:STANDARD
BEGIN:DAYLIGHT
TZOFFSETFROM:-0500
TZOFFSETTO:-0400
TZNAME:EDT
DTSTART:20250309T070000
END:DAYLIGHT
BEGIN:STANDARD
TZOFFSETFROM:-0400
TZOFFSETTO:-0500
TZNAME:EST
DTSTART:20251102T060000
END:STANDARD
END:VTIMEZONE
BEGIN:VEVENT
DTSTART;TZID=America/New_York:20240504T110000
DTEND;TZID=America/New_York:20240504T190000
DTSTAMP:20260421T180259
CREATED:20240424T163646Z
LAST-MODIFIED:20240424T163646Z
UID:800721-1714820400-1714849200@delphoschamber.com
SUMMARY:Benefit/Tattoo Flash Sale for McKayla
DESCRIPTION:Hey there\, everyone!  We’re super excited to welcome you all to our tattoo flash sale with 500+ designs to choose from and benefit event for McKayla and her newborn baby!  Not only will you have the chance to get some awesome tattoos\, but we’ve also got tickets for some really amazing door prizes! $1 each or 6 for $5 donation  We will also have pulled pork sandwich a bag of chips and a pop or water for a donation of $7!!! All proceeds will be donated to McKayla and her beautiful baby boy! Make sure to mark your calendars and join us for a day filled with fun\, support\, and incredible art! Can’t wait to see you there! \n~ Black Plague Tattoo Company
URL:https://delphoschamber.com/event/benefit-tattoo-flash-sale-for-mckayla/
ATTACH;FMTTYPE=image/jpeg:https://delphoschamber.com/wp-content/uploads/2024/04/benefit.jpg
END:VEVENT
BEGIN:VEVENT
DTSTART;TZID=America/New_York:20240504T180000
DTEND;TZID=America/New_York:20240504T220000
DTSTAMP:20260421T180259
CREATED:20240424T165732Z
LAST-MODIFIED:20240424T165732Z
UID:800724-1714845600-1714860000@delphoschamber.com
SUMMARY:The Willow on Main presents Blackhoof Creek
DESCRIPTION:Live music and full cash bar \nFood available for purchase  right across the street at Haehn’s Simply Brewed Coffee Shop & More. \nCome in\, sit down\, enjoy dinner\, a drink and live music. \nMUST BE 21 TO ENTER. \n209 N. Main St.\, Delphos
URL:https://delphoschamber.com/event/the-willow-on-main-presents-blackhoof-creek/
ATTACH;FMTTYPE=image/jpeg:https://delphoschamber.com/wp-content/uploads/2024/04/Willow-on-Main-May.jpg
END:VEVENT
END:VCALENDAR