BEGIN:VCALENDAR
VERSION:2.0
PRODID:-//Delphos Area Chamber of Commerce - ECPv6.15.20//NONSGML v1.0//EN
CALSCALE:GREGORIAN
METHOD:PUBLISH
X-ORIGINAL-URL:https://delphoschamber.com
X-WR-CALDESC:Events for Delphos Area Chamber of Commerce
REFRESH-INTERVAL;VALUE=DURATION:PT1H
X-Robots-Tag:noindex
X-PUBLISHED-TTL:PT1H
BEGIN:VTIMEZONE
TZID:America/New_York
BEGIN:DAYLIGHT
TZOFFSETFROM:-0500
TZOFFSETTO:-0400
TZNAME:EDT
DTSTART:20230312T070000
END:DAYLIGHT
BEGIN:STANDARD
TZOFFSETFROM:-0400
TZOFFSETTO:-0500
TZNAME:EST
DTSTART:20231105T060000
END:STANDARD
BEGIN:DAYLIGHT
TZOFFSETFROM:-0500
TZOFFSETTO:-0400
TZNAME:EDT
DTSTART:20240310T070000
END:DAYLIGHT
BEGIN:STANDARD
TZOFFSETFROM:-0400
TZOFFSETTO:-0500
TZNAME:EST
DTSTART:20241103T060000
END:STANDARD
BEGIN:DAYLIGHT
TZOFFSETFROM:-0500
TZOFFSETTO:-0400
TZNAME:EDT
DTSTART:20250309T070000
END:DAYLIGHT
BEGIN:STANDARD
TZOFFSETFROM:-0400
TZOFFSETTO:-0500
TZNAME:EST
DTSTART:20251102T060000
END:STANDARD
END:VTIMEZONE
BEGIN:VEVENT
DTSTART;TZID=America/New_York:20240426T170000
DTEND;TZID=America/New_York:20240426T220000
DTSTAMP:20260421T195404
CREATED:20240424T161933Z
LAST-MODIFIED:20240424T161934Z
UID:800702-1714150800-1714168800@delphoschamber.com
SUMMARY:Do-Right Motorcycle Club Bike Night
DESCRIPTION:BIKE NIGHT!!! Open to the public!!! Come on down! Food served outside! Drinks in the clubhouse! Music! 50/50 drawing! And of course… \nBIKES!!! Clubhouse will remain open after event!
URL:https://delphoschamber.com/event/do-right-motorcycle-club-bike-night/
ATTACH;FMTTYPE=image/jpeg:https://delphoschamber.com/wp-content/uploads/2024/04/Bike-Night.jpg
END:VEVENT
BEGIN:VEVENT
DTSTART;TZID=America/New_York:20240426T193000
DTEND;TZID=America/New_York:20240426T193000
DTSTAMP:20260421T195404
CREATED:20240424T171520Z
LAST-MODIFIED:20240424T171627Z
UID:800730-1714159800-1714159800@delphoschamber.com
SUMMARY:Delphos Jefferson presents "Annie Jr."
DESCRIPTION:Delphos Jefferson Presents “Annie Jr.” 7:30pm on April 26th & 27th and 2pm on April 28th. Jefferson Middle School Auditorium \nTickets are $10 each available at DJHS or at the door the day of the performance.
URL:https://delphoschamber.com/event/delphos-jefferson-presents-annie-jr/
ATTACH;FMTTYPE=image/jpeg:https://delphoschamber.com/wp-content/uploads/2024/04/Annie.jpg
END:VEVENT
END:VCALENDAR