BEGIN:VCALENDAR
VERSION:2.0
PRODID:-//Delphos Area Chamber of Commerce - ECPv6.15.20//NONSGML v1.0//EN
CALSCALE:GREGORIAN
METHOD:PUBLISH
X-ORIGINAL-URL:https://delphoschamber.com
X-WR-CALDESC:Events for Delphos Area Chamber of Commerce
REFRESH-INTERVAL;VALUE=DURATION:PT1H
X-Robots-Tag:noindex
X-PUBLISHED-TTL:PT1H
BEGIN:VTIMEZONE
TZID:America/New_York
BEGIN:DAYLIGHT
TZOFFSETFROM:-0500
TZOFFSETTO:-0400
TZNAME:EDT
DTSTART:20230312T070000
END:DAYLIGHT
BEGIN:STANDARD
TZOFFSETFROM:-0400
TZOFFSETTO:-0500
TZNAME:EST
DTSTART:20231105T060000
END:STANDARD
BEGIN:DAYLIGHT
TZOFFSETFROM:-0500
TZOFFSETTO:-0400
TZNAME:EDT
DTSTART:20240310T070000
END:DAYLIGHT
BEGIN:STANDARD
TZOFFSETFROM:-0400
TZOFFSETTO:-0500
TZNAME:EST
DTSTART:20241103T060000
END:STANDARD
BEGIN:DAYLIGHT
TZOFFSETFROM:-0500
TZOFFSETTO:-0400
TZNAME:EDT
DTSTART:20250309T070000
END:DAYLIGHT
BEGIN:STANDARD
TZOFFSETFROM:-0400
TZOFFSETTO:-0500
TZNAME:EST
DTSTART:20251102T060000
END:STANDARD
END:VTIMEZONE
BEGIN:VEVENT
DTSTART;VALUE=DATE:20240406
DTEND;VALUE=DATE:20240407
DTSTAMP:20260421T195336
CREATED:20240118T175237Z
LAST-MODIFIED:20240321T142744Z
UID:800482-1712361600-1712447999@delphoschamber.com
SUMMARY:Solar Eclipse Weekend
DESCRIPTION:TOTAL SOLAR ECLIPSE \nDelphos is in the Path of Totality for the2024 Solar Eclipse\, a ONCE IN A LIFETIME EVENT. Please visit the Schedule of Events Calendar for the Eclipse located on both the Chamber’s Website and Delphos Canal Commission website for list of events\, frequently added to and updated. \nECLIPSE EVENT CALENDAR HERE
URL:https://delphoschamber.com/event/solar-eclipse-weekend/
ATTACH;FMTTYPE=image/jpeg:https://delphoschamber.com/wp-content/uploads/2024/01/Eclipse-Event-Flyer.jpg
END:VEVENT
BEGIN:VEVENT
DTSTART;TZID=America/New_York:20240406T090000
DTEND;TZID=America/New_York:20240406T130000
DTSTAMP:20260421T195336
CREATED:20240321T143626Z
LAST-MODIFIED:20240321T143626Z
UID:800639-1712394000-1712408400@delphoschamber.com
SUMMARY:Delphos Relay For Life Spring Craft and Vendor Show
DESCRIPTION:Saturday\, April 6\, 2024 \nDelphos Jefferson High School • 9a-1pm.
URL:https://delphoschamber.com/event/delphos-relay-for-life-spring-craft-and-vendor-show/
ATTACH;FMTTYPE=image/jpeg:https://delphoschamber.com/wp-content/uploads/2024/03/craft-show-scaled.jpg
END:VEVENT
BEGIN:VEVENT
DTSTART;TZID=America/New_York:20240406T150000
DTEND;TZID=America/New_York:20240406T230000
DTSTAMP:20260421T195336
CREATED:20240321T142515Z
LAST-MODIFIED:20240321T142515Z
UID:800632-1712415600-1712444400@delphoschamber.com
SUMMARY:Total Solar Eclipse Party in Delphos
DESCRIPTION:Come Spend Saturday in Delphos to prepare for the Solar Eclipse on The Lot\, corner of Main and 4th Streets. FREE! NO ENTRY FEE!!\nSaturday\, April 6\, 3pm-11pm: Food trucks including…\nTHE DONUT HOLE\nBEARDED BBQ\nFROG SNEEZE MAC & CHEESE\nTOM’S HOTDOGS\n\nFor the KIDS…\nBOUNCE HOUSES (FREE)\nBLOW-UP OBSTACLE COURSES (FREE)\nMECHANICAL ROCKET SHIP (FREE)\n\nFor the ADULTS…\nNCAA MARCH MADNESS\nALCOHOLIC DRINKS AVAILABLE FOR PURCHASE\n\nBeginning at 7pm: CALLING THE REVERSE RAFFLE NUMBERS\n(We will call numbers every 15 minutes\, with the winners announced at 11pm)\n8pm-11pm: LIVE MUSIC – ADAM WISHER\n8pm: Drawing for BIG RAFFLE ITEMS
URL:https://delphoschamber.com/event/total-solar-eclipse-party-in-delphos/
ATTACH;FMTTYPE=image/jpeg:https://delphoschamber.com/wp-content/uploads/2024/03/Delphian-Party.jpg
END:VEVENT
BEGIN:VEVENT
DTSTART;TZID=America/New_York:20240406T180000
DTEND;TZID=America/New_York:20240406T230000
DTSTAMP:20260421T195336
CREATED:20240201T164402Z
LAST-MODIFIED:20240201T164403Z
UID:800511-1712426400-1712444400@delphoschamber.com
SUMMARY:Big Ticket Item Bingo
DESCRIPTION:The Give Back Program will be hosting a Big Ticket Item Bingo Saturday\, April 6th.  \nTickets are $30 and will include 20 games of bingo with large prize items and light appetizers.  \nTables can be reserved for $10 with purchase of 8 or more tickets.  \nDoors open at 6:00pm with bingo starting at 7:00pm.  \nTickets can be purchased at the At Home Realty office or by contacting Lynn Miller at 419-234-2314 or Kristina Auer at 419-595–5616.
URL:https://delphoschamber.com/event/big-ticket-item-bingo/
ATTACH;FMTTYPE=image/jpeg:https://delphoschamber.com/wp-content/uploads/2024/02/give-back.jpg
END:VEVENT
END:VCALENDAR