BEGIN:VCALENDAR
VERSION:2.0
PRODID:-//Delphos Area Chamber of Commerce - ECPv6.15.20//NONSGML v1.0//EN
CALSCALE:GREGORIAN
METHOD:PUBLISH
X-ORIGINAL-URL:https://delphoschamber.com
X-WR-CALDESC:Events for Delphos Area Chamber of Commerce
REFRESH-INTERVAL;VALUE=DURATION:PT1H
X-Robots-Tag:noindex
X-PUBLISHED-TTL:PT1H
BEGIN:VTIMEZONE
TZID:America/New_York
BEGIN:DAYLIGHT
TZOFFSETFROM:-0500
TZOFFSETTO:-0400
TZNAME:EDT
DTSTART:20230312T070000
END:DAYLIGHT
BEGIN:STANDARD
TZOFFSETFROM:-0400
TZOFFSETTO:-0500
TZNAME:EST
DTSTART:20231105T060000
END:STANDARD
BEGIN:DAYLIGHT
TZOFFSETFROM:-0500
TZOFFSETTO:-0400
TZNAME:EDT
DTSTART:20240310T070000
END:DAYLIGHT
BEGIN:STANDARD
TZOFFSETFROM:-0400
TZOFFSETTO:-0500
TZNAME:EST
DTSTART:20241103T060000
END:STANDARD
BEGIN:DAYLIGHT
TZOFFSETFROM:-0500
TZOFFSETTO:-0400
TZNAME:EDT
DTSTART:20250309T070000
END:DAYLIGHT
BEGIN:STANDARD
TZOFFSETFROM:-0400
TZOFFSETTO:-0500
TZNAME:EST
DTSTART:20251102T060000
END:STANDARD
END:VTIMEZONE
BEGIN:VEVENT
DTSTART;TZID=America/New_York:20240322T160000
DTEND;TZID=America/New_York:20240322T190000
DTSTAMP:20260421T213148
CREATED:20240215T165408Z
LAST-MODIFIED:20240215T165409Z
UID:800564-1711123200-1711134000@delphoschamber.com
SUMMARY:Delphos Local Fish Fry Fridays
DESCRIPTION: Delphos Local Fish Fry Fridays \nFebruary 16th – March 29th \nDelphos K of C Hall 1362. 1011 Elida Rd.\, Delphos. (419) 692-7731. 4-7pm or Sold Out. Drive Thru Option. See Website for Details \nAmerican Legion #268. 413 State St.\, Delphos. (419) 692-6756. 4-7pm or Sold Out
URL:https://delphoschamber.com/event/delphos-local-fish-fry-fridays-5/
ATTACH;FMTTYPE=image/jpeg:https://delphoschamber.com/wp-content/uploads/2024/02/Fish-Fry.jpg
END:VEVENT
END:VCALENDAR