BEGIN:VCALENDAR
VERSION:2.0
PRODID:-//Delphos Area Chamber of Commerce - ECPv6.15.20//NONSGML v1.0//EN
CALSCALE:GREGORIAN
METHOD:PUBLISH
X-ORIGINAL-URL:https://delphoschamber.com
X-WR-CALDESC:Events for Delphos Area Chamber of Commerce
REFRESH-INTERVAL;VALUE=DURATION:PT1H
X-Robots-Tag:noindex
X-PUBLISHED-TTL:PT1H
BEGIN:VTIMEZONE
TZID:America/New_York
BEGIN:DAYLIGHT
TZOFFSETFROM:-0500
TZOFFSETTO:-0400
TZNAME:EDT
DTSTART:20230312T070000
END:DAYLIGHT
BEGIN:STANDARD
TZOFFSETFROM:-0400
TZOFFSETTO:-0500
TZNAME:EST
DTSTART:20231105T060000
END:STANDARD
BEGIN:DAYLIGHT
TZOFFSETFROM:-0500
TZOFFSETTO:-0400
TZNAME:EDT
DTSTART:20240310T070000
END:DAYLIGHT
BEGIN:STANDARD
TZOFFSETFROM:-0400
TZOFFSETTO:-0500
TZNAME:EST
DTSTART:20241103T060000
END:STANDARD
BEGIN:DAYLIGHT
TZOFFSETFROM:-0500
TZOFFSETTO:-0400
TZNAME:EDT
DTSTART:20250309T070000
END:DAYLIGHT
BEGIN:STANDARD
TZOFFSETFROM:-0400
TZOFFSETTO:-0500
TZNAME:EST
DTSTART:20251102T060000
END:STANDARD
END:VTIMEZONE
BEGIN:VEVENT
DTSTART;VALUE=DATE:20240223
DTEND;VALUE=DATE:20240308
DTSTAMP:20260421T213131
CREATED:20240222T170307Z
LAST-MODIFIED:20240222T170307Z
UID:800569-1708646400-1709855999@delphoschamber.com
SUMMARY:Delphos St. John's Annual Plant and Flower Sale
DESCRIPTION:It’s time for the Delphos St John’s Annual plant and Flower Sale! \nGeraniums\, begonias\, petunias\, vegetables and PLENTY of hanging baskets ! \nFebruary 23 – March 7th. Online sales available until March 11th at midnight. \nGo to “fundraiseit.org”\, enter the name of your band student and they will deliver it to you ! \nDelivery is on May 9th – just before Mother’s Day! \nPlease contact any band member to place an order. Any questions\, contact Sue Vonderwell (419)236-5400. \nThank you for supporting our Delphos St. John’s Blue Jay Band!
URL:https://delphoschamber.com/event/delphos-st-johns-annual-plant-and-flower-sale/
ATTACH;FMTTYPE=image/jpeg:https://delphoschamber.com/wp-content/uploads/2024/02/Plant-Sale.jpg
END:VEVENT
BEGIN:VEVENT
DTSTART;TZID=America/New_York:20240226T170000
DTEND;TZID=America/New_York:20240226T193000
DTSTAMP:20260421T213131
CREATED:20240201T164946Z
LAST-MODIFIED:20240201T165114Z
UID:800517-1708966800-1708975800@delphoschamber.com
SUMMARY:Vantage Open House\, Taste of Vantage 2024
DESCRIPTION:Join us for an evening at Vantage Career Center! We will be opening our doors to Interested Sophomores\, Juniors\, Graduating Seniors\, Adults\, Alumni\, Community Members\, and employers to gain insight into our programs offered\, certifications\, licenses\, college and career connections.  \nOn Monday\, February 26\, 2023 from 5 – 7:30 p.m.  \nYOU can explore each lab\, see student-led demonstrations\, and speak with Instructors and employers about what being part of the Vantage district looks like! FOOD will be available from our amazing local food vendors and Diamond Sponsors. Come Join Us! Bring your Parents\, Families\, and Friends!
URL:https://delphoschamber.com/event/vantage-open-house-taste-of-vantage-2024/
ATTACH;FMTTYPE=image/jpeg:https://delphoschamber.com/wp-content/uploads/2024/02/vantage.jpg
END:VEVENT
BEGIN:VEVENT
DTSTART;TZID=America/New_York:20240226T180000
DTEND;TZID=America/New_York:20240226T193000
DTSTAMP:20260421T213131
CREATED:20240215T144443Z
LAST-MODIFIED:20240215T144834Z
UID:800530-1708970400-1708975800@delphoschamber.com
SUMMARY:Free Community Meal
DESCRIPTION:Free Community Meal \nHaehn’s Simply Brewed • 212 N. Main St.\, Delphos\, OH • 6-7:30 \nJoin us for a night of food and fellowship
URL:https://delphoschamber.com/event/free-community-meal/
ATTACH;FMTTYPE=image/jpeg:https://delphoschamber.com/wp-content/uploads/2024/02/Haehns-3-scaled.jpg
END:VEVENT
END:VCALENDAR