BEGIN:VCALENDAR
VERSION:2.0
PRODID:-//Delphos Area Chamber of Commerce - ECPv6.15.20//NONSGML v1.0//EN
CALSCALE:GREGORIAN
METHOD:PUBLISH
X-WR-CALNAME:Delphos Area Chamber of Commerce
X-ORIGINAL-URL:https://delphoschamber.com
X-WR-CALDESC:Events for Delphos Area Chamber of Commerce
REFRESH-INTERVAL;VALUE=DURATION:PT1H
X-Robots-Tag:noindex
X-PUBLISHED-TTL:PT1H
BEGIN:VTIMEZONE
TZID:America/New_York
BEGIN:DAYLIGHT
TZOFFSETFROM:-0500
TZOFFSETTO:-0400
TZNAME:EDT
DTSTART:20220313T070000
END:DAYLIGHT
BEGIN:STANDARD
TZOFFSETFROM:-0400
TZOFFSETTO:-0500
TZNAME:EST
DTSTART:20221106T060000
END:STANDARD
BEGIN:DAYLIGHT
TZOFFSETFROM:-0500
TZOFFSETTO:-0400
TZNAME:EDT
DTSTART:20230312T070000
END:DAYLIGHT
BEGIN:STANDARD
TZOFFSETFROM:-0400
TZOFFSETTO:-0500
TZNAME:EST
DTSTART:20231105T060000
END:STANDARD
BEGIN:DAYLIGHT
TZOFFSETFROM:-0500
TZOFFSETTO:-0400
TZNAME:EDT
DTSTART:20240310T070000
END:DAYLIGHT
BEGIN:STANDARD
TZOFFSETFROM:-0400
TZOFFSETTO:-0500
TZNAME:EST
DTSTART:20241103T060000
END:STANDARD
END:VTIMEZONE
BEGIN:VEVENT
DTSTART;TZID=America/New_York:20230406T193000
DTEND;TZID=America/New_York:20230406T203000
DTSTAMP:20260422T181755
CREATED:20230314T192516Z
LAST-MODIFIED:20230314T192517Z
UID:6102-1680809400-1680813000@delphoschamber.com
SUMMARY:Delphos Running Club
DESCRIPTION:Welcome to the Delphos Running Club (DRC) #runforareason! This is NOT a race club. he purpose is to exercise\, socialize (why we start & end at the Rustic) and give back to our community. Each 5k (3.1) run/walk\, which will start from the Rustic Café each Thursday at 7:30pm from April to September\, we will have a donation canister available for you to make donations. The DRC is a 501(c)3 nonprofit organization so your donations are tax deductible! Each month\, we will decide on a new charitable organization.\nSince 2014\, we donated over $88\,000 to LOCAL charities!\nThis is a FREE running club. Most running clubs have annual dues of $15 – $200 per year. Instead\, we want our “annual dues” to go to charity. \nThere is no obligation to donate if you participate.\nNot only is it free to be in the club\, but after your 5th\, 10th & 15th run/walk you get FREE awards! Our shirt features our purpose\, to run for a reason\, and logos from our wonderful sponsors. If your business is interested in sponsoring\, please send me a message for more details!\nIf you have any questions\, please send me a private message or e-mail me at delphosrunningclub@gmail.com. Thank you!
URL:https://delphoschamber.com/event/delphos-running-club/
LOCATION:The Rustic Cafe
ATTACH;FMTTYPE=image/jpeg:https://delphoschamber.com/wp-content/uploads/2022/03/run-club.jpg
ORGANIZER;CN="Delphos Running Club":MAILTO:delphosrunningclub@gmail.com
END:VEVENT
END:VCALENDAR