BEGIN:VCALENDAR
VERSION:2.0
PRODID:-//Delphos Area Chamber of Commerce - ECPv6.15.20//NONSGML v1.0//EN
CALSCALE:GREGORIAN
METHOD:PUBLISH
X-ORIGINAL-URL:https://delphoschamber.com
X-WR-CALDESC:Events for Delphos Area Chamber of Commerce
REFRESH-INTERVAL;VALUE=DURATION:PT1H
X-Robots-Tag:noindex
X-PUBLISHED-TTL:PT1H
BEGIN:VTIMEZONE
TZID:America/New_York
BEGIN:DAYLIGHT
TZOFFSETFROM:-0500
TZOFFSETTO:-0400
TZNAME:EDT
DTSTART:20220313T070000
END:DAYLIGHT
BEGIN:STANDARD
TZOFFSETFROM:-0400
TZOFFSETTO:-0500
TZNAME:EST
DTSTART:20221106T060000
END:STANDARD
BEGIN:DAYLIGHT
TZOFFSETFROM:-0500
TZOFFSETTO:-0400
TZNAME:EDT
DTSTART:20230312T070000
END:DAYLIGHT
BEGIN:STANDARD
TZOFFSETFROM:-0400
TZOFFSETTO:-0500
TZNAME:EST
DTSTART:20231105T060000
END:STANDARD
BEGIN:DAYLIGHT
TZOFFSETFROM:-0500
TZOFFSETTO:-0400
TZNAME:EDT
DTSTART:20240310T070000
END:DAYLIGHT
BEGIN:STANDARD
TZOFFSETFROM:-0400
TZOFFSETTO:-0500
TZNAME:EST
DTSTART:20241103T060000
END:STANDARD
END:VTIMEZONE
BEGIN:VEVENT
DTSTART;TZID=America/New_York:20230304T173000
DTEND;TZID=America/New_York:20230304T220000
DTSTAMP:20260422T181859
CREATED:20230222T151105Z
LAST-MODIFIED:20230222T151106Z
UID:6060-1677951000-1677967200@delphoschamber.com
SUMMARY:Delphos Eagles Designer Purse Bingo- Proceeds to Mike Gallmeier Foundation
DESCRIPTION:MARCH 4TH\, DELPHOS EAGLES DESIGNER PURSE BINGO!\nPROCEDES WILL BE DONATED TO ‘THE MIKE GALLMEIER FOUNDATION’ \nTickets are $30 each. Buy a table of 10 (all at one time) and your table will be reserved at no extra charge. \nChecks must be made out to ‘DELPHOS EAGLES’. \nPlease contact Mike Gallmeier Foundation for Tickets here 
URL:https://delphoschamber.com/event/delphos-eagles-designer-purse-bingo-proceeds-to-mike-gallmeier-foundation/
ATTACH;FMTTYPE=image/jpeg:https://delphoschamber.com/wp-content/uploads/2023/02/Mike.jpg
END:VEVENT
END:VCALENDAR