BEGIN:VCALENDAR
VERSION:2.0
PRODID:-//Delphos Area Chamber of Commerce - ECPv6.15.20//NONSGML v1.0//EN
CALSCALE:GREGORIAN
METHOD:PUBLISH
X-WR-CALNAME:Delphos Area Chamber of Commerce
X-ORIGINAL-URL:https://delphoschamber.com
X-WR-CALDESC:Events for Delphos Area Chamber of Commerce
REFRESH-INTERVAL;VALUE=DURATION:PT1H
X-Robots-Tag:noindex
X-PUBLISHED-TTL:PT1H
BEGIN:VTIMEZONE
TZID:America/New_York
BEGIN:DAYLIGHT
TZOFFSETFROM:-0500
TZOFFSETTO:-0400
TZNAME:EDT
DTSTART:20220313T070000
END:DAYLIGHT
BEGIN:STANDARD
TZOFFSETFROM:-0400
TZOFFSETTO:-0500
TZNAME:EST
DTSTART:20221106T060000
END:STANDARD
BEGIN:DAYLIGHT
TZOFFSETFROM:-0500
TZOFFSETTO:-0400
TZNAME:EDT
DTSTART:20230312T070000
END:DAYLIGHT
BEGIN:STANDARD
TZOFFSETFROM:-0400
TZOFFSETTO:-0500
TZNAME:EST
DTSTART:20231105T060000
END:STANDARD
BEGIN:DAYLIGHT
TZOFFSETFROM:-0500
TZOFFSETTO:-0400
TZNAME:EDT
DTSTART:20240310T070000
END:DAYLIGHT
BEGIN:STANDARD
TZOFFSETFROM:-0400
TZOFFSETTO:-0500
TZNAME:EST
DTSTART:20241103T060000
END:STANDARD
END:VTIMEZONE
BEGIN:VEVENT
DTSTART;TZID=America/New_York:20230227T170000
DTEND;TZID=America/New_York:20230227T193000
DTSTAMP:20260422T181835
CREATED:20230223T141252Z
LAST-MODIFIED:20230223T141252Z
UID:6079-1677517200-1677526200@delphoschamber.com
SUMMARY:Taste of Vantage
DESCRIPTION:Vantage Career Center Open House\, Taste of Vantage \nMonday\, February 27\, 2023 from 5 – 7:30 p.m. \nVantage Career Center•818 N. Franklin St.\, Van Wert\, OH \nJoin us for an evening of exploration! Vantage Career Center will be opening it’s doors to the public\, alumni\, community members\, potentials students and employers to learn more about our labs\, certifications\, licenses\, college and career connections.  YOU can explore each lab\, see demonstrations\, and speak with Instructors and students about what being part of the Vantage district looks like! \nFOOD will be available from our amazing local food vendors and diamond sponsors. Come join us for an evening of fun!
URL:https://delphoschamber.com/event/taste-of-vantage/
ATTACH;FMTTYPE=image/jpeg:https://delphoschamber.com/wp-content/uploads/2023/02/Taste-of-Vantage.jpg
END:VEVENT
BEGIN:VEVENT
DTSTART;TZID=America/New_York:20230227T180000
DTEND;TZID=America/New_York:20230227T193000
DTSTAMP:20260422T181835
CREATED:20230222T160505Z
LAST-MODIFIED:20230222T160711Z
UID:6071-1677520800-1677526200@delphoschamber.com
SUMMARY:"His Table" Community Meal
DESCRIPTION:You are Welcome at His Table \nWelcome to His Table Community Dinner\, offering a free meal to our community and people in need. \nCome join friends\, neighbors and meet some new people and share in good food and fellowship. \nEvery Other Monday from 6:00PM -7:30PM \nHeahn’s Simply Brewed Coffee Shop and More • 212 N. Main St. Delphos\, OH 45833 \n 
URL:https://delphoschamber.com/event/his-table-community-meal/
ATTACH;FMTTYPE=image/jpeg:https://delphoschamber.com/wp-content/uploads/2023/02/His-Table.jpg
END:VEVENT
END:VCALENDAR